PDS_VERSION_ID = PDS3
/* FILE DATA ELEMENTS */
RECORD_TYPE = STREAM
/* POINTERS TO DATA OBJECTS */
^COMPRESSED_FILE = "H8203_0000_BL3.JP2"
/* IDENTIFICATION DATA ELEMENTS */
DATA_SET_ID = "MEX-M-HRSC-5-REFDR-MAPPROJECTED-V3.0"
DATA_SET_NAME = "MARS EXPRESS HRSC MAP PROJECTED REFDR V3.0"
DETECTOR_ID = MEX_HRSC_BLUE
EVENT_TYPE = "MARS-REGIONAL-MAPPING-Vo-Im-Pf"
INSTRUMENT_HOST_ID = MEX
INSTRUMENT_HOST_NAME = "MARS EXPRESS"
INSTRUMENT_ID = HRSC
INSTRUMENT_NAME = "HIGH RESOLUTION STEREO CAMERA"
MISSION_NAME = "MARS EXPRESS"
MISSION_PHASE_NAME = ME_Phase_20
PROCESSING_LEVEL_ID = 3
PRODUCT_CREATION_TIME = 2016-07-13T15:54:20.000Z
PRODUCT_ID = "H8203_0000_BL3.JP2"
RELEASE_ID = 0090
REVISION_ID = 0000
/* QUALITY DATA ELEMENTS */
DATA_QUALITY_ID = 1
DATA_QUALITY_DESC = "Data calculated based on original SPICE kernels"
/* TIME DATA ELEMENTS */
SPACECRAFT_CLOCK_START_COUNT = "1/0223245598.09061"
SPACECRAFT_CLOCK_STOP_COUNT = "1/0223246510.25257"
START_TIME = 2010-05-29T20:41:18.390Z
STOP_TIME = 2010-05-29T20:48:21.274Z
/* ORBITAL DATA ELEMENTS */
ASCENDING_NODE_LONGITUDE = 60.67
MAXIMUM_RESOLUTION = 72.4
FOOTPRINT_POINT_LATITUDE = (51.002,51.023,51.0394,51.0512,51.0583, 51.0607,51.0582,51.5714,52.2374,52.9128 ,53.5983,54.2934,54.9986,55.7142, 56.4412,56.8082,57.1786,57.5517,57.9274 ,58.3061,58.688,59.0724,59.4601,59.8506 ,60.2445,60.6412,61.0411,61.4444, 61.8503,62.2599,62.6726,63.0885,63.5079 ,63.9308,64.3529,64.7727,65.1903, 65.6056,66.0187,66.4296,66.8382,67.2445 ,67.6487,68.0506,68.4504,68.8481, 69.2434,69.6368,70.2811,70.2921,70.2954 ,70.29,70.259,70.2111,70.155,70.1057, 70.049,69.9416,69.675,69.2999,68.9221, 68.5415,68.1583,67.7724,67.3838,66.9925 ,66.5985,66.2019,65.8027,65.4007, 64.9961,64.589,64.1792,63.7668,63.3527, 62.9413,62.5329,62.1274,61.7251,61.3257 ,60.9286,60.5349,60.1438,59.7556, 59.3701,58.9877,58.6078,58.2306,57.8558 ,57.4843,57.1154,56.385,55.6651,54.9553 ,54.2559,53.566,52.8855,52.2142,51.5523 ,51.002)
FOOTPRINT_POINT_LONGITUDE = (180.974,180.218,179.458,178.693, 177.925,177.151,176.371,176.072,176.005 ,175.936,175.862,175.786,175.705, 175.621,175.531,175.486,175.438,175.388 ,175.338,175.287,175.233,175.178, 175.121,175.062,175.002,174.94,174.876, 174.81,174.741,174.67,174.598,174.522, 174.443,174.362,174.278,174.192,174.104 ,174.014,173.921,173.826,173.729, 173.629,173.527,173.422,173.313,173.201 ,173.087,172.968,173.063,174.273,175.63 ,176.83,179.065,180.987,182.601,183.767 ,184.925,186.79,187.831,187.544,187.267 ,186.999,186.742,186.493,186.252,186.02 ,185.796,185.579,185.37,185.168,184.972 ,184.783,184.6,184.423,184.252,184.089, 183.933,183.784,183.641,183.505,183.374 ,183.248,183.128,183.012,182.901, 182.795,182.692,182.594,182.499,182.408 ,182.32,182.154,181.999,181.855,181.721 ,181.596,181.479,181.369,181.266, 180.974)
ORBIT_NUMBER = 8203
ORBITAL_ECCENTRICITY = 0.578
ORBITAL_INCLINATION = 86.84
ORBITAL_SEMIMAJOR_AXIS = 8853.13
PERIAPSIS_ALTITUDE = 337.52
PERIAPSIS_ARGUMENT_ANGLE = 0.62
PERIAPSIS_TIME = 2010-05-29T20:27:23.000Z
SPACECRAFT_ORIENTATION = (0.0,1.0,0.0)
^MEX_ORIENTATION_DESC = "MEX_ORIENTATION_DESC.TXT"
SPACECRAFT_POINTING_MODE = ACROSSTRACK
^MEX_POINTING_DESC = "MEX_POINTING_DESC.TXT"
RIGHT_ASCENSION = -1e+32
DECLINATION = -1e+32
OFFSET_ANGLE = 0.916
SPACECRAFT_SOLAR_DISTANCE = 2.4659e+08
TARGET_NAME = MARS
/* CAMERA DATA ELEMENTS */
DETECTOR_TEMPERATURE = 18.1666
FOCAL_PLANE_TEMPERATURE = 7.5638
INST_CMPRS_NAME = "DISCRETE COSINE TRANSFORMATION (DCT)"
INST_CMPRS_RATIO = 7.00243
INST_CMPRS_QUALITY = 0
INST_CMPRS_QUANTZ_TBL_ID = 0
INSTRUMENT_TEMPERATURE = 11.0301
LENS_TEMPERATURE = 7.9716
MACROPIXEL_SIZE = 2
MISSING_FRAMES = 0
PIXEL_SUBSAMPLING_FLAG = N
SIGNAL_CHAIN_ID = 2
/* RADIOMETRIC DATA ELEMENTS */
BANDWIDTH = 76.0
CENTER_FILTER_WAVELENGTH = 444.0
RADIANCE_OFFSET = 0.22846
RADIANCE_SCALING_FACTOR = 0.00134389
REFLECTANCE_SCALING_FACTOR = 8.39586e-05
MEX:REFLECTANCE_OFFSET = 0.014273
/* IMAGE OBJECT DEFINITIONS */
OBJECT = IMAGE
  INTERCHANGE_FORMAT = BINARY
  LINES = 22856
  LINE_SAMPLES = 6358
  SAMPLE_TYPE = UNSIGNED_INTEGER
  SAMPLE_BITS = 8
  BANDS = 1
  BAND_STORAGE_TYPE = BAND_SEQUENTIAL
  MAXIMUM = 255
  MEAN = 132.368
  MINIMUM = 1
  STANDARD_DEVIATION = 39.2735
END_OBJECT = IMAGE
/* MAP OBJECT DEFINITIONS */
OBJECT = IMAGE_MAP_PROJECTION
  ^DATA_SET_MAP_PROJECTION_CATALOG= "DSMAP.CAT"
  A_AXIS_RADIUS = 3396.0
  B_AXIS_RADIUS = 3396.0
  C_AXIS_RADIUS = 3396.0
  CENTER_LATITUDE = 0.0
  CENTER_LONGITUDE = 179.0
  COORDINATE_SYSTEM_NAME = PLANETOGRAPHIC
  COORDINATE_SYSTEM_TYPE = "BODY-FIXED ROTATING"
  EASTERNMOST_LONGITUDE = 187.831
  FIRST_STANDARD_PARALLEL = "N/A"
  LINE_FIRST_PIXEL = 1
  LINE_LAST_PIXEL = 22856
  LINE_PROJECTION_OFFSET = 83319.25
  MAP_PROJECTION_ROTATION = 0.0
  MAP_PROJECTION_TYPE = SINUSOIDAL
  MAP_RESOLUTION = 1185.42760773333
  MAP_SCALE = 0.05
  MAXIMUM_LATITUDE = 70.2954
  MINIMUM_LATITUDE = 51.002
  POSITIVE_LONGITUDE_DIRECTION = EAST
  REFERENCE_LATITUDE = "N/A"
  REFERENCE_LONGITUDE = "N/A"
  SAMPLE_FIRST_PIXEL = 1
  SAMPLE_LAST_PIXEL = 6358
  SAMPLE_PROJECTION_OFFSET = 2616.25
  SECOND_STANDARD_PARALLEL = "N/A"
  WESTERNMOST_LONGITUDE = 172.968
END_OBJECT = IMAGE_MAP_PROJECTION
/* The JPEG2000 image data file associated with this label. */
OBJECT = COMPRESSED_FILE
  FILE_NAME = "H8203_0000_BL3.JP2"
  RECORD_TYPE = UNDEFINED
  FILE_RECORDS = UNK
  ENCODING_TYPE = "JP2"
  INTERCHANGE_FORMAT = BINARY
  UNCOMPRESSED_FILE_NAME = "H8203_0000_BL3.IMG"
  REQUIRED_STORAGE_BYTES = "145350238"
  ^DESCRIPTION = "JP2INFO.TXT"
END_OBJECT = COMPRESSED_FILE
END
