PDS_VERSION_ID = PDS3
/* FILE DATA ELEMENTS */
RECORD_TYPE = STREAM
/* POINTERS TO DATA OBJECTS */
^COMPRESSED_FILE = "H5097_0000_P13.JP2"
/* IDENTIFICATION DATA ELEMENTS */
DATA_SET_ID = "MEX-M-HRSC-5-REFDR-MAPPROJECTED-V3.0"
DATA_SET_NAME = "MARS EXPRESS HRSC MAP PROJECTED REFDR V3.0"
DETECTOR_ID = MEX_HRSC_P1
EVENT_TYPE = "MARS-REGIONAL-MAPPING-Vo-Pf-Mw"
INSTRUMENT_HOST_ID = MEX
INSTRUMENT_HOST_NAME = "MARS EXPRESS"
INSTRUMENT_ID = HRSC
INSTRUMENT_NAME = "HIGH RESOLUTION STEREO CAMERA"
MISSION_NAME = "MARS EXPRESS"
MISSION_PHASE_NAME = ME_Phase_11
PROCESSING_LEVEL_ID = 3
PRODUCT_CREATION_TIME = 2016-04-26T21:06:31.000Z
PRODUCT_ID = "H5097_0000_P13.JP2"
RELEASE_ID = 0057
REVISION_ID = 0000
/* QUALITY DATA ELEMENTS */
DATA_QUALITY_ID = 2
DATA_QUALITY_DESC = "Data calculated based on photogrammetrically improved orbit and attitude data"
/* TIME DATA ELEMENTS */
SPACECRAFT_CLOCK_START_COUNT = "1/0146291036.08231"
SPACECRAFT_CLOCK_STOP_COUNT = "1/0146291411.25054"
START_TIME = 2007-12-21T04:24:26.354Z
STOP_TIME = 2007-12-21T04:29:11.947Z
/* ORBITAL DATA ELEMENTS */
ASCENDING_NODE_LONGITUDE = 122.03
MAXIMUM_RESOLUTION = 69.1
FOOTPRINT_POINT_LATITUDE = (34.5945,34.5953,34.5929,34.5878, 34.5816,34.5736,34.5178,34.1462,33.7724 ,33.3992,33.0285,32.6622,32.2981, 31.9361,31.5782,31.2227,30.8691,30.5196 ,30.0001,29.4859,29.1451,28.8088, 28.3084,27.9764,27.6494,27.3223,26.9996 ,26.6762,26.3582,26.0394,25.7263, 25.2566,24.9479,24.6385,24.3347,24.0302 ,23.5787,23.2792,22.9814,22.6872, 22.2459,21.9569,21.6671,21.3785,21.0946 ,20.8098,20.5256,19.9668,19.6865,19.138 ,18.591,18.5245,18.5251,18.5246,18.5232 ,19.0695,19.6182,19.8974,20.1774, 20.4567,20.882,21.1671,21.4514,21.7418, 22.0318,22.4689,22.7641,23.0586,23.3581 ,23.8076,24.2637,24.5679,25.0311,25.34, 25.6551,25.9686,26.2864,26.605,26.9276, 27.2511,27.5776,27.9056,28.2368,28.5693 ,28.906,29.4146,29.7562,30.1019,30.4486 ,30.799,31.1522,31.5073,31.8666,32.2284 ,32.5927,32.9603,33.331,33.8925,34.267, 34.5945)
FOOTPRINT_POINT_LONGITUDE = (108.517,108.037,107.457,106.953,106.55 ,106.146,105.787,105.813,105.838, 105.863,105.887,105.909,105.932,105.953 ,105.974,105.994,106.014,106.033,106.06 ,106.086,106.103,106.119,106.143, 106.158,106.172,106.187,106.2,106.214, 106.226,106.239,106.251,106.269,106.28, 106.291,106.302,106.312,106.327,106.337 ,106.346,106.355,106.369,106.377, 106.385,106.393,106.401,106.409,106.416 ,106.43,106.437,106.45,106.462,106.837, 107.197,107.542,108.008,108.021,108.035 ,108.042,108.049,108.056,108.067, 108.074,108.082,108.09,108.098,108.11, 108.118,108.127,108.135,108.148,108.162 ,108.171,108.186,108.195,108.205, 108.215,108.226,108.236,108.247,108.258 ,108.269,108.28,108.292,108.303,108.315 ,108.334,108.347,108.359,108.373, 108.386,108.4,108.414,108.429,108.444, 108.459,108.474,108.49,108.514,108.531, 108.517)
ORBIT_NUMBER = 5097
ORBITAL_ECCENTRICITY = 0.575
ORBITAL_INCLINATION = 86.71
ORBITAL_SEMIMAJOR_AXIS = 8733.52
PERIAPSIS_ALTITUDE = 314.81
PERIAPSIS_ARGUMENT_ANGLE = 181.62
PERIAPSIS_TIME = 2007-12-21T04:34:49.000Z
SPACECRAFT_ORIENTATION = (0.0,-1.0,0.0)
^MEX_ORIENTATION_DESC = "MEX_ORIENTATION_DESC.TXT"
SPACECRAFT_POINTING_MODE = NADIR
^MEX_POINTING_DESC = "MEX_POINTING_DESC.TXT"
RIGHT_ASCENSION = -1e+32
DECLINATION = -1e+32
OFFSET_ANGLE = -1e+32
SPACECRAFT_SOLAR_DISTANCE = 2.35096e+08
TARGET_NAME = MARS
/* CAMERA DATA ELEMENTS */
DETECTOR_TEMPERATURE = 17.7588
FOCAL_PLANE_TEMPERATURE = 8.1755
INST_CMPRS_NAME = "DISCRETE COSINE TRANSFORMATION (DCT)"
INST_CMPRS_RATIO = 15.0203
INST_CMPRS_QUALITY = 0
INST_CMPRS_QUANTZ_TBL_ID = 0
INSTRUMENT_TEMPERATURE = 11.234
LENS_TEMPERATURE = 8.5833
MACROPIXEL_SIZE = 4
MISSING_FRAMES = 0
PIXEL_SUBSAMPLING_FLAG = N
SIGNAL_CHAIN_ID = 3
/* RADIOMETRIC DATA ELEMENTS */
BANDWIDTH = 174.0
CENTER_FILTER_WAVELENGTH = 675.0
RADIANCE_OFFSET = 2.4279
RADIANCE_SCALING_FACTOR = 0.0076562
REFLECTANCE_SCALING_FACTOR = 0.000227606
MEX:REFLECTANCE_OFFSET = 0.0721774
/* IMAGE OBJECT DEFINITIONS */
OBJECT = IMAGE
  INTERCHANGE_FORMAT = BINARY
  LINES = 18996
  LINE_SAMPLES = 2566
  SAMPLE_TYPE = UNSIGNED_INTEGER
  SAMPLE_BITS = 8
  BANDS = 1
  BAND_STORAGE_TYPE = BAND_SEQUENTIAL
  MAXIMUM = 255
  MEAN = 112.988
  MINIMUM = 1
  STANDARD_DEVIATION = 20.5399
END_OBJECT = IMAGE
/* MAP OBJECT DEFINITIONS */
OBJECT = IMAGE_MAP_PROJECTION
  ^DATA_SET_MAP_PROJECTION_CATALOG= "DSMAP.CAT"
  A_AXIS_RADIUS = 3396.0
  B_AXIS_RADIUS = 3396.0
  C_AXIS_RADIUS = 3396.0
  CENTER_LATITUDE = 0.0
  CENTER_LONGITUDE = 107.0
  COORDINATE_SYSTEM_NAME = PLANETOGRAPHIC
  COORDINATE_SYSTEM_TYPE = "BODY-FIXED ROTATING"
  EASTERNMOST_LONGITUDE = 108.531
  FIRST_STANDARD_PARALLEL = "N/A"
  LINE_FIRST_PIXEL = 1
  LINE_LAST_PIXEL = 18996
  LINE_PROJECTION_OFFSET = 40967.625
  MAP_PROJECTION_ROTATION = 0.0
  MAP_PROJECTION_TYPE = SINUSOIDAL
  MAP_RESOLUTION = 1185.42760773333
  MAP_SCALE = 0.05
  MAXIMUM_LATITUDE = 34.5953
  MINIMUM_LATITUDE = 18.5232
  POSITIVE_LONGITUDE_DIRECTION = EAST
  REFERENCE_LATITUDE = "N/A"
  REFERENCE_LONGITUDE = "N/A"
  SAMPLE_FIRST_PIXEL = 1
  SAMPLE_LAST_PIXEL = 2566
  SAMPLE_PROJECTION_OFFSET = 1137.375
  SECOND_STANDARD_PARALLEL = "N/A"
  WESTERNMOST_LONGITUDE = 105.787
END_OBJECT = IMAGE_MAP_PROJECTION
/* The JPEG2000 image data file associated with this label. */
OBJECT = COMPRESSED_FILE
  FILE_NAME = "H5097_0000_P13.JP2"
  RECORD_TYPE = UNDEFINED
  FILE_RECORDS = UNK
  ENCODING_TYPE = "JP2"
  INTERCHANGE_FORMAT = BINARY
  UNCOMPRESSED_FILE_NAME = "H5097_0000_P13.IMG"
  REQUIRED_STORAGE_BYTES = "48764264"
  ^DESCRIPTION = "JP2INFO.TXT"
END_OBJECT = COMPRESSED_FILE
END
