PDS_VERSION_ID = PDS3
/* FILE DATA ELEMENTS */
RECORD_TYPE = STREAM
/* POINTERS TO DATA OBJECTS */
^COMPRESSED_FILE = "H4280_0000_ND3.JP2"
/* IDENTIFICATION DATA ELEMENTS */
DATA_SET_ID = "MEX-M-HRSC-5-REFDR-MAPPROJECTED-V3.0"
DATA_SET_NAME = "MARS EXPRESS HRSC MAP PROJECTED REFDR V3.0"
DETECTOR_ID = MEX_HRSC_NADIR
EVENT_TYPE = "MARS-REGIONAL-MAPPING-Im-Eo"
INSTRUMENT_HOST_ID = MEX
INSTRUMENT_HOST_NAME = "MARS EXPRESS"
INSTRUMENT_ID = HRSC
INSTRUMENT_NAME = "HIGH RESOLUTION STEREO CAMERA"
MISSION_NAME = "MARS EXPRESS"
MISSION_PHASE_NAME = ME_Phase_7
PROCESSING_LEVEL_ID = 3
PRODUCT_CREATION_TIME = 2016-04-21T04:35:46.000Z
PRODUCT_ID = "H4280_0000_ND3.JP2"
RELEASE_ID = 0048
REVISION_ID = 0000
/* QUALITY DATA ELEMENTS */
DATA_QUALITY_ID = 1
DATA_QUALITY_DESC = "Data calculated based on original SPICE kernels"
/* TIME DATA ELEMENTS */
SPACECRAFT_CLOCK_START_COUNT = "1/0126501250.09043"
SPACECRAFT_CLOCK_STOP_COUNT = "1/0126501521.57413"
START_TIME = 2007-05-06T03:14:43.650Z
STOP_TIME = 2007-05-06T03:18:17.645Z
/* ORBITAL DATA ELEMENTS */
ASCENDING_NODE_LONGITUDE = 138.66
MAXIMUM_RESOLUTION = 11.7
FOOTPRINT_POINT_LATITUDE = (-45.9261,-45.9176,-45.9068,-45.8842, -45.5838,-45.1337,-44.8431,-44.5524, -44.2615,-43.9703,-43.679,-43.3875, -43.0958,-42.8039,-42.512,-42.223, -41.9411,-41.6592,-41.3771,-41.0949, -40.8126,-40.5301,-40.2476,-39.8235, -39.5407,-39.2578,-38.9748,-38.6918, -38.4088,-38.1257,-37.8422,-37.5589, -37.2757,-36.9947,-36.5854,-36.3124, -36.0397,-35.7666,-35.4936,-35.2207, -34.8111,-34.5379,-34.2649,-33.8554, -33.5826,-33.3096,-33.0367,-32.7638, -32.3417,-32.0584,-31.7752,-31.7684, -31.7726,-31.7776,-32.203,-32.4867, -32.768,-33.0413,-33.4513,-33.7246, -33.998,-34.4081,-34.6815,-34.9549, -35.2284,-35.5018,-35.7753,-36.0487, -36.4589,-36.7323,-37.0057,-37.4284, -37.7122,-37.9959,-38.2797,-38.5633, -38.8469,-39.1305,-39.4139,-39.6973, -39.9807,-40.2639,-40.547,-40.9715, -41.2545,-41.6786,-41.9613,-42.2438, -42.533,-42.8257,-43.1182,-43.5567, -43.8489,-44.141,-44.4328,-44.8703, -45.1617,-45.462,-45.7634,-45.9261)
FOOTPRINT_POINT_LONGITUDE = (34.6707,34.3186,33.9207,33.248,33.2725 ,33.3098,33.3324,33.3551,33.3767, 33.3979,33.4189,33.4391,33.4589,33.4771 ,33.4972,33.5154,33.5328,33.5501, 33.5671,33.5835,33.5995,33.6152,33.6312 ,33.6524,33.6663,33.68,33.6927,33.706, 33.7213,33.7345,33.7436,33.7545,33.7679 ,33.7782,33.7944,33.8054,33.8187, 33.8274,33.8378,33.8476,33.8611,33.8674 ,33.8759,33.8877,33.8981,33.9055, 33.9129,33.9196,33.93,33.937,33.9435, 34.3846,34.6947,35.1545,35.1478,35.144, 35.1385,35.1343,35.1271,35.1232,35.119, 35.1129,35.1089,35.1045,35.0998,35.0948 ,35.0897,35.085,35.0775,35.0719,35.0665 ,35.0582,35.0527,35.0477,35.0422, 35.0364,35.0304,35.0244,35.0183,35.0119 ,35.0055,34.9979,34.9954,34.9856, 34.9773,34.9654,34.9585,34.9511,34.9436 ,34.9363,34.932,34.9208,34.9114,34.9027 ,34.8937,34.8791,34.8708,34.862,34.8529 ,34.6707)
ORBIT_NUMBER = 4280
ORBITAL_ECCENTRICITY = 0.571
ORBITAL_INCLINATION = 86.68
ORBITAL_SEMIMAJOR_AXIS = 8594.68
PERIAPSIS_ALTITUDE = 294.86
PERIAPSIS_ARGUMENT_ANGLE = 324.17
PERIAPSIS_TIME = 2007-05-06T03:17:18.000Z
SPACECRAFT_ORIENTATION = (0.0,1.0,0.0)
^MEX_ORIENTATION_DESC = "MEX_ORIENTATION_DESC.TXT"
SPACECRAFT_POINTING_MODE = NADIR
^MEX_POINTING_DESC = "MEX_POINTING_DESC.TXT"
RIGHT_ASCENSION = -1e+32
DECLINATION = -1e+32
OFFSET_ANGLE = -1e+32
SPACECRAFT_SOLAR_DISTANCE = 2.07591e+08
TARGET_NAME = MARS
/* CAMERA DATA ELEMENTS */
DETECTOR_TEMPERATURE = 18.5744
FOCAL_PLANE_TEMPERATURE = 9.3989
INST_CMPRS_NAME = "DISCRETE COSINE TRANSFORMATION (DCT)"
INST_CMPRS_RATIO = 7.08353
INST_CMPRS_QUALITY = 0
INST_CMPRS_QUANTZ_TBL_ID = 0
INSTRUMENT_TEMPERATURE = 10.6223
LENS_TEMPERATURE = 9.8067
MACROPIXEL_SIZE = 1
MISSING_FRAMES = 0
PIXEL_SUBSAMPLING_FLAG = N
SIGNAL_CHAIN_ID = 0
/* RADIOMETRIC DATA ELEMENTS */
BANDWIDTH = 177.0
CENTER_FILTER_WAVELENGTH = 677.5
RADIANCE_OFFSET = 4.94005
RADIANCE_SCALING_FACTOR = 0.016731
REFLECTANCE_SCALING_FACTOR = 0.000383024
MEX:REFLECTANCE_OFFSET = 0.113093
/* IMAGE OBJECT DEFINITIONS */
OBJECT = IMAGE
  INTERCHANGE_FORMAT = BINARY
  LINES = 67181
  LINE_SAMPLES = 7280
  SAMPLE_TYPE = UNSIGNED_INTEGER
  SAMPLE_BITS = 8
  BANDS = 1
  BAND_STORAGE_TYPE = BAND_SEQUENTIAL
  MAXIMUM = 255
  MEAN = 133.017
  MINIMUM = 1
  STANDARD_DEVIATION = 27.5666
END_OBJECT = IMAGE
/* MAP OBJECT DEFINITIONS */
OBJECT = IMAGE_MAP_PROJECTION
  ^DATA_SET_MAP_PROJECTION_CATALOG= "DSMAP.CAT"
  A_AXIS_RADIUS = 3396.0
  B_AXIS_RADIUS = 3396.0
  C_AXIS_RADIUS = 3396.0
  CENTER_LATITUDE = 0.0
  CENTER_LONGITUDE = 34.0
  COORDINATE_SYSTEM_NAME = PLANETOGRAPHIC
  COORDINATE_SYSTEM_TYPE = "BODY-FIXED ROTATING"
  EASTERNMOST_LONGITUDE = 35.1545
  FIRST_STANDARD_PARALLEL = "N/A"
  LINE_FIRST_PIXEL = 1
  LINE_LAST_PIXEL = 67181
  LINE_PROJECTION_OFFSET = -150605.0
  MAP_PROJECTION_ROTATION = 0.0
  MAP_PROJECTION_TYPE = SINUSOIDAL
  MAP_RESOLUTION = 4741.71043093333
  MAP_SCALE = 0.0125
  MAXIMUM_LATITUDE = -31.7684
  MINIMUM_LATITUDE = -45.9261
  POSITIVE_LONGITUDE_DIRECTION = EAST
  REFERENCE_LATITUDE = "N/A"
  REFERENCE_LONGITUDE = "N/A"
  SAMPLE_FIRST_PIXEL = 1
  SAMPLE_LAST_PIXEL = 7280
  SAMPLE_PROJECTION_OFFSET = 2503.0
  SECOND_STANDARD_PARALLEL = "N/A"
  WESTERNMOST_LONGITUDE = 33.248
END_OBJECT = IMAGE_MAP_PROJECTION
/* The JPEG2000 image data file associated with this label. */
OBJECT = COMPRESSED_FILE
  FILE_NAME = "H4280_0000_ND3.JP2"
  RECORD_TYPE = UNDEFINED
  FILE_RECORDS = UNK
  ENCODING_TYPE = "JP2"
  INTERCHANGE_FORMAT = BINARY
  UNCOMPRESSED_FILE_NAME = "H4280_0000_ND3.IMG"
  REQUIRED_STORAGE_BYTES = "489106800"
  ^DESCRIPTION = "JP2INFO.TXT"
END_OBJECT = COMPRESSED_FILE
END
