PDS_VERSION_ID = PDS3
/* FILE DATA ELEMENTS */
RECORD_TYPE = UNDEFINED
/* POINTERS TO DATA OBJECTS */
^IMAGE = ("HI914_0000_IR4.TIF")
/* IDENTIFICATION DATA ELEMENTS */
DATA_SET_ID = "MEX-M-HRSC-4-REFDR-MAPPROJECT-EXT6-V4.0"
DATA_SET_NAME = "MARS EXPRESS HRSC MAP PROJECTED REFDR EXTENSION6 V4.0"
DETECTOR_ID = MEX_HRSC_IR
EVENT_TYPE = "MARS-REGIONAL-MAPPING-Te-Im-Fl"
INSTRUMENT_HOST_ID = MEX
INSTRUMENT_HOST_NAME = "MARS EXPRESS"
INSTRUMENT_ID = HRSC
INSTRUMENT_NAME = "HIGH RESOLUTION STEREO CAMERA"
MISSION_NAME = "MARS EXPRESS"
MISSION_PHASE_NAME = ME_Phase_39
PROCESSING_LEVEL_ID = 4
PRODUCT_CREATION_TIME = 2023-01-29T14:35:52.000Z
PRODUCT_ID = "HI914_0000_IR4.TIF"
RELEASE_ID = 0005
REVISION_ID = 0000
/* QUALITY DATA ELEMENTS */
DATA_QUALITY_ID = 1
DATA_QUALITY_DESC = "Data calculated based on original SPICE kernels"
/* TIME DATA ELEMENTS */
SPACECRAFT_CLOCK_START_COUNT = "1/0492833082.23969"
SPACECRAFT_CLOCK_STOP_COUNT = "1/0492833309.24018"
START_TIME = 2018-12-14T02:06:09.443Z
STOP_TIME = 2018-12-14T02:08:53.990Z
/* ORBITAL DATA ELEMENTS */
ASCENDING_NODE_LONGITUDE = 219.36
MAXIMUM_RESOLUTION = 0.0545
FOOTPRINT_POINT_LATITUDE = (-44.685,-44.6778,-44.6627,-44.647, -44.6466,-44.6826,-44.4649,-44.249, -44.0328,-43.8167,-43.5998,-43.3842, -43.0638,-42.8491,-42.5237,-42.3049, -41.9818,-41.6587,-41.4433,-41.2289, -41.0149,-40.8021,-40.5877,-40.3739, -40.1596,-39.8386,-39.6243,-39.3031, -39.0886,-38.8728,-38.6577,-38.4436, -38.2297,-38.0161,-37.8027,-37.589, -37.3763,-37.165,-36.9526,-36.7393, -36.4199,-36.2072,-35.9953,-35.5732, -35.2559,-34.833,-34.4106,-34.093, -33.9842,-33.945,-33.9495,-33.9554, -33.9595,-33.9643,-33.9644,-33.9653, -34.1825,-34.4994,-34.9224,-35.1341, -35.346,-35.5581,-35.7703,-35.9827, -36.1956,-36.4082,-36.621,-37.0441, -37.2605,-37.4754,-37.8962,-38.1122, -38.3294,-38.5441,-38.7585,-38.9729, -39.1861,-39.4003,-39.6143,-39.8284, -40.0416,-40.2559,-40.6845,-41.0061, -41.2209,-41.4355,-41.6503,-41.8659, -42.0816,-42.3023,-42.5189,-42.8468, -43.1684,-43.4914,-43.8167,-44.0335, -44.3578,-44.575,-44.685,-44.685)
FOOTPRINT_POINT_LONGITUDE = (230.981,230.624,229.986,229.411, 229.396,229.376,229.389,229.401,229.413 ,229.424,229.436,229.447,229.461, 229.471,229.487,229.499,229.513,229.527 ,229.536,229.544,229.553,229.56,229.568 ,229.576,229.584,229.595,229.602, 229.613,229.62,229.627,229.634,229.641, 229.647,229.653,229.659,229.665,229.67, 229.675,229.68,229.685,229.693,229.698, 229.702,229.71,229.716,229.723,229.73, 229.735,229.737,229.737,230.013,230.409 ,230.714,231.139,231.152,231.156, 231.154,231.151,231.147,231.144,231.142 ,231.14,231.138,231.135,231.133,231.131 ,231.128,231.122,231.121,231.119,231.11 ,231.109,231.108,231.106,231.103,231.1, 231.097,231.094,231.09,231.087,231.083, 231.079,231.072,231.067,231.063,231.059 ,231.055,231.052,231.048,231.047, 231.044,231.041,231.034,231.027,231.022 ,231.018,231.011,231.008,231.007, 230.981)
ORBIT_NUMBER = 18914
ORBITAL_ECCENTRICITY = 0.578
ORBITAL_INCLINATION = 86.98
ORBITAL_SEMIMAJOR_AXIS = 8809.1
PERIAPSIS_ALTITUDE = 329.44
PERIAPSIS_ARGUMENT_ANGLE = 320.0
PERIAPSIS_TIME = 2018-12-14T02:06:58.000Z
SPACECRAFT_ORIENTATION = (0.0,1.0,0.0)
^MEX_ORIENTATION_DESC = "MEX_ORIENTATION_DESC.TXT"
SPACECRAFT_POINTING_MODE = ACROSSTRACK
^MEX_POINTING_DESC = "MEX_POINTING_DESC.TXT"
RIGHT_ASCENSION = -1e+32
DECLINATION = -1e+32
OFFSET_ANGLE = -0.15
SPACECRAFT_SOLAR_DISTANCE = 2.14412e+08
TARGET_NAME = MARS
/* CAMERA DATA ELEMENTS */
DETECTOR_TEMPERATURE = 16.7393
FOCAL_PLANE_TEMPERATURE = 9.6028
INST_CMPRS_NAME = "DISCRETE COSINE TRANSFORMATION (DCT)"
INST_CMPRS_RATIO = 10.5398
INST_CMPRS_QUALITY = 0
INST_CMPRS_QUANTZ_TBL_ID = 0
INSTRUMENT_TEMPERATURE = 11.4379
LENS_TEMPERATURE = 10.2145
MACROPIXEL_SIZE = 4
MISSING_FRAMES = 0
PIXEL_SUBSAMPLING_FLAG = N
SIGNAL_CHAIN_ID = 2
/* RADIOMETRIC DATA ELEMENTS */
BANDWIDTH = 81.0
CENTER_FILTER_WAVELENGTH = 955.5
RADIANCE_OFFSET = 0.940003
RADIANCE_SCALING_FACTOR = 0.00646839
REFLECTANCE_SCALING_FACTOR = 0.00064154
MEX:REFLECTANCE_OFFSET = 0.0932302
/* IMAGE OBJECT DEFINITIONS */
OBJECT = IMAGE
  INTERCHANGE_FORMAT = BINARY
  LINES = 12759
  LINE_SAMPLES = 1661
  SAMPLE_TYPE = UNSIGNED_INTEGER
  SAMPLE_BITS = 8
  BANDS = 1
  BAND_STORAGE_TYPE = BAND_SEQUENTIAL
  MAXIMUM = 255
  MEAN = 115.169
  MINIMUM = 1
  STANDARD_DEVIATION = 44.4026
END_OBJECT = IMAGE
/* MAP OBJECT DEFINITIONS */
OBJECT = IMAGE_MAP_PROJECTION
  ^DATA_SET_MAP_PROJECTION_CATALOG= "DSMAP.CAT"
  A_AXIS_RADIUS = 3396.0
  B_AXIS_RADIUS = 3396.0
  C_AXIS_RADIUS = 3396.0
  CENTER_LATITUDE = 0.0
  CENTER_LONGITUDE = 230.0
  COORDINATE_SYSTEM_NAME = PLANETOGRAPHIC
  COORDINATE_SYSTEM_TYPE = "BODY-FIXED ROTATING"
  EASTERNMOST_LONGITUDE = 231.156
  FIRST_STANDARD_PARALLEL = "N/A"
  LINE_FIRST_PIXEL = 1
  LINE_LAST_PIXEL = 12759
  LINE_PROJECTION_OFFSET = -40276.875
  MAP_PROJECTION_ROTATION = 0.0
  MAP_PROJECTION_TYPE = SINUSOIDAL
  MAP_RESOLUTION = 1185.42760773333
  MAP_SCALE = 0.05
  MAXIMUM_LATITUDE = -33.945
  MINIMUM_LATITUDE = -44.685
  POSITIVE_LONGITUDE_DIRECTION = EAST
  REFERENCE_LATITUDE = "N/A"
  REFERENCE_LONGITUDE = "N/A"
  SAMPLE_FIRST_PIXEL = 1
  SAMPLE_LAST_PIXEL = 1661
  SAMPLE_PROJECTION_OFFSET = 537.875
  SECOND_STANDARD_PARALLEL = "N/A"
  WESTERNMOST_LONGITUDE = 229.376
END_OBJECT = IMAGE_MAP_PROJECTION
END
