PDS_VERSION_ID = PDS3
/* FILE DATA ELEMENTS */
RECORD_TYPE = UNDEFINED
/* POINTERS TO DATA OBJECTS */
^IMAGE = ("HH761_0009_S14.TIF")
/* IDENTIFICATION DATA ELEMENTS */
DATA_SET_ID = "MEX-M-HRSC-4-REFDR-MAPPROJECT-EXT6-V4.0"
DATA_SET_NAME = "MARS EXPRESS HRSC MAP PROJECTED REFDR EXTENSION6 V4.0"
DETECTOR_ID = MEX_HRSC_S1
EVENT_TYPE = "MARS-REGIONAL-MAPPING-Vo-Te-Eo"
INSTRUMENT_HOST_ID = MEX
INSTRUMENT_HOST_NAME = "MARS EXPRESS"
INSTRUMENT_ID = HRSC
INSTRUMENT_NAME = "HIGH RESOLUTION STEREO CAMERA"
MISSION_NAME = "MARS EXPRESS"
MISSION_PHASE_NAME = ME_Phase_38
PROCESSING_LEVEL_ID = 4
PRODUCT_CREATION_TIME = 2023-01-28T19:29:54.000Z
PRODUCT_ID = "HH761_0009_S14.TIF"
RELEASE_ID = 0003
REVISION_ID = 0000
/* QUALITY DATA ELEMENTS */
DATA_QUALITY_ID = 1
DATA_QUALITY_DESC = "Data calculated based on original SPICE kernels"
/* TIME DATA ELEMENTS */
SPACECRAFT_CLOCK_START_COUNT = "1/0463846514.09083"
SPACECRAFT_CLOCK_STOP_COUNT = "1/0463846747.06712"
START_TIME = 2018-01-12T14:15:23.225Z
STOP_TIME = 2018-01-12T14:18:06.339Z
/* ORBITAL DATA ELEMENTS */
ASCENDING_NODE_LONGITUDE = 240.67
MAXIMUM_RESOLUTION = 0.0304
FOOTPRINT_POINT_LATITUDE = (23.7023,23.7282,23.7461,23.7793, 23.8094,23.8103,23.7956,23.3807,23.1705 ,22.8592,22.6503,22.3351,21.9255, 21.7171,21.5057,21.2969,20.9839,20.7735 ,20.4578,20.2499,19.9371,19.7265,19.412 ,19.2026,18.9907,18.6726,18.3567, 17.9354,17.7217,17.5093,17.1926,16.8755 ,16.6641,16.3471,16.1358,15.8177, 15.4999,15.288,15.0769,14.756,14.5442, 14.3327,14.1204,13.8023,13.5899,13.3779 ,13.2719,13.2489,13.2146,13.1916, 13.1525,13.1299,13.1284,13.1284,13.3404 ,13.6591,13.8719,14.0834,14.4018, 14.6141,14.8286,15.0388,15.3539,15.5695 ,15.7816,15.9929,16.2045,16.4147, 16.6252,16.8362,17.0507,17.3654,17.5772 ,17.7891,18.0017,18.2122,18.4235, 18.6348,18.8465,19.0574,19.2673,19.4785 ,19.7951,20.0058,20.2179,20.4274, 20.7421,20.9525,21.1623,21.3719,21.6869 ,21.9976,22.3107,22.5192,22.7282, 22.9373,23.349,23.5572,23.6611,23.7023)
FOOTPRINT_POINT_LONGITUDE = (76.7822,76.4631,76.2351,75.7894, 75.3563,75.3429,75.343,75.3427,75.3432, 75.3426,75.3425,75.3426,75.3392,75.3385 ,75.3385,75.3377,75.3361,75.3355, 75.3344,75.3328,75.3305,75.3295,75.3274 ,75.3257,75.3248,75.3232,75.3208, 75.3174,75.3164,75.315,75.3121,75.3092, 75.3071,75.3039,75.3016,75.2984,75.295, 75.2926,75.2899,75.2859,75.2833,75.2805 ,75.2778,75.2736,75.2708,75.2679, 75.2664,75.266,75.6751,75.9375,76.3687, 76.617,76.6311,76.6361,76.6391,76.6432, 76.6455,76.6489,76.6531,76.6559,76.6596 ,76.6642,76.6711,76.6708,76.6735,76.677 ,76.68,76.6843,76.6884,76.6919,76.6922, 76.699,76.7016,76.7041,76.7059,76.7095, 76.7124,76.7151,76.7174,76.7205,76.7244 ,76.727,76.7309,76.7337,76.7353,76.7391 ,76.7442,76.747,76.7502,76.7535,76.7578 ,76.7658,76.7714,76.7752,76.7784, 76.7816,76.7934,76.797,76.7988,76.7822)
ORBIT_NUMBER = 17761
ORBITAL_ECCENTRICITY = 0.576
ORBITAL_INCLINATION = 86.97
ORBITAL_SEMIMAJOR_AXIS = 8852.08
PERIAPSIS_ALTITUDE = 356.25
PERIAPSIS_ARGUMENT_ANGLE = 159.23
PERIAPSIS_TIME = 2018-01-12T14:16:43.000Z
SPACECRAFT_ORIENTATION = (0.0,-1.0,0.0)
^MEX_ORIENTATION_DESC = "MEX_ORIENTATION_DESC.TXT"
SPACECRAFT_POINTING_MODE = ACROSSTRACK
^MEX_POINTING_DESC = "MEX_POINTING_DESC.TXT"
RIGHT_ASCENSION = -1e+32
DECLINATION = -1e+32
OFFSET_ANGLE = 1.2
SPACECRAFT_SOLAR_DISTANCE = 2.42533e+08
TARGET_NAME = MARS
/* CAMERA DATA ELEMENTS */
DETECTOR_TEMPERATURE = 16.9432
FOCAL_PLANE_TEMPERATURE = 8.7872
INST_CMPRS_NAME = "DISCRETE COSINE TRANSFORMATION (DCT)"
INST_CMPRS_RATIO = 9.34355
INST_CMPRS_QUALITY = 0
INST_CMPRS_QUANTZ_TBL_ID = 0
INSTRUMENT_TEMPERATURE = 12.0496
LENS_TEMPERATURE = 9.195
MACROPIXEL_SIZE = 2
MISSING_FRAMES = 1
PIXEL_SUBSAMPLING_FLAG = N
SIGNAL_CHAIN_ID = 1
/* RADIOMETRIC DATA ELEMENTS */
BANDWIDTH = 180.0
CENTER_FILTER_WAVELENGTH = 677.0
RADIANCE_OFFSET = 1.19347
RADIANCE_SCALING_FACTOR = 0.0126108
REFLECTANCE_SCALING_FACTOR = 0.000387015
MEX:REFLECTANCE_OFFSET = 0.0366268
/* IMAGE OBJECT DEFINITIONS */
OBJECT = IMAGE
  INTERCHANGE_FORMAT = BINARY
  LINES = 25013
  LINE_SAMPLES = 3422
  SAMPLE_TYPE = UNSIGNED_INTEGER
  SAMPLE_BITS = 8
  BANDS = 1
  BAND_STORAGE_TYPE = BAND_SEQUENTIAL
  MAXIMUM = 255
  MEAN = 73.1284
  MINIMUM = 1
  STANDARD_DEVIATION = 24.5902
END_OBJECT = IMAGE
/* MAP OBJECT DEFINITIONS */
OBJECT = IMAGE_MAP_PROJECTION
  ^DATA_SET_MAP_PROJECTION_CATALOG= "DSMAP.CAT"
  A_AXIS_RADIUS = 3396.0
  B_AXIS_RADIUS = 3396.0
  C_AXIS_RADIUS = 3396.0
  CENTER_LATITUDE = 0.0
  CENTER_LONGITUDE = 76.0
  COORDINATE_SYSTEM_NAME = PLANETOGRAPHIC
  COORDINATE_SYSTEM_TYPE = "BODY-FIXED ROTATING"
  EASTERNMOST_LONGITUDE = 76.7988
  FIRST_STANDARD_PARALLEL = "N/A"
  LINE_FIRST_PIXEL = 1
  LINE_LAST_PIXEL = 25013
  LINE_PROJECTION_OFFSET = 56296.75
  MAP_PROJECTION_ROTATION = 0.0
  MAP_PROJECTION_TYPE = SINUSOIDAL
  MAP_RESOLUTION = 2370.85521546667
  MAP_SCALE = 0.025
  MAXIMUM_LATITUDE = 23.8103
  MINIMUM_LATITUDE = 13.1284
  POSITIVE_LONGITUDE_DIRECTION = EAST
  REFERENCE_LATITUDE = "N/A"
  REFERENCE_LONGITUDE = "N/A"
  SAMPLE_FIRST_PIXEL = 1
  SAMPLE_LAST_PIXEL = 3422
  SAMPLE_PROJECTION_OFFSET = 1735.75
  SECOND_STANDARD_PARALLEL = "N/A"
  WESTERNMOST_LONGITUDE = 75.26600000000001
END_OBJECT = IMAGE_MAP_PROJECTION
END
