PDS_VERSION_ID = PDS3
/* FILE DATA ELEMENTS */
RECORD_TYPE = UNDEFINED
/* POINTERS TO DATA OBJECTS */
^IMAGE = ("HG654_0000_BL4.TIF")
/* IDENTIFICATION DATA ELEMENTS */
DATA_SET_ID = "MEX-M-HRSC-4-REFDR-MAPPROJECT-EXT6-V4.0"
DATA_SET_NAME = "MARS EXPRESS HRSC MAP PROJECTED REFDR EXTENSION6 V4.0"
DETECTOR_ID = MEX_HRSC_BLUE
EVENT_TYPE = "MARS-REGIONAL-MAPPING-Vo-Im-Fl"
INSTRUMENT_HOST_ID = MEX
INSTRUMENT_HOST_NAME = "MARS EXPRESS"
INSTRUMENT_ID = HRSC
INSTRUMENT_NAME = "HIGH RESOLUTION STEREO CAMERA"
MISSION_NAME = "MARS EXPRESS"
MISSION_PHASE_NAME = ME_Phase_36
PROCESSING_LEVEL_ID = 4
PRODUCT_CREATION_TIME = 2023-01-26T14:39:22.000Z
PRODUCT_ID = "HG654_0000_BL4.TIF"
RELEASE_ID = 0001
REVISION_ID = 0000
/* QUALITY DATA ELEMENTS */
DATA_QUALITY_ID = 1
DATA_QUALITY_DESC = "Data calculated based on original SPICE kernels"
/* TIME DATA ELEMENTS */
SPACECRAFT_CLOCK_START_COUNT = "1/0435968756.08229"
SPACECRAFT_CLOCK_STOP_COUNT = "1/0435969010.14897"
START_TIME = 2017-02-23T22:26:36.541Z
STOP_TIME = 2017-02-23T22:29:40.516Z
/* ORBITAL DATA ELEMENTS */
ASCENDING_NODE_LONGITUDE = 261.11
MAXIMUM_RESOLUTION = 0.0544
FOOTPRINT_POINT_LATITUDE = (-27.8638,-27.8661,-27.8657,-27.8638, -27.8637,-27.8575,-27.6026,-27.3501, -27.0955,-26.8389,-26.5816,-26.1959, -25.9384,-25.6811,-25.4239,-25.1663, -24.9082,-24.6498,-24.2622,-24.0037, -23.7448,-23.4857,-23.2262,-22.9793, -22.5435,-22.1075,-21.8886,-21.4518, -21.0142,-20.795,-20.5757,-20.2464, -20.0269,-19.8073,-19.5869,-19.3673, -19.1471,-18.9271,-18.7068,-18.4865, -18.2659,-18.0453,-17.8247,-17.4937, -17.2728,-17.0518,-16.7191,-16.4972, -16.276,-16.166,-16.1025,-16.1016, -16.099,-16.0946,-16.0945,-16.0953, -16.4276,-16.6489,-16.9807,-17.2019, -17.4229,-17.7544,-17.9752,-18.196, -18.4165,-18.6358,-18.8576,-19.0778, -19.408,-19.7381,-19.958,-20.1778, -20.3975,-20.6168,-20.8365,-21.0557, -21.2748,-21.4935,-21.7125,-22.1495, -22.586,-23.0221,-23.278,-23.5374, -23.7963,-24.0549,-24.3134,-24.5727, -24.9597,-25.2184,-25.4763,-25.734, -25.9915,-26.3778,-26.6348,-26.8906, -27.2752,-27.6578,-27.7856,-27.8638)
FOOTPRINT_POINT_LONGITUDE = (94.426,93.7845,93.3211,92.8882,92.8739 ,92.8644,92.8708,92.8801,92.8872, 92.8921,92.8965,92.9036,92.9082,92.913, 92.9182,92.9231,92.9275,92.9317,92.9383 ,92.9428,92.9469,92.9509,92.9547,92.958 ,92.9636,92.9692,92.9712,92.9765,92.981 ,92.983,92.9849,92.9874,92.9893,92.9911 ,92.9921,92.9939,92.9952,92.9967, 92.9979,92.9991,93.0002,93.0012,93.0022 ,93.0038,93.0046,93.0053,93.0052, 93.0051,93.0056,93.0066,93.0067,93.4401 ,93.7498,94.2231,94.2346,94.2385, 94.2425,94.2455,94.2499,94.2527,94.2559 ,94.2602,94.2633,94.266,94.2693,94.2752 ,94.2753,94.2787,94.2837,94.2883, 94.2914,94.2945,94.2976,94.3014,94.3041 ,94.3076,94.3109,94.3149,94.3181, 94.3258,94.3332,94.3406,94.3457,94.3509 ,94.3567,94.3629,94.3687,94.3723, 94.3811,94.3847,94.3896,94.3944,94.3991 ,94.4052,94.4097,94.4164,94.4233, 94.4335,94.4359,94.426)
ORBIT_NUMBER = 16654
ORBITAL_ECCENTRICITY = 0.579
ORBITAL_INCLINATION = 86.93
ORBITAL_SEMIMAJOR_AXIS = 8860.87
PERIAPSIS_ALTITUDE = 337.11
PERIAPSIS_ARGUMENT_ANGLE = 348.39
PERIAPSIS_TIME = 2017-02-23T22:30:56.000Z
SPACECRAFT_ORIENTATION = (0.0,1.0,0.0)
^MEX_ORIENTATION_DESC = "MEX_ORIENTATION_DESC.TXT"
SPACECRAFT_POINTING_MODE = ACROSSTRACK
^MEX_POINTING_DESC = "MEX_POINTING_DESC.TXT"
RIGHT_ASCENSION = -1e+32
DECLINATION = -1e+32
OFFSET_ANGLE = -0.229
SPACECRAFT_SOLAR_DISTANCE = 2.19421e+08
TARGET_NAME = MARS
/* CAMERA DATA ELEMENTS */
DETECTOR_TEMPERATURE = 18.1666
FOCAL_PLANE_TEMPERATURE = 7.9716
INST_CMPRS_NAME = "DISCRETE COSINE TRANSFORMATION (DCT)"
INST_CMPRS_RATIO = 4.27325
INST_CMPRS_QUALITY = 0
INST_CMPRS_QUANTZ_TBL_ID = 0
INSTRUMENT_TEMPERATURE = 11.0301
LENS_TEMPERATURE = 8.5833
MACROPIXEL_SIZE = 4
MISSING_FRAMES = 0
PIXEL_SUBSAMPLING_FLAG = N
SIGNAL_CHAIN_ID = 2
/* RADIOMETRIC DATA ELEMENTS */
BANDWIDTH = 76.0
CENTER_FILTER_WAVELENGTH = 444.0
RADIANCE_OFFSET = 0.325975
RADIANCE_SCALING_FACTOR = 0.00167877
REFLECTANCE_SCALING_FACTOR = 8.3043e-05
MEX:REFLECTANCE_OFFSET = 0.0161248
/* IMAGE OBJECT DEFINITIONS */
OBJECT = IMAGE
  INTERCHANGE_FORMAT = BINARY
  LINES = 13955
  LINE_SAMPLES = 1647
  SAMPLE_TYPE = UNSIGNED_INTEGER
  SAMPLE_BITS = 8
  BANDS = 1
  BAND_STORAGE_TYPE = BAND_SEQUENTIAL
  MAXIMUM = 255
  MEAN = 129.337
  MINIMUM = 1
  STANDARD_DEVIATION = 24.7503
END_OBJECT = IMAGE
/* MAP OBJECT DEFINITIONS */
OBJECT = IMAGE_MAP_PROJECTION
  ^DATA_SET_MAP_PROJECTION_CATALOG= "DSMAP.CAT"
  A_AXIS_RADIUS = 3396.0
  B_AXIS_RADIUS = 3396.0
  C_AXIS_RADIUS = 3396.0
  CENTER_LATITUDE = 0.0
  CENTER_LONGITUDE = 94.0
  COORDINATE_SYSTEM_NAME = PLANETOGRAPHIC
  COORDINATE_SYSTEM_TYPE = "BODY-FIXED ROTATING"
  EASTERNMOST_LONGITUDE = 94.4359
  FIRST_STANDARD_PARALLEL = "N/A"
  LINE_FIRST_PIXEL = 1
  LINE_LAST_PIXEL = 13955
  LINE_PROJECTION_OFFSET = -19079.625
  MAP_PROJECTION_ROTATION = 0.0
  MAP_PROJECTION_TYPE = SINUSOIDAL
  MAP_RESOLUTION = 1185.42760773333
  MAP_SCALE = 0.05
  MAXIMUM_LATITUDE = -16.0945
  MINIMUM_LATITUDE = -27.8661
  POSITIVE_LONGITUDE_DIRECTION = EAST
  REFERENCE_LATITUDE = "N/A"
  REFERENCE_LONGITUDE = "N/A"
  SAMPLE_FIRST_PIXEL = 1
  SAMPLE_LAST_PIXEL = 1647
  SAMPLE_PROJECTION_OFFSET = 1194.375
  SECOND_STANDARD_PARALLEL = "N/A"
  WESTERNMOST_LONGITUDE = 92.8644
END_OBJECT = IMAGE_MAP_PROJECTION
END
