PDS_VERSION_ID = PDS3
/* FILE DATA ELEMENTS */
RECORD_TYPE = UNDEFINED
/* POINTERS TO DATA OBJECTS */
^IMAGE = ("HB451_0000_S24.TIF")
/* IDENTIFICATION DATA ELEMENTS */
DATA_SET_ID = "MEX-M-HRSC-4-REFDR-MAPPROJECT-EXT3-V4.0"
DATA_SET_NAME = "MARS EXPRESS HRSC MAP PROJECTED REFDR EXTENSION3 V4.0"
DETECTOR_ID = MEX_HRSC_S2
EVENT_TYPE = "MARS-REGIONAL-MAPPING-Im-Fl-Lc"
INSTRUMENT_HOST_ID = MEX
INSTRUMENT_HOST_NAME = "MARS EXPRESS"
INSTRUMENT_ID = HRSC
INSTRUMENT_NAME = "HIGH RESOLUTION STEREO CAMERA"
MISSION_NAME = "MARS EXPRESS"
MISSION_PHASE_NAME = ME_Phase_27
PROCESSING_LEVEL_ID = 4
PRODUCT_CREATION_TIME = 2023-02-05T12:42:46.000Z
PRODUCT_ID = "HB451_0000_S24.TIF"
RELEASE_ID = 0010
REVISION_ID = 0000
/* QUALITY DATA ELEMENTS */
DATA_QUALITY_ID = 1
DATA_QUALITY_DESC = "Data calculated based on original SPICE kernels"
/* TIME DATA ELEMENTS */
SPACECRAFT_CLOCK_START_COUNT = "1/0305014314.09059"
SPACECRAFT_CLOCK_STOP_COUNT = "1/0305014780.58701"
START_TIME = 2012-12-31T06:13:29.403Z
STOP_TIME = 2012-12-31T06:19:42.371Z
/* ORBITAL DATA ELEMENTS */
ASCENDING_NODE_LONGITUDE = 358.96
MAXIMUM_RESOLUTION = 0.0433
FOOTPRINT_POINT_LATITUDE = (-7.13614,-7.13326,-7.12998,-7.12224, -7.11633,-7.11599,-7.12411,-7.58745, -8.21805,-9.0154,-9.66014,-10.4822, -10.8134,-11.1473,-11.4765,-11.8207, -12.1626,-12.6648,-13.1828,-13.707, -14.0598,-14.4143,-14.9517,-15.3118, -15.676,-16.0438,-16.4135,-16.7892, -17.3561,-17.7343,-18.3073,-18.6887, -19.0748,-19.4671,-19.8616,-20.4692, -20.8722,-21.2785,-21.688,-22.1007, -22.5197,-22.9411,-23.5801,-24.0091, -24.4431,-24.878,-25.3166,-25.5384, -25.5688,-25.578,-25.5894,-25.5873, -25.5968,-25.5947,-25.5811,-25.5805, -25.5795,-24.9174,-24.4754,-24.0432, -23.6236,-23.1975,-22.7757,-22.3567, -21.9424,-21.5332,-21.1217,-20.7179, -20.117,-19.7199,-19.3252,-18.9342, -18.5452,-18.1594,-17.7767,-17.3986, -17.0236,-16.6508,-16.2815,-15.9148, -15.5485,-15.185,-14.8237,-14.4677, -14.1129,-13.7584,-13.4093,-12.8882, -12.3719,-12.03,-11.6906,-11.3533, -10.8515,-10.3565,-9.70027,-8.89438, -8.2597,-7.30662,-7.1485,-7.13614)
FOOTPRINT_POINT_LONGITUDE = (132.865,132.324,131.975,131.418, 131.086,131.069,131.065,131.048,131.025 ,130.995,130.969,130.936,130.923, 130.908,130.893,130.879,130.865,130.839 ,130.815,130.79,130.773,130.755,130.729 ,130.71,130.691,130.673,130.653,130.634 ,130.604,130.583,130.55,130.526,130.502 ,130.479,130.454,130.419,130.393, 130.367,130.339,130.312,130.284,130.255 ,130.21,130.179,130.147,130.114,130.08, 130.062,130.06,130.452,131.041,131.531, 132.184,132.708,133.397,133.43,133.441, 133.405,133.383,133.361,133.336,133.315 ,133.295,133.276,133.257,133.238, 133.222,133.205,133.181,133.165,133.151 ,133.137,133.123,133.11,133.098,133.085 ,133.073,133.061,133.05,133.039,133.029 ,133.019,133.01,133.0,132.991,132.983, 132.975,132.963,132.952,132.945,132.938 ,132.931,132.922,132.913,132.902, 132.888,132.878,132.869,132.868, 132.865)
ORBIT_NUMBER = 11451
ORBITAL_ECCENTRICITY = 0.576
ORBITAL_INCLINATION = 86.87
ORBITAL_SEMIMAJOR_AXIS = 8847.49
PERIAPSIS_ALTITUDE = 354.0
PERIAPSIS_ARGUMENT_ANGLE = 163.23
PERIAPSIS_TIME = 2012-12-31T06:06:23.000Z
SPACECRAFT_ORIENTATION = (0.0,-1.0,0.0)
^MEX_ORIENTATION_DESC = "MEX_ORIENTATION_DESC.TXT"
SPACECRAFT_POINTING_MODE = NADIR
^MEX_POINTING_DESC = "MEX_POINTING_DESC.TXT"
RIGHT_ASCENSION = -1e+32
DECLINATION = -1e+32
OFFSET_ANGLE = -1e+32
SPACECRAFT_SOLAR_DISTANCE = 2.07293e+08
TARGET_NAME = MARS
/* CAMERA DATA ELEMENTS */
DETECTOR_TEMPERATURE = 18.7783
FOCAL_PLANE_TEMPERATURE = 8.1755
INST_CMPRS_NAME = "DISCRETE COSINE TRANSFORMATION (DCT)"
INST_CMPRS_RATIO = 15.4571
INST_CMPRS_QUALITY = 0
INST_CMPRS_QUANTZ_TBL_ID = 0
INSTRUMENT_TEMPERATURE = 11.4379
LENS_TEMPERATURE = 8.7872
MACROPIXEL_SIZE = 2
MISSING_FRAMES = 0
PIXEL_SUBSAMPLING_FLAG = N
SIGNAL_CHAIN_ID = 1
/* RADIOMETRIC DATA ELEMENTS */
BANDWIDTH = 178.0
CENTER_FILTER_WAVELENGTH = 679.0
RADIANCE_OFFSET = 1.72029
RADIANCE_SCALING_FACTOR = 0.00891468
REFLECTANCE_SCALING_FACTOR = 0.000202864
MEX:REFLECTANCE_OFFSET = 0.0391472
/* IMAGE OBJECT DEFINITIONS */
OBJECT = IMAGE
  INTERCHANGE_FORMAT = BINARY
  LINES = 21903
  LINE_SAMPLES = 3110
  SAMPLE_TYPE = UNSIGNED_INTEGER
  SAMPLE_BITS = 8
  BANDS = 1
  BAND_STORAGE_TYPE = BAND_SEQUENTIAL
  MAXIMUM = 255
  MEAN = 109.983
  MINIMUM = 1
  STANDARD_DEVIATION = 38.9046
END_OBJECT = IMAGE
/* MAP OBJECT DEFINITIONS */
OBJECT = IMAGE_MAP_PROJECTION
  ^DATA_SET_MAP_PROJECTION_CATALOG= "DSMAP.CAT"
  A_AXIS_RADIUS = 3396.0
  B_AXIS_RADIUS = 3396.0
  C_AXIS_RADIUS = 3396.0
  CENTER_LATITUDE = 0.0
  CENTER_LONGITUDE = 132.0
  COORDINATE_SYSTEM_NAME = PLANETOGRAPHIC
  COORDINATE_SYSTEM_TYPE = "BODY-FIXED ROTATING"
  EASTERNMOST_LONGITUDE = 133.441
  FIRST_STANDARD_PARALLEL = "N/A"
  LINE_FIRST_PIXEL = 1
  LINE_LAST_PIXEL = 21903
  LINE_PROJECTION_OFFSET = -8447.25
  MAP_PROJECTION_ROTATION = 0.0
  MAP_PROJECTION_TYPE = SINUSOIDAL
  MAP_RESOLUTION = 1185.42760773333
  MAP_SCALE = 0.05
  MAXIMUM_LATITUDE = -7.11599
  MINIMUM_LATITUDE = -25.5968
  POSITIVE_LONGITUDE_DIRECTION = EAST
  REFERENCE_LATITUDE = "N/A"
  REFERENCE_LONGITUDE = "N/A"
  SAMPLE_FIRST_PIXEL = 1
  SAMPLE_LAST_PIXEL = 3110
  SAMPLE_PROJECTION_OFFSET = 1809.25
  SECOND_STANDARD_PARALLEL = "N/A"
  WESTERNMOST_LONGITUDE = 130.06
END_OBJECT = IMAGE_MAP_PROJECTION
END
