PDS_VERSION_ID = PDS3
/* FILE DATA ELEMENTS */
RECORD_TYPE = UNDEFINED
/* POINTERS TO DATA OBJECTS */
^IMAGE = ("HA645_0000_RE4.TIF")
/* IDENTIFICATION DATA ELEMENTS */
DATA_SET_ID = "MEX-M-HRSC-4-REFDR-MAPPROJECT-EXT3-V4.0"
DATA_SET_NAME = "MARS EXPRESS HRSC MAP PROJECTED REFDR EXTENSION3 V4.0"
DETECTOR_ID = MEX_HRSC_RED
EVENT_TYPE = "MARS-REGIONAL-MAPPING-Te-Fl"
INSTRUMENT_HOST_ID = MEX
INSTRUMENT_HOST_NAME = "MARS EXPRESS"
INSTRUMENT_ID = HRSC
INSTRUMENT_NAME = "HIGH RESOLUTION STEREO CAMERA"
MISSION_NAME = "MARS EXPRESS"
MISSION_PHASE_NAME = ME_Phase_25
PROCESSING_LEVEL_ID = 4
PRODUCT_CREATION_TIME = 2023-02-05T03:55:10.000Z
PRODUCT_ID = "HA645_0000_RE4.TIF"
RELEASE_ID = 0009
REVISION_ID = 0000
/* QUALITY DATA ELEMENTS */
DATA_QUALITY_ID = 1
DATA_QUALITY_DESC = "Data calculated based on original SPICE kernels"
/* TIME DATA ELEMENTS */
SPACECRAFT_CLOCK_START_COUNT = "1/0284732418.09048"
SPACECRAFT_CLOCK_STOP_COUNT = "1/0284732745.20627"
START_TIME = 2012-05-10T12:20:27.490Z
STOP_TIME = 2012-05-10T12:24:09.130Z
/* ORBITAL DATA ELEMENTS */
ASCENDING_NODE_LONGITUDE = 14.14
MAXIMUM_RESOLUTION = 0.123
FOOTPRINT_POINT_LATITUDE = (-42.471,-42.4646,-42.4524,-42.434, -42.4335,-42.4001,-42.1295,-41.859, -41.5887,-41.1835,-40.7783,-40.5083, -40.1035,-39.8338,-39.4292,-39.1599, -38.7561,-38.3576,-37.816,-37.2857, -37.0149,-36.6091,-36.334,-36.0611, -35.7874,-35.3716,-35.0907,-34.8109, -34.531,-34.2466,-33.959,-33.528, -33.2375,-32.7978,-32.5042,-32.057, -31.7562,-31.4563,-31.0015,-30.6978, -30.2341,-29.9204,-29.6084,-29.29, -28.9716,-28.6529,-28.3271,-28.1643, -28.0191,-28.0252,-28.0285,-28.0298, -28.0271,-28.027,-28.0328,-28.3605, -28.686,-29.0051,-29.4832,-29.9516, -30.2648,-30.5775,-30.8862,-31.1936, -31.4986,-31.8001,-32.1006,-32.3937, -32.6884,-32.985,-33.2811,-33.573, -33.8527,-34.1384,-34.4355,-34.7157, -34.9978,-35.2805,-35.7014,-35.9764, -36.25,-36.525,-36.7998,-37.3365, -37.7388,-38.2688,-38.8043,-39.3432, -39.613,-39.8833,-40.1536,-40.4237, -40.6939,-40.9643,-41.235,-41.5059, -41.7773,-42.1837,-42.319,-42.471)
FOOTPRINT_POINT_LONGITUDE = (254.633,254.201,253.61,252.954,252.938 ,252.918,252.927,252.937,252.946, 252.959,252.971,252.979,252.991,252.998 ,253.008,253.014,253.023,253.033, 253.042,253.054,253.057,253.062,253.066 ,253.07,253.074,253.078,253.081,253.083 ,253.086,253.088,253.089,253.091, 253.092,253.093,253.093,253.093,253.092 ,253.092,253.091,253.09,253.087,253.085 ,253.083,253.079,253.076,253.073, 253.069,253.067,253.065,253.679,254.187 ,254.604,254.967,254.985,254.996,254.99 ,254.984,254.979,254.972,254.964, 254.959,254.952,254.946,254.94,254.934, 254.928,254.922,254.919,254.913,254.906 ,254.899,254.892,254.889,254.884, 254.874,254.868,254.861,254.854,254.844 ,254.837,254.831,254.824,254.817, 254.803,254.793,254.782,254.768,254.752 ,254.744,254.735,254.727,254.718,254.71 ,254.701,254.692,254.682,254.673, 254.658,254.653,254.633)
ORBIT_NUMBER = 10645
ORBITAL_ECCENTRICITY = 0.577
ORBITAL_INCLINATION = 86.87
ORBITAL_SEMIMAJOR_AXIS = 8782.91
PERIAPSIS_ALTITUDE = 329.41
PERIAPSIS_ARGUMENT_ANGLE = 300.76
PERIAPSIS_TIME = 2012-05-10T12:16:39.000Z
SPACECRAFT_ORIENTATION = (0.0,1.0,0.0)
^MEX_ORIENTATION_DESC = "MEX_ORIENTATION_DESC.TXT"
SPACECRAFT_POINTING_MODE = NADIR
^MEX_POINTING_DESC = "MEX_POINTING_DESC.TXT"
RIGHT_ASCENSION = -1e+32
DECLINATION = -1e+32
OFFSET_ANGLE = -1e+32
SPACECRAFT_SOLAR_DISTANCE = 2.44039e+08
TARGET_NAME = MARS
/* CAMERA DATA ELEMENTS */
DETECTOR_TEMPERATURE = 19.1861
FOCAL_PLANE_TEMPERATURE = 8.5833
INST_CMPRS_NAME = "DISCRETE COSINE TRANSFORMATION (DCT)"
INST_CMPRS_RATIO = 6.7556
INST_CMPRS_QUALITY = 0
INST_CMPRS_QUANTZ_TBL_ID = 0
INSTRUMENT_TEMPERATURE = 11.4379
LENS_TEMPERATURE = 8.7872
MACROPIXEL_SIZE = 8
MISSING_FRAMES = 0
PIXEL_SUBSAMPLING_FLAG = N
SIGNAL_CHAIN_ID = 2
/* RADIOMETRIC DATA ELEMENTS */
BANDWIDTH = 48.0
CENTER_FILTER_WAVELENGTH = 748.0
RADIANCE_OFFSET = 0.115264
RADIANCE_SCALING_FACTOR = 0.00646382
REFLECTANCE_SCALING_FACTOR = 0.00087848
MEX:REFLECTANCE_OFFSET = 0.0156652
/* IMAGE OBJECT DEFINITIONS */
OBJECT = IMAGE
  INTERCHANGE_FORMAT = BINARY
  LINES = 8558
  LINE_SAMPLES = 1078
  SAMPLE_TYPE = UNSIGNED_INTEGER
  SAMPLE_BITS = 8
  BANDS = 1
  BAND_STORAGE_TYPE = BAND_SEQUENTIAL
  MAXIMUM = 255
  MEAN = 82.5924
  MINIMUM = 1
  STANDARD_DEVIATION = 35.6452
END_OBJECT = IMAGE
/* MAP OBJECT DEFINITIONS */
OBJECT = IMAGE_MAP_PROJECTION
  ^DATA_SET_MAP_PROJECTION_CATALOG= "DSMAP.CAT"
  A_AXIS_RADIUS = 3396.0
  B_AXIS_RADIUS = 3396.0
  C_AXIS_RADIUS = 3396.0
  CENTER_LATITUDE = 0.0
  CENTER_LONGITUDE = 254.0
  COORDINATE_SYSTEM_NAME = PLANETOGRAPHIC
  COORDINATE_SYSTEM_TYPE = "BODY-FIXED ROTATING"
  EASTERNMOST_LONGITUDE = 254.996
  FIRST_STANDARD_PARALLEL = "N/A"
  LINE_FIRST_PIXEL = 1
  LINE_LAST_PIXEL = 8558
  LINE_PROJECTION_OFFSET = -16591.5625
  MAP_PROJECTION_ROTATION = 0.0
  MAP_PROJECTION_TYPE = SINUSOIDAL
  MAP_RESOLUTION = 592.713803866667
  MAP_SCALE = 0.1
  MAXIMUM_LATITUDE = -28.0191
  MINIMUM_LATITUDE = -42.471
  POSITIVE_LONGITUDE_DIRECTION = EAST
  REFERENCE_LATITUDE = "N/A"
  REFERENCE_LONGITUDE = "N/A"
  SAMPLE_FIRST_PIXEL = 1
  SAMPLE_LAST_PIXEL = 1078
  SAMPLE_PROJECTION_OFFSET = 529.1875
  SECOND_STANDARD_PARALLEL = "N/A"
  WESTERNMOST_LONGITUDE = 252.918
END_OBJECT = IMAGE_MAP_PROJECTION
END
