PDS_VERSION_ID = PDS3
/* FILE DATA ELEMENTS */
RECORD_TYPE = UNDEFINED
/* POINTERS TO DATA OBJECTS */
^IMAGE = ("HA621_0000_P14.TIF")
/* IDENTIFICATION DATA ELEMENTS */
DATA_SET_ID = "MEX-M-HRSC-4-REFDR-MAPPROJECT-EXT3-V4.0"
DATA_SET_NAME = "MARS EXPRESS HRSC MAP PROJECTED REFDR EXTENSION3 V4.0"
DETECTOR_ID = MEX_HRSC_P1
EVENT_TYPE = "MARS-REGIONAL-MAPPING-Im-Fl-Lc"
INSTRUMENT_HOST_ID = MEX
INSTRUMENT_HOST_NAME = "MARS EXPRESS"
INSTRUMENT_ID = HRSC
INSTRUMENT_NAME = "HIGH RESOLUTION STEREO CAMERA"
MISSION_NAME = "MARS EXPRESS"
MISSION_PHASE_NAME = ME_Phase_25
PROCESSING_LEVEL_ID = 4
PRODUCT_CREATION_TIME = 2023-02-05T03:55:10.000Z
PRODUCT_ID = "HA621_0000_P14.TIF"
RELEASE_ID = 0009
REVISION_ID = 0000
/* QUALITY DATA ELEMENTS */
DATA_QUALITY_ID = 1
DATA_QUALITY_DESC = "Data calculated based on original SPICE kernels"
/* TIME DATA ELEMENTS */
SPACECRAFT_CLOCK_START_COUNT = "1/0284128593.07290"
SPACECRAFT_CLOCK_STOP_COUNT = "1/0284128950.15956"
START_TIME = 2012-05-03T12:37:55.411Z
STOP_TIME = 2012-05-03T12:41:58.697Z
/* ORBITAL DATA ELEMENTS */
ASCENDING_NODE_LONGITUDE = 14.59
MAXIMUM_RESOLUTION = 0.043
FOOTPRINT_POINT_LATITUDE = (-26.2015,-26.2038,-26.2057,-26.2065, -26.2066,-26.2065,-26.2065,-26.2207, -25.5433,-24.9759,-24.5175,-24.0536, -23.5844,-23.1094,-22.5131,-22.2727, -22.0291,-21.6636,-21.4118,-21.1656, -20.9163,-20.6668,-20.4153,-20.1626, -19.9075,-19.6518,-19.269,-19.0066, -18.7473,-18.4858,-18.2231,-17.9583, -17.6933,-17.4245,-17.155,-16.8859, -16.6134,-16.3397,-16.0626,-15.7874, -15.5088,-15.2273,-14.8017,-14.5166, -14.2307,-13.9423,-13.6553,-13.5078, -13.4971,-13.4899,-13.4802,-13.4729, -13.4684,-13.4645,-13.458,-13.4502, -13.445,-13.4447,-13.4453,-13.7375, -14.0281,-14.4616,-14.8902,-15.3149, -15.5959,-15.8751,-16.1517,-16.5645, -16.8385,-17.1104,-17.3806,-17.6533, -17.9197,-18.315,-18.5794,-18.84, -19.1013,-19.3618,-19.6172,-19.8736, -20.1289,-20.3819,-20.6356,-20.8852, -21.1352,-21.5063,-21.7583,-22.1241, -22.3703,-22.6094,-22.9678,-23.207, -23.6805,-24.265,-24.7293,-25.0753, -25.6446,-26.0897,-26.2013,-26.2015)
FOOTPRINT_POINT_LONGITUDE = (188.802,188.369,187.818,187.366, 187.071,186.795,186.776,186.761,186.75, 186.738,186.728,186.717,186.705,186.693 ,186.676,186.669,186.661,186.651, 186.642,186.635,186.627,186.618,186.61, 186.602,186.593,186.584,186.569,186.561 ,186.55,186.54,186.529,186.519,186.508, 186.497,186.486,186.473,186.461,186.449 ,186.437,186.423,186.41,186.397,186.377 ,186.363,186.349,186.334,186.317, 186.311,186.31,186.6,187.101,187.469, 187.759,188.022,188.312,188.601,188.998 ,189.024,189.034,189.028,189.023, 189.016,189.008,189.0,188.995,188.99, 188.985,188.977,188.973,188.968,188.963 ,188.96,188.956,188.947,188.943,188.938 ,188.933,188.93,188.924,188.92,188.916, 188.911,188.908,188.903,188.899,188.892 ,188.888,188.881,188.879,188.873, 188.866,188.862,188.854,188.843,188.835 ,188.83,188.82,188.809,188.807,188.802)
ORBIT_NUMBER = 10621
ORBITAL_ECCENTRICITY = 0.577
ORBITAL_INCLINATION = 86.88
ORBITAL_SEMIMAJOR_AXIS = 8787.72
PERIAPSIS_ALTITUDE = 330.41
PERIAPSIS_ARGUMENT_ANGLE = 304.85
PERIAPSIS_TIME = 2012-05-03T12:29:50.000Z
SPACECRAFT_ORIENTATION = (0.0,1.0,0.0)
^MEX_ORIENTATION_DESC = "MEX_ORIENTATION_DESC.TXT"
SPACECRAFT_POINTING_MODE = NADIR
^MEX_POINTING_DESC = "MEX_POINTING_DESC.TXT"
RIGHT_ASCENSION = -1e+32
DECLINATION = -1e+32
OFFSET_ANGLE = -1e+32
SPACECRAFT_SOLAR_DISTANCE = 2.44841e+08
TARGET_NAME = MARS
/* CAMERA DATA ELEMENTS */
DETECTOR_TEMPERATURE = 17.7588
FOCAL_PLANE_TEMPERATURE = 8.5833
INST_CMPRS_NAME = "DISCRETE COSINE TRANSFORMATION (DCT)"
INST_CMPRS_RATIO = 6.17907
INST_CMPRS_QUALITY = 0
INST_CMPRS_QUANTZ_TBL_ID = 0
INSTRUMENT_TEMPERATURE = 11.8457
LENS_TEMPERATURE = 8.9911
MACROPIXEL_SIZE = 2
MISSING_FRAMES = 1
PIXEL_SUBSAMPLING_FLAG = N
SIGNAL_CHAIN_ID = 3
/* RADIOMETRIC DATA ELEMENTS */
BANDWIDTH = 174.0
CENTER_FILTER_WAVELENGTH = 675.0
RADIANCE_OFFSET = 0.944301
RADIANCE_SCALING_FACTOR = 0.0283907
REFLECTANCE_SCALING_FACTOR = 0.000915435
MEX:REFLECTANCE_OFFSET = 0.0304482
/* IMAGE OBJECT DEFINITIONS */
OBJECT = IMAGE
  INTERCHANGE_FORMAT = BINARY
  LINES = 15150
  LINE_SAMPLES = 2888
  SAMPLE_TYPE = UNSIGNED_INTEGER
  SAMPLE_BITS = 8
  BANDS = 1
  BAND_STORAGE_TYPE = BAND_SEQUENTIAL
  MAXIMUM = 255
  MEAN = 121.613
  MINIMUM = 1
  STANDARD_DEVIATION = 30.2007
END_OBJECT = IMAGE
/* MAP OBJECT DEFINITIONS */
OBJECT = IMAGE_MAP_PROJECTION
  ^DATA_SET_MAP_PROJECTION_CATALOG= "DSMAP.CAT"
  A_AXIS_RADIUS = 3396.0
  B_AXIS_RADIUS = 3396.0
  C_AXIS_RADIUS = 3396.0
  CENTER_LATITUDE = 0.0
  CENTER_LONGITUDE = 188.0
  COORDINATE_SYSTEM_NAME = PLANETOGRAPHIC
  COORDINATE_SYSTEM_TYPE = "BODY-FIXED ROTATING"
  EASTERNMOST_LONGITUDE = 189.034
  FIRST_STANDARD_PARALLEL = "N/A"
  LINE_FIRST_PIXEL = 1
  LINE_LAST_PIXEL = 15150
  LINE_PROJECTION_OFFSET = -15927.75
  MAP_PROJECTION_ROTATION = 0.0
  MAP_PROJECTION_TYPE = SINUSOIDAL
  MAP_RESOLUTION = 1185.42760773333
  MAP_SCALE = 0.05
  MAXIMUM_LATITUDE = -13.4447
  MINIMUM_LATITUDE = -26.2207
  POSITIVE_LONGITUDE_DIRECTION = EAST
  REFERENCE_LATITUDE = "N/A"
  REFERENCE_LONGITUDE = "N/A"
  SAMPLE_FIRST_PIXEL = 1
  SAMPLE_LAST_PIXEL = 2888
  SAMPLE_PROJECTION_OFFSET = 1830.25
  SECOND_STANDARD_PARALLEL = "N/A"
  WESTERNMOST_LONGITUDE = 186.31
END_OBJECT = IMAGE_MAP_PROJECTION
END
