PDS_VERSION_ID = PDS3
/* FILE DATA ELEMENTS */
RECORD_TYPE = UNDEFINED
/* POINTERS TO DATA OBJECTS */
^IMAGE = ("HA503_0000_S14.TIF")
/* IDENTIFICATION DATA ELEMENTS */
DATA_SET_ID = "MEX-M-HRSC-4-REFDR-MAPPROJECT-EXT3-V4.0"
DATA_SET_NAME = "MARS EXPRESS HRSC MAP PROJECTED REFDR EXTENSION3 V4.0"
DETECTOR_ID = MEX_HRSC_S1
EVENT_TYPE = "MARS-REGIONAL-MAPPING-Im-Fl"
INSTRUMENT_HOST_ID = MEX
INSTRUMENT_HOST_NAME = "MARS EXPRESS"
INSTRUMENT_ID = HRSC
INSTRUMENT_NAME = "HIGH RESOLUTION STEREO CAMERA"
MISSION_NAME = "MARS EXPRESS"
MISSION_PHASE_NAME = ME_Phase_25
PROCESSING_LEVEL_ID = 4
PRODUCT_CREATION_TIME = 2023-02-05T03:55:10.000Z
PRODUCT_ID = "HA503_0000_S14.TIF"
RELEASE_ID = 0009
REVISION_ID = 0000
/* QUALITY DATA ELEMENTS */
DATA_QUALITY_ID = 1
DATA_QUALITY_DESC = "Data calculated based on original SPICE kernels"
/* TIME DATA ELEMENTS */
SPACECRAFT_CLOCK_START_COUNT = "1/0281158746.09033"
SPACECRAFT_CLOCK_STOP_COUNT = "1/0281159078.63625"
START_TIME = 2012-03-30T03:40:32.657Z
STOP_TIME = 2012-03-30T03:44:40.523Z
/* ORBITAL DATA ELEMENTS */
ASCENDING_NODE_LONGITUDE = 16.82
MAXIMUM_RESOLUTION = 0.0394
FOOTPRINT_POINT_LATITUDE = (-12.4403,-12.4477,-12.4552,-12.4629, -12.4707,-12.4788,-12.4902,-12.4907, -12.4943,-12.0308,-11.5596,-10.9669, -10.3669,-10.0046,-9.76188,-9.39349, -9.14611,-8.77553,-8.52706,-8.28004, -7.90366,-7.65073,-7.39508,-7.01129, -6.6227,-6.36333,-6.10061,-5.70702, -5.44092,-5.17513,-4.90693,-4.63765, -4.22966,-3.95725,-3.68152,-3.40545, -3.12613,-2.70663,-2.42661,-2.14262, -1.85811,-1.56833,-1.27941,-0.98971, -0.697485,-0.255995,0.189785,0.487719, 0.637031,0.673281,0.692641,0.707993, 0.730243,0.742271,0.759261,0.759896, 0.759447,0.461124,0.161323,-0.135202, -0.43079,-0.723715,-1.01292,-1.30533, -1.59444,-2.0227,-2.30872,-2.59233, -3.01457,-3.43479,-3.71107,-4.12692, -4.39925,-4.80567,-5.07526,-5.34122, -5.60959,-5.87269,-6.13644,-6.39812, -6.65813,-6.91754,-7.17364,-7.4307, -7.685,-7.9373,-8.19004,-8.43805, -8.68869,-8.93719,-9.30731,-9.55419, -9.91765,-10.1597,-10.5239,-11.1208, -11.5946,-12.2987,-12.4156,-12.4403)
FOOTPRINT_POINT_LONGITUDE = (12.541,12.2857,12.0293,11.7717,11.5131 ,11.2532,10.8934,10.877,10.8698,10.8581 ,10.8462,10.8309,10.8151,10.8034, 10.7963,10.7858,10.7786,10.7667,10.758, 10.7488,10.7351,10.7265,10.7179,10.704, 10.69,10.6804,10.6708,10.6555,10.6451, 10.6345,10.6237,10.6128,10.596,10.5848, 10.5728,10.5612,10.5491,10.53,10.5166, 10.5032,10.4898,10.4769,10.463,10.4484, 10.4336,10.4113,10.3882,10.3722,10.3645 ,10.3626,10.825,11.2167,11.767,12.1322, 12.7008,12.7235,12.7317,12.7259,12.7202 ,12.7145,12.709,12.7035,12.6977,12.6927 ,12.688,12.6804,12.6757,12.6714,12.6648 ,12.6586,12.6544,12.649,12.6447,12.6389 ,12.635,12.6311,12.6275,12.6238,12.6201 ,12.6166,12.613,12.6095,12.606,12.6025, 12.5992,12.5957,12.5925,12.589,12.5859, 12.5827,12.5781,12.5751,12.5705,12.5674 ,12.5635,12.5561,12.5509,12.5432, 12.5419,12.541)
ORBIT_NUMBER = 10503
ORBITAL_ECCENTRICITY = 0.578
ORBITAL_INCLINATION = 86.88
ORBITAL_SEMIMAJOR_AXIS = 8827.45
PERIAPSIS_ALTITUDE = 333.77
PERIAPSIS_ARGUMENT_ANGLE = 324.97
PERIAPSIS_TIME = 2012-03-30T03:33:59.000Z
SPACECRAFT_ORIENTATION = (0.0,1.0,0.0)
^MEX_ORIENTATION_DESC = "MEX_ORIENTATION_DESC.TXT"
SPACECRAFT_POINTING_MODE = ACROSSTRACK
^MEX_POINTING_DESC = "MEX_POINTING_DESC.TXT"
RIGHT_ASCENSION = -1e+32
DECLINATION = -1e+32
OFFSET_ANGLE = 0.45
SPACECRAFT_SOLAR_DISTANCE = 2.47842e+08
TARGET_NAME = MARS
/* CAMERA DATA ELEMENTS */
DETECTOR_TEMPERATURE = 18.1666
FOCAL_PLANE_TEMPERATURE = 8.7872
INST_CMPRS_NAME = "DISCRETE COSINE TRANSFORMATION (DCT)"
INST_CMPRS_RATIO = 9.16957
INST_CMPRS_QUALITY = 0
INST_CMPRS_QUANTZ_TBL_ID = 0
INSTRUMENT_TEMPERATURE = 12.4574
LENS_TEMPERATURE = 8.9911
MACROPIXEL_SIZE = 2
MISSING_FRAMES = 0
PIXEL_SUBSAMPLING_FLAG = N
SIGNAL_CHAIN_ID = 1
/* RADIOMETRIC DATA ELEMENTS */
BANDWIDTH = 180.0
CENTER_FILTER_WAVELENGTH = 677.0
RADIANCE_OFFSET = 1.13105
RADIANCE_SCALING_FACTOR = 0.0221774
REFLECTANCE_SCALING_FACTOR = 0.000710726
MEX:REFLECTANCE_OFFSET = 0.036247
/* IMAGE OBJECT DEFINITIONS */
OBJECT = IMAGE
  INTERCHANGE_FORMAT = BINARY
  LINES = 31370
  LINE_SAMPLES = 5015
  SAMPLE_TYPE = UNSIGNED_INTEGER
  SAMPLE_BITS = 8
  BANDS = 1
  BAND_STORAGE_TYPE = BAND_SEQUENTIAL
  MAXIMUM = 255
  MEAN = 85.098
  MINIMUM = 1
  STANDARD_DEVIATION = 35.0919
END_OBJECT = IMAGE
/* MAP OBJECT DEFINITIONS */
OBJECT = IMAGE_MAP_PROJECTION
  ^DATA_SET_MAP_PROJECTION_CATALOG= "DSMAP.CAT"
  A_AXIS_RADIUS = 3396.0
  B_AXIS_RADIUS = 3396.0
  C_AXIS_RADIUS = 3396.0
  CENTER_LATITUDE = 0.0
  CENTER_LONGITUDE = 12.0
  COORDINATE_SYSTEM_NAME = PLANETOGRAPHIC
  COORDINATE_SYSTEM_TYPE = "BODY-FIXED ROTATING"
  EASTERNMOST_LONGITUDE = 12.7317
  FIRST_STANDARD_PARALLEL = "N/A"
  LINE_FIRST_PIXEL = 1
  LINE_LAST_PIXEL = 31370
  LINE_PROJECTION_OFFSET = 1783.75
  MAP_PROJECTION_ROTATION = 0.0
  MAP_PROJECTION_TYPE = SINUSOIDAL
  MAP_RESOLUTION = 2370.85521546667
  MAP_SCALE = 0.025
  MAXIMUM_LATITUDE = 0.759896
  MINIMUM_LATITUDE = -12.4943
  POSITIVE_LONGITUDE_DIRECTION = EAST
  REFERENCE_LATITUDE = "N/A"
  REFERENCE_LONGITUDE = "N/A"
  SAMPLE_FIRST_PIXEL = 1
  SAMPLE_LAST_PIXEL = 5015
  SAMPLE_PROJECTION_OFFSET = 3579.75
  SECOND_STANDARD_PARALLEL = "N/A"
  WESTERNMOST_LONGITUDE = 10.3626
END_OBJECT = IMAGE_MAP_PROJECTION
END
