PDS_VERSION_ID = PDS3
/* FILE DATA ELEMENTS */
RECORD_TYPE = UNDEFINED
/* POINTERS TO DATA OBJECTS */
^IMAGE = ("HA502_0001_IR4.TIF")
/* IDENTIFICATION DATA ELEMENTS */
DATA_SET_ID = "MEX-M-HRSC-4-REFDR-MAPPROJECT-EXT3-V4.0"
DATA_SET_NAME = "MARS EXPRESS HRSC MAP PROJECTED REFDR EXTENSION3 V4.0"
DETECTOR_ID = MEX_HRSC_IR
EVENT_TYPE = "MARS-REGIONAL-MAPPING-Vo-Fl"
INSTRUMENT_HOST_ID = MEX
INSTRUMENT_HOST_NAME = "MARS EXPRESS"
INSTRUMENT_ID = HRSC
INSTRUMENT_NAME = "HIGH RESOLUTION STEREO CAMERA"
MISSION_NAME = "MARS EXPRESS"
MISSION_PHASE_NAME = ME_Phase_25
PROCESSING_LEVEL_ID = 4
PRODUCT_CREATION_TIME = 2023-02-05T03:55:10.000Z
PRODUCT_ID = "HA502_0001_IR4.TIF"
RELEASE_ID = 0009
REVISION_ID = 0000
/* QUALITY DATA ELEMENTS */
DATA_QUALITY_ID = 1
DATA_QUALITY_DESC = "Data calculated based on original SPICE kernels"
/* TIME DATA ELEMENTS */
SPACECRAFT_CLOCK_START_COUNT = "1/0281133457.07295"
SPACECRAFT_CLOCK_STOP_COUNT = "1/0281133792.54750"
START_TIME = 2012-03-29T20:38:44.240Z
STOP_TIME = 2012-03-29T20:43:03.843Z
/* ORBITAL DATA ELEMENTS */
ASCENDING_NODE_LONGITUDE = 16.83
MAXIMUM_RESOLUTION = 0.0651
FOOTPRINT_POINT_LATITUDE = (-19.4624,-19.4743,-19.486,-19.5015, -19.5019,-19.503,-19.0954,-18.8242, -18.4178,-18.1471,-17.6087,-17.206, -16.9307,-16.6561,-16.3818,-15.9695, -15.689,-15.4098,-14.9915,-14.7062, -14.4215,-13.9967,-13.7062,-13.4155, -13.1284,-12.8363,-12.5427,-12.2495, -11.9524,-11.6535,-11.3554,-11.0523, -10.5978,-10.136,-9.82683,-9.51648, -9.20307,-8.89138,-8.57608,-8.26025, -7.77718,-7.29122,-6.96688,-6.63738, -6.1422,-5.64563,-5.30607,-4.79231, -4.61851,-4.53817,-4.52358,-4.5154, -4.49248,-4.47143,-4.47059,-4.47162, -4.98821,-5.32836,-5.8347,-6.16845, -6.49767,-6.8277,-7.15404,-7.48033, -7.80176,-8.28416,-8.60189,-8.92003, -9.38928,-9.70251,-10.1655,-10.4741, -10.7766,-11.0798,-11.5304,-11.829, -12.2746,-12.5676,-12.8633,-13.2998, -13.5894,-14.024,-14.308,-14.5932, -15.0197,-15.4444,-15.8581,-16.1361, -16.4105,-16.6853,-16.9601,-17.2342, -17.6386,-18.0436,-18.3143,-18.7211, -18.9924,-19.264,-19.4007,-19.4624)
FOOTPRINT_POINT_LONGITUDE = (114.581,114.154,113.72,113.142,113.128 ,113.123,113.12,113.118,113.115,113.113 ,113.107,113.102,113.099,113.095, 113.092,113.085,113.082,113.077,113.071 ,113.066,113.061,113.053,113.048, 113.043,113.036,113.029,113.023,113.016 ,113.009,113.002,112.995,112.987, 112.975,112.964,112.956,112.947,112.938 ,112.928,112.917,112.906,112.891, 112.875,112.863,112.852,112.834,112.812 ,112.8,112.782,112.777,112.774,113.147, 113.517,114.126,114.729,114.747,114.753 ,114.746,114.742,114.735,114.731, 114.727,114.722,114.718,114.714,114.71, 114.704,114.701,114.697,114.692,114.688 ,114.683,114.679,114.676,114.672, 114.667,114.664,114.659,114.656,114.653 ,114.648,114.645,114.64,114.637,114.634 ,114.63,114.626,114.621,114.618,114.615 ,114.612,114.609,114.606,114.601, 114.597,114.594,114.59,114.587,114.584, 114.582,114.581)
ORBIT_NUMBER = 10502
ORBITAL_ECCENTRICITY = 0.578
ORBITAL_INCLINATION = 86.88
ORBITAL_SEMIMAJOR_AXIS = 8830.17
PERIAPSIS_ALTITUDE = 333.19
PERIAPSIS_ARGUMENT_ANGLE = 325.14
PERIAPSIS_TIME = 2012-03-29T20:34:19.000Z
SPACECRAFT_ORIENTATION = (0.0,1.0,0.0)
^MEX_ORIENTATION_DESC = "MEX_ORIENTATION_DESC.TXT"
SPACECRAFT_POINTING_MODE = ACROSSTRACK
^MEX_POINTING_DESC = "MEX_POINTING_DESC.TXT"
RIGHT_ASCENSION = -1e+32
DECLINATION = -1e+32
OFFSET_ANGLE = 0.6
SPACECRAFT_SOLAR_DISTANCE = 2.47861e+08
TARGET_NAME = MARS
/* CAMERA DATA ELEMENTS */
DETECTOR_TEMPERATURE = 18.1666
FOCAL_PLANE_TEMPERATURE = 9.3989
INST_CMPRS_NAME = "DISCRETE COSINE TRANSFORMATION (DCT)"
INST_CMPRS_RATIO = 7.72147
INST_CMPRS_QUALITY = 0
INST_CMPRS_QUANTZ_TBL_ID = 0
INSTRUMENT_TEMPERATURE = 12.0496
LENS_TEMPERATURE = 9.3989
MACROPIXEL_SIZE = 4
MISSING_FRAMES = 0
PIXEL_SUBSAMPLING_FLAG = N
SIGNAL_CHAIN_ID = 2
/* RADIOMETRIC DATA ELEMENTS */
BANDWIDTH = 81.0
CENTER_FILTER_WAVELENGTH = 955.5
RADIANCE_OFFSET = 0.117829
RADIANCE_SCALING_FACTOR = 0.0042453
REFLECTANCE_SCALING_FACTOR = 0.000562666
MEX:REFLECTANCE_OFFSET = 0.0156168
/* IMAGE OBJECT DEFINITIONS */
OBJECT = IMAGE
  INTERCHANGE_FORMAT = BINARY
  LINES = 17783
  LINE_SAMPLES = 2178
  SAMPLE_TYPE = UNSIGNED_INTEGER
  SAMPLE_BITS = 8
  BANDS = 1
  BAND_STORAGE_TYPE = BAND_SEQUENTIAL
  MAXIMUM = 255
  MEAN = 80.5335
  MINIMUM = 1
  STANDARD_DEVIATION = 22.1385
END_OBJECT = IMAGE
/* MAP OBJECT DEFINITIONS */
OBJECT = IMAGE_MAP_PROJECTION
  ^DATA_SET_MAP_PROJECTION_CATALOG= "DSMAP.CAT"
  A_AXIS_RADIUS = 3396.0
  B_AXIS_RADIUS = 3396.0
  C_AXIS_RADIUS = 3396.0
  CENTER_LATITUDE = 0.0
  CENTER_LONGITUDE = 114.0
  COORDINATE_SYSTEM_NAME = PLANETOGRAPHIC
  COORDINATE_SYSTEM_TYPE = "BODY-FIXED ROTATING"
  EASTERNMOST_LONGITUDE = 114.753
  FIRST_STANDARD_PARALLEL = "N/A"
  LINE_FIRST_PIXEL = 1
  LINE_LAST_PIXEL = 17783
  LINE_PROJECTION_OFFSET = -5330.125
  MAP_PROJECTION_ROTATION = 0.0
  MAP_PROJECTION_TYPE = SINUSOIDAL
  MAP_RESOLUTION = 1185.42760773333
  MAP_SCALE = 0.05
  MAXIMUM_LATITUDE = -4.47059
  MINIMUM_LATITUDE = -19.503
  POSITIVE_LONGITUDE_DIRECTION = EAST
  REFERENCE_LATITUDE = "N/A"
  REFERENCE_LONGITUDE = "N/A"
  SAMPLE_FIRST_PIXEL = 1
  SAMPLE_LAST_PIXEL = 2178
  SAMPLE_PROJECTION_OFFSET = 1369.625
  SECOND_STANDARD_PARALLEL = "N/A"
  WESTERNMOST_LONGITUDE = 112.774
END_OBJECT = IMAGE_MAP_PROJECTION
END
