PDS_VERSION_ID = PDS3
/* FILE DATA ELEMENTS */
RECORD_TYPE = UNDEFINED
/* POINTERS TO DATA OBJECTS */
^IMAGE = ("H9829_0001_GR4.TIF")
/* IDENTIFICATION DATA ELEMENTS */
DATA_SET_ID = "MEX-M-HRSC-4-REFDR-MAPPROJECT-EXT3-V4.0"
DATA_SET_NAME = "MARS EXPRESS HRSC MAP PROJECTED REFDR EXTENSION3 V4.0"
DETECTOR_ID = MEX_HRSC_GREEN
EVENT_TYPE = "MARS-CLOUD-VARIABLE-At"
INSTRUMENT_HOST_ID = MEX
INSTRUMENT_HOST_NAME = "MARS EXPRESS"
INSTRUMENT_ID = HRSC
INSTRUMENT_NAME = "HIGH RESOLUTION STEREO CAMERA"
MISSION_NAME = "MARS EXPRESS"
MISSION_PHASE_NAME = ME_Phase_24
PROCESSING_LEVEL_ID = 4
PRODUCT_CREATION_TIME = 2023-02-04T12:09:02.000Z
PRODUCT_ID = "H9829_0001_GR4.TIF"
RELEASE_ID = 0007
REVISION_ID = 0000
/* QUALITY DATA ELEMENTS */
DATA_QUALITY_ID = 1
DATA_QUALITY_DESC = "Data calculated based on original SPICE kernels"
/* TIME DATA ELEMENTS */
SPACECRAFT_CLOCK_START_COUNT = "1/0264187722.09076"
SPACECRAFT_CLOCK_STOP_COUNT = "1/0264188821.31903"
START_TIME = 2011-09-15T17:33:38.563Z
STOP_TIME = 2011-09-15T17:47:02.711Z
/* ORBITAL DATA ELEMENTS */
ASCENDING_NODE_LONGITUDE = 29.61
MAXIMUM_RESOLUTION = 0.2093
FOOTPRINT_POINT_LATITUDE = (15.4325,15.344,15.2561,15.1685,15.0812 ,14.9941,14.9072,14.8206,14.7341, 14.6478,14.5614,14.4749,14.3234,14.3126 ,14.3186,13.6387,12.9605,11.9445, 10.9328,10.2574,9.24729,8.56927,7.89897 ,7.22931,6.56043,5.89199,4.5566,3.22253 ,1.55664,0.224654,-1.10678,-2.43961, -4.10635,-5.10887,-5.77732,-6.44625, -7.11595,-8.12039,-8.79165,-9.464, -10.135,-10.8143,-11.4912,-12.1638, -12.8423,-13.5217,-14.2033,-14.886, -15.5709,-16.2585,-16.9467,-17.638, -18.3311,-19.0264,-19.3747,-19.3838, -19.2832,-19.1474,-18.9752,-18.8066, -18.677,-18.4679,-18.2592,-18.1283, -17.934,-17.7233,-17.7023,-17.696, -16.688,-16.0136,-15.341,-14.6711, -14.0013,-13.0013,-12.3348,-11.007, -10.0122,-8.68952,-6.71278,-5.72584, -4.4117,-3.09885,-1.78664,-0.802588, 0.837824,2.15069,3.46523,4.78123,6.0997 ,7.42051,8.74434,10.4093,11.412,12.0798 ,12.7491,13.4194,14.0918,15.1059, 15.4433,15.4325)
FOOTPRINT_POINT_LONGITUDE = (3.3375,4.07776,4.81316,5.54502,6.27449 ,7.00255,7.72843,8.45218,9.17549, 9.89873,10.6223,11.3478,12.6219,12.7132 ,12.7508,12.7517,12.7537,12.757,12.7639 ,12.767,12.7795,12.783,12.7914,12.8006, 12.811,12.8222,12.8475,12.876,12.9179, 12.9563,12.9962,13.0503,13.1196,13.1694 ,13.2027,13.2374,13.2741,13.3298, 13.3705,13.4135,13.455,13.5089,13.5597, 13.6057,13.66,13.716,13.7753,13.8368, 13.9014,13.9698,14.0398,14.1138,14.1908 ,14.271,14.3122,14.3133,13.4455,12.2923 ,10.738,9.33674,8.22843,6.44279,4.66701 ,3.57951,1.95168,0.185321,0.0521214, 0.00318726,0.137276,0.227892,0.317201, 0.404278,0.491226,0.617452,0.701399, 0.864139,0.984992,1.14195,1.36741, 1.47762,1.62071,1.75973,1.89487,1.99464 ,2.15548,2.28119,2.40198,2.5199,2.63384 ,2.74462,2.85181,2.97978,3.05463, 3.10263,3.1495,3.1956,3.24007,3.30311, 3.32454,3.3375)
ORBIT_NUMBER = 9829
ORBITAL_ECCENTRICITY = 0.571
ORBITAL_INCLINATION = 86.87
ORBITAL_SEMIMAJOR_AXIS = 8763.49
PERIAPSIS_ALTITUDE = 386.14
PERIAPSIS_ARGUMENT_ANGLE = 81.29
PERIAPSIS_TIME = 2011-09-15T17:00:33.000Z
SPACECRAFT_ORIENTATION = (0.0,1.0,0.0)
^MEX_ORIENTATION_DESC = "MEX_ORIENTATION_DESC.TXT"
SPACECRAFT_POINTING_MODE = INERT
^MEX_POINTING_DESC = "MEX_POINTING_DESC.TXT"
RIGHT_ASCENSION = 149.537
DECLINATION = -59.364
OFFSET_ANGLE = -1e+32
SPACECRAFT_SOLAR_DISTANCE = 2.334e+08
TARGET_NAME = MARS
/* CAMERA DATA ELEMENTS */
DETECTOR_TEMPERATURE = 21.2251
FOCAL_PLANE_TEMPERATURE = 9.195
INST_CMPRS_NAME = "DISCRETE COSINE TRANSFORMATION (DCT)"
INST_CMPRS_RATIO = 13.4353
INST_CMPRS_QUALITY = 0
INST_CMPRS_QUANTZ_TBL_ID = 0
INSTRUMENT_TEMPERATURE = 15.5159
LENS_TEMPERATURE = 9.6028
MACROPIXEL_SIZE = 2
PIXEL_SUBSAMPLING_FLAG = N
SIGNAL_CHAIN_ID = 2
/* RADIOMETRIC DATA ELEMENTS */
BANDWIDTH = 88.0
CENTER_FILTER_WAVELENGTH = 538.0
RADIANCE_OFFSET = 1.90146
RADIANCE_SCALING_FACTOR = 0.0074567
REFLECTANCE_SCALING_FACTOR = 0.000349743
MEX:REFLECTANCE_OFFSET = 0.0891845
/* IMAGE OBJECT DEFINITIONS */
OBJECT = IMAGE
  INTERCHANGE_FORMAT = BINARY
  LINES = 10314
  LINE_SAMPLES = 3809
  SAMPLE_TYPE = UNSIGNED_INTEGER
  SAMPLE_BITS = 8
  BANDS = 1
  BAND_STORAGE_TYPE = BAND_SEQUENTIAL
  MAXIMUM = 255
  MEAN = 128.366
  MINIMUM = 1
  STANDARD_DEVIATION = 44.7473
END_OBJECT = IMAGE
/* MAP OBJECT DEFINITIONS */
OBJECT = IMAGE_MAP_PROJECTION
  ^DATA_SET_MAP_PROJECTION_CATALOG= "DSMAP.CAT"
  A_AXIS_RADIUS = 3396.0
  B_AXIS_RADIUS = 3396.0
  C_AXIS_RADIUS = 3396.0
  CENTER_LATITUDE = 0.0
  CENTER_LONGITUDE = 7.0
  COORDINATE_SYSTEM_NAME = PLANETOGRAPHIC
  COORDINATE_SYSTEM_TYPE = "BODY-FIXED ROTATING"
  EASTERNMOST_LONGITUDE = 14.3133
  FIRST_STANDARD_PARALLEL = "N/A"
  LINE_FIRST_PIXEL = 1
  LINE_LAST_PIXEL = 10314
  LINE_PROJECTION_OFFSET = 4555.0
  MAP_PROJECTION_ROTATION = 0.0
  MAP_PROJECTION_TYPE = SINUSOIDAL
  MAP_RESOLUTION = 296.356901933333
  MAP_SCALE = 0.2
  MAXIMUM_LATITUDE = 15.4433
  MINIMUM_LATITUDE = -19.3838
  POSITIVE_LONGITUDE_DIRECTION = EAST
  REFERENCE_LATITUDE = "N/A"
  REFERENCE_LONGITUDE = "N/A"
  SAMPLE_FIRST_PIXEL = 1
  SAMPLE_LAST_PIXEL = 3809
  SAMPLE_PROJECTION_OFFSET = 2066.0
  SECOND_STANDARD_PARALLEL = "N/A"
  WESTERNMOST_LONGITUDE = 0.003187
END_OBJECT = IMAGE_MAP_PROJECTION
END
