PDS_VERSION_ID = PDS3
/* FILE DATA ELEMENTS */
RECORD_TYPE = UNDEFINED
/* POINTERS TO DATA OBJECTS */
^IMAGE = ("H9562_0000_P24.TIF")
/* IDENTIFICATION DATA ELEMENTS */
DATA_SET_ID = "MEX-M-HRSC-4-REFDR-MAPPROJECT-EXT3-V4.0"
DATA_SET_NAME = "MARS EXPRESS HRSC MAP PROJECTED REFDR EXTENSION3 V4.0"
DETECTOR_ID = MEX_HRSC_P2
EVENT_TYPE = "MARS-REGIONAL-MAPPING-Fl-Pf"
INSTRUMENT_HOST_ID = MEX
INSTRUMENT_HOST_NAME = "MARS EXPRESS"
INSTRUMENT_ID = HRSC
INSTRUMENT_NAME = "HIGH RESOLUTION STEREO CAMERA"
MISSION_NAME = "MARS EXPRESS"
MISSION_PHASE_NAME = ME_Phase_23
PROCESSING_LEVEL_ID = 4
PRODUCT_CREATION_TIME = 2023-02-04T12:09:02.000Z
PRODUCT_ID = "H9562_0000_P24.TIF"
RELEASE_ID = 0007
REVISION_ID = 0000
/* QUALITY DATA ELEMENTS */
DATA_QUALITY_ID = 1
DATA_QUALITY_DESC = "Data calculated based on original SPICE kernels"
/* TIME DATA ELEMENTS */
SPACECRAFT_CLOCK_START_COUNT = "1/0257463224.08546"
SPACECRAFT_CLOCK_STOP_COUNT = "1/0257463493.23796"
START_TIME = 2011-06-29T21:34:53.174Z
STOP_TIME = 2011-06-29T21:37:53.761Z
/* ORBITAL DATA ELEMENTS */
ASCENDING_NODE_LONGITUDE = 34.68
MAXIMUM_RESOLUTION = 0.0729
FOOTPRINT_POINT_LATITUDE = (35.9984,36.0016,36.0044,36.0069, 36.0089,36.0106,36.0124,36.0125,36.0589 ,35.5575,35.1559,34.7548,34.3452, 33.9373,33.4238,33.2162,33.0082,32.8009 ,32.5939,32.3835,32.1723,31.9613, 31.7506,31.5403,31.3256,31.1111,30.8971 ,30.6833,30.3632,30.1506,29.938,29.726, 29.4082,29.1968,28.9857,28.775,28.5647, 28.3548,28.1453,27.9364,27.7276,27.5191 ,27.3111,27.1035,26.7951,26.5858, 26.1737,25.7628,25.6603,25.6028,25.5929 ,25.5825,25.5755,25.5642,25.5563, 25.5558,25.5567,25.8656,26.2782,26.4851 ,26.6925,26.9004,27.2128,27.4214, 27.6305,27.8395,28.0492,28.2593,28.4699 ,28.6807,28.892,29.1035,29.3155,29.5277 ,29.7403,29.9532,30.1667,30.4875, 30.7015,30.9159,31.1307,31.3461,31.5604 ,31.7714,31.9829,32.2999,32.6163, 32.8242,33.0323,33.2406,33.4489,33.6563 ,34.0653,34.4759,34.7825,35.1844, 35.5877,35.8905,35.9907,35.9984)
FOOTPRINT_POINT_LONGITUDE = (321.717,321.441,321.163,320.882, 320.598,320.312,319.841,319.823,319.758 ,319.773,319.784,319.794,319.804, 319.813,319.824,319.827,319.831,319.835 ,319.838,319.842,319.845,319.848,319.85 ,319.853,319.856,319.858,319.86,319.862 ,319.865,319.866,319.868,319.869,319.87 ,319.871,319.872,319.873,319.873, 319.874,319.874,319.873,319.873,319.873 ,319.872,319.871,319.868,319.869, 319.867,319.864,319.863,319.862,320.378 ,320.868,321.191,321.691,322.008, 322.028,322.035,322.027,322.017,322.011 ,322.006,322.001,321.992,321.987, 321.981,321.976,321.97,321.964,321.959, 321.953,321.947,321.941,321.935,321.929 ,321.923,321.916,321.91,321.901,321.894 ,321.888,321.881,321.874,321.868, 321.861,321.854,321.844,321.834,321.827 ,321.82,321.813,321.806,321.799,321.784 ,321.77,321.759,321.744,321.729,321.717 ,321.713,321.717)
ORBIT_NUMBER = 9562
ORBITAL_ECCENTRICITY = 0.573
ORBITAL_INCLINATION = 86.89
ORBITAL_SEMIMAJOR_AXIS = 8793.38
PERIAPSIS_ALTITUDE = 372.34
PERIAPSIS_ARGUMENT_ANGLE = 127.37
PERIAPSIS_TIME = 2011-06-29T21:30:07.000Z
SPACECRAFT_ORIENTATION = (0.0,-1.0,0.0)
^MEX_ORIENTATION_DESC = "MEX_ORIENTATION_DESC.TXT"
SPACECRAFT_POINTING_MODE = ACROSSTRACK
^MEX_POINTING_DESC = "MEX_POINTING_DESC.TXT"
RIGHT_ASCENSION = -1e+32
DECLINATION = -1e+32
OFFSET_ANGLE = -0.9
SPACECRAFT_SOLAR_DISTANCE = 2.185e+08
TARGET_NAME = MARS
/* CAMERA DATA ELEMENTS */
DETECTOR_TEMPERATURE = 18.1666
FOCAL_PLANE_TEMPERATURE = 7.7677
INST_CMPRS_NAME = "DISCRETE COSINE TRANSFORMATION (DCT)"
INST_CMPRS_RATIO = 10.744
INST_CMPRS_QUALITY = 0
INST_CMPRS_QUANTZ_TBL_ID = 0
INSTRUMENT_TEMPERATURE = 11.0301
LENS_TEMPERATURE = 8.3794
MACROPIXEL_SIZE = 4
MISSING_FRAMES = 0
PIXEL_SUBSAMPLING_FLAG = N
SIGNAL_CHAIN_ID = 3
/* RADIOMETRIC DATA ELEMENTS */
BANDWIDTH = 177.0
CENTER_FILTER_WAVELENGTH = 676.5
RADIANCE_OFFSET = 4.65385
RADIANCE_SCALING_FACTOR = 0.0128371
REFLECTANCE_SCALING_FACTOR = 0.000324959
MEX:REFLECTANCE_OFFSET = 0.117807
/* IMAGE OBJECT DEFINITIONS */
OBJECT = IMAGE
  INTERCHANGE_FORMAT = BINARY
  LINES = 12454
  LINE_SAMPLES = 2211
  SAMPLE_TYPE = UNSIGNED_INTEGER
  SAMPLE_BITS = 8
  BANDS = 1
  BAND_STORAGE_TYPE = BAND_SEQUENTIAL
  MAXIMUM = 255
  MEAN = 95.1493
  MINIMUM = 1
  STANDARD_DEVIATION = 32.7235
END_OBJECT = IMAGE
/* MAP OBJECT DEFINITIONS */
OBJECT = IMAGE_MAP_PROJECTION
  ^DATA_SET_MAP_PROJECTION_CATALOG= "DSMAP.CAT"
  A_AXIS_RADIUS = 3396.0
  B_AXIS_RADIUS = 3396.0
  C_AXIS_RADIUS = 3396.0
  CENTER_LATITUDE = 0.0
  CENTER_LONGITUDE = 321.0
  COORDINATE_SYSTEM_NAME = PLANETOGRAPHIC
  COORDINATE_SYSTEM_TYPE = "BODY-FIXED ROTATING"
  EASTERNMOST_LONGITUDE = 322.035
  FIRST_STANDARD_PARALLEL = "N/A"
  LINE_FIRST_PIXEL = 1
  LINE_LAST_PIXEL = 12454
  LINE_PROJECTION_OFFSET = 42747.625
  MAP_PROJECTION_ROTATION = 0.0
  MAP_PROJECTION_TYPE = SINUSOIDAL
  MAP_RESOLUTION = 1185.42760773333
  MAP_SCALE = 0.05
  MAXIMUM_LATITUDE = 36.0589
  MINIMUM_LATITUDE = 25.5558
  POSITIVE_LONGITUDE_DIRECTION = EAST
  REFERENCE_LATITUDE = "N/A"
  REFERENCE_LONGITUDE = "N/A"
  SAMPLE_FIRST_PIXEL = 1
  SAMPLE_LAST_PIXEL = 2211
  SAMPLE_PROJECTION_OFFSET = 1161.875
  SECOND_STANDARD_PARALLEL = "N/A"
  WESTERNMOST_LONGITUDE = 319.758
END_OBJECT = IMAGE_MAP_PROJECTION
END
