PDS_VERSION_ID = PDS3
/* FILE DATA ELEMENTS */
RECORD_TYPE = UNDEFINED
/* POINTERS TO DATA OBJECTS */
^IMAGE = ("H9562_0000_BL4.TIF")
/* IDENTIFICATION DATA ELEMENTS */
DATA_SET_ID = "MEX-M-HRSC-4-REFDR-MAPPROJECT-EXT3-V4.0"
DATA_SET_NAME = "MARS EXPRESS HRSC MAP PROJECTED REFDR EXTENSION3 V4.0"
DETECTOR_ID = MEX_HRSC_BLUE
EVENT_TYPE = "MARS-REGIONAL-MAPPING-Fl-Pf"
INSTRUMENT_HOST_ID = MEX
INSTRUMENT_HOST_NAME = "MARS EXPRESS"
INSTRUMENT_ID = HRSC
INSTRUMENT_NAME = "HIGH RESOLUTION STEREO CAMERA"
MISSION_NAME = "MARS EXPRESS"
MISSION_PHASE_NAME = ME_Phase_23
PROCESSING_LEVEL_ID = 4
PRODUCT_CREATION_TIME = 2023-02-04T12:09:02.000Z
PRODUCT_ID = "H9562_0000_BL4.TIF"
RELEASE_ID = 0007
REVISION_ID = 0000
/* QUALITY DATA ELEMENTS */
DATA_QUALITY_ID = 1
DATA_QUALITY_DESC = "Data calculated based on original SPICE kernels"
/* TIME DATA ELEMENTS */
SPACECRAFT_CLOCK_START_COUNT = "1/0257463224.08546"
SPACECRAFT_CLOCK_STOP_COUNT = "1/0257463493.23796"
START_TIME = 2011-06-29T21:34:32.694Z
STOP_TIME = 2011-06-29T21:37:26.727Z
/* ORBITAL DATA ELEMENTS */
ASCENDING_NODE_LONGITUDE = 34.68
MAXIMUM_RESOLUTION = 0.0692
FOOTPRINT_POINT_LATITUDE = (36.0406,36.0388,36.0364,36.0333, 36.0297,36.0255,36.0172,36.0168,36.0278 ,35.5329,35.1378,34.7433,34.3414, 33.8382,33.4363,33.1286,32.7183,32.3089 ,31.9966,31.7877,31.579,31.3706,31.0559 ,30.8432,30.6308,30.4186,30.2067, 29.9918,29.7756,29.5596,29.3439,29.1284 ,28.9133,28.6984,28.4837,28.2694, 28.0554,27.8416,27.6281,27.415,27.2021, 26.9894,26.7774,26.5651,26.3535,26.142, 25.9308,25.72,25.6147,25.5632,25.5641, 25.5645,25.5644,25.5636,25.5626,25.5609 ,25.5586,25.5585,25.5595,25.7708, 25.9824,26.1943,26.4064,26.6189,26.8316 ,27.0447,27.258,27.4716,27.6855,27.8996 ,28.114,28.3288,28.5439,28.7592,28.9748 ,29.1906,29.4068,29.6231,29.8398, 30.1648,30.3773,30.5901,30.9097,31.123, 31.333,31.5419,31.7511,31.9606,32.2747, 32.6852,33.0965,33.6076,34.0108,34.415, 34.7178,35.1132,35.5093,35.9061,36.0054 ,36.0406)
FOOTPRINT_POINT_LONGITUDE = (321.694,321.427,321.156,320.884, 320.608,320.331,319.874,319.856,319.793 ,319.808,319.819,319.83,319.841,319.852 ,319.861,319.868,319.875,319.883, 319.888,319.891,319.894,319.897,319.901 ,319.903,319.906,319.908,319.91,319.911 ,319.913,319.915,319.916,319.918, 319.919,319.92,319.921,319.921,319.922, 319.922,319.922,319.922,319.922,319.922 ,319.92,319.921,319.92,319.919,319.918, 319.917,319.916,319.916,320.212,320.468 ,320.78,321.09,321.359,321.665,321.968, 321.987,321.993,321.988,321.983,321.979 ,321.974,321.969,321.964,321.959, 321.954,321.948,321.943,321.938,321.932 ,321.927,321.922,321.916,321.91,321.905 ,321.899,321.893,321.887,321.878, 321.872,321.866,321.857,321.851,321.845 ,321.839,321.833,321.826,321.817, 321.804,321.791,321.774,321.761,321.747 ,321.737,321.723,321.708,321.694,321.69 ,321.694)
ORBIT_NUMBER = 9562
ORBITAL_ECCENTRICITY = 0.573
ORBITAL_INCLINATION = 86.89
ORBITAL_SEMIMAJOR_AXIS = 8793.38
PERIAPSIS_ALTITUDE = 372.34
PERIAPSIS_ARGUMENT_ANGLE = 127.37
PERIAPSIS_TIME = 2011-06-29T21:30:07.000Z
SPACECRAFT_ORIENTATION = (0.0,-1.0,0.0)
^MEX_ORIENTATION_DESC = "MEX_ORIENTATION_DESC.TXT"
SPACECRAFT_POINTING_MODE = ACROSSTRACK
^MEX_POINTING_DESC = "MEX_POINTING_DESC.TXT"
RIGHT_ASCENSION = -1e+32
DECLINATION = -1e+32
OFFSET_ANGLE = -0.9
SPACECRAFT_SOLAR_DISTANCE = 2.185e+08
TARGET_NAME = MARS
/* CAMERA DATA ELEMENTS */
DETECTOR_TEMPERATURE = 18.1666
FOCAL_PLANE_TEMPERATURE = 7.7677
INST_CMPRS_NAME = "DISCRETE COSINE TRANSFORMATION (DCT)"
INST_CMPRS_RATIO = 9.96108
INST_CMPRS_QUALITY = 0
INST_CMPRS_QUANTZ_TBL_ID = 0
INSTRUMENT_TEMPERATURE = 11.0301
LENS_TEMPERATURE = 8.3794
MACROPIXEL_SIZE = 4
MISSING_FRAMES = 0
PIXEL_SUBSAMPLING_FLAG = N
SIGNAL_CHAIN_ID = 2
/* RADIOMETRIC DATA ELEMENTS */
BANDWIDTH = 76.0
CENTER_FILTER_WAVELENGTH = 444.0
RADIANCE_OFFSET = 0.784898
RADIANCE_SCALING_FACTOR = 0.00223857
REFLECTANCE_SCALING_FACTOR = 0.000109807
MEX:REFLECTANCE_OFFSET = 0.0385011
/* IMAGE OBJECT DEFINITIONS */
OBJECT = IMAGE
  INTERCHANGE_FORMAT = BINARY
  LINES = 12454
  LINE_SAMPLES = 2211
  SAMPLE_TYPE = UNSIGNED_INTEGER
  SAMPLE_BITS = 8
  BANDS = 1
  BAND_STORAGE_TYPE = BAND_SEQUENTIAL
  MAXIMUM = 255
  MEAN = 96.4854
  MINIMUM = 1
  STANDARD_DEVIATION = 43.5459
END_OBJECT = IMAGE
/* MAP OBJECT DEFINITIONS */
OBJECT = IMAGE_MAP_PROJECTION
  ^DATA_SET_MAP_PROJECTION_CATALOG= "DSMAP.CAT"
  A_AXIS_RADIUS = 3396.0
  B_AXIS_RADIUS = 3396.0
  C_AXIS_RADIUS = 3396.0
  CENTER_LATITUDE = 0.0
  CENTER_LONGITUDE = 321.0
  COORDINATE_SYSTEM_NAME = PLANETOGRAPHIC
  COORDINATE_SYSTEM_TYPE = "BODY-FIXED ROTATING"
  EASTERNMOST_LONGITUDE = 321.993
  FIRST_STANDARD_PARALLEL = "N/A"
  LINE_FIRST_PIXEL = 1
  LINE_LAST_PIXEL = 12454
  LINE_PROJECTION_OFFSET = 42747.625
  MAP_PROJECTION_ROTATION = 0.0
  MAP_PROJECTION_TYPE = SINUSOIDAL
  MAP_RESOLUTION = 1185.42760773333
  MAP_SCALE = 0.05
  MAXIMUM_LATITUDE = 36.0406
  MINIMUM_LATITUDE = 25.5585
  POSITIVE_LONGITUDE_DIRECTION = EAST
  REFERENCE_LATITUDE = "N/A"
  REFERENCE_LONGITUDE = "N/A"
  SAMPLE_FIRST_PIXEL = 1
  SAMPLE_LAST_PIXEL = 2211
  SAMPLE_PROJECTION_OFFSET = 1161.875
  SECOND_STANDARD_PARALLEL = "N/A"
  WESTERNMOST_LONGITUDE = 319.793
END_OBJECT = IMAGE_MAP_PROJECTION
END
