PDS_VERSION_ID = PDS3
/* FILE DATA ELEMENTS */
RECORD_TYPE = UNDEFINED
/* POINTERS TO DATA OBJECTS */
^IMAGE = ("H9516_0000_S14.TIF")
/* IDENTIFICATION DATA ELEMENTS */
DATA_SET_ID = "MEX-M-HRSC-4-REFDR-MAPPROJECT-EXT3-V4.0"
DATA_SET_NAME = "MARS EXPRESS HRSC MAP PROJECTED REFDR EXTENSION3 V4.0"
DETECTOR_ID = MEX_HRSC_S1
EVENT_TYPE = "MARS-REGIONAL-MAPPING-Vo-Im-Pf"
INSTRUMENT_HOST_ID = MEX
INSTRUMENT_HOST_NAME = "MARS EXPRESS"
INSTRUMENT_ID = HRSC
INSTRUMENT_NAME = "HIGH RESOLUTION STEREO CAMERA"
MISSION_NAME = "MARS EXPRESS"
MISSION_PHASE_NAME = ME_Phase_23
PROCESSING_LEVEL_ID = 4
PRODUCT_CREATION_TIME = 2023-02-04T12:09:02.000Z
PRODUCT_ID = "H9516_0000_S14.TIF"
RELEASE_ID = 0007
REVISION_ID = 0000
/* QUALITY DATA ELEMENTS */
DATA_QUALITY_ID = 1
DATA_QUALITY_DESC = "Data calculated based on original SPICE kernels"
/* TIME DATA ELEMENTS */
SPACECRAFT_CLOCK_START_COUNT = "1/0256304706.09052"
SPACECRAFT_CLOCK_STOP_COUNT = "1/0256305013.25696"
START_TIME = 2011-06-16T11:45:09.173Z
STOP_TIME = 2011-06-16T11:49:01.300Z
/* ORBITAL DATA ELEMENTS */
ASCENDING_NODE_LONGITUDE = 35.55
MAXIMUM_RESOLUTION = 0.0315
FOOTPRINT_POINT_LATITUDE = (48.1567,48.1175,48.0735,48.0145, 48.0128,47.9091,47.4585,47.1576,46.8564 ,46.5553,46.254,45.9514,45.6492,45.347, 44.8921,44.5887,44.133,43.8289,43.5245, 43.2199,42.9151,42.6186,42.3617,41.9784 ,41.3368,40.9513,40.6944,40.4368, 40.1329,39.825,39.3643,38.9023,38.4399, 38.1315,37.6688,37.3598,37.0514,36.7423 ,36.4327,35.9688,35.6591,35.3493, 35.0401,34.7299,34.4201,33.956,33.6455, 33.1807,33.0255,32.9936,33.0307,33.0779 ,33.0969,33.0978,33.0986,33.5664, 33.8752,34.1883,34.4991,34.8088,35.2736 ,35.584,35.8939,36.3592,36.8232,37.1331 ,37.5977,38.0613,38.5254,38.8349, 39.1441,39.4525,39.7619,40.0687,40.3766 ,40.791,41.0491,41.436,41.6938,41.9513, 42.2084,42.594,43.0153,43.3212,43.6272, 43.9327,44.2382,44.5434,44.848,45.1526, 45.4572,45.7568,46.0648,46.3679,46.6706 ,47.125,47.4269,47.8795,48.0304, 48.1567)
FOOTPRINT_POINT_LONGITUDE = (346.313,345.722,345.121,344.392, 344.373,344.275,344.324,344.356,344.388 ,344.419,344.449,344.479,344.508, 344.536,344.577,344.604,344.643,344.668 ,344.693,344.717,344.741,344.763, 344.781,344.81,344.854,344.879,344.896, 344.911,344.93,344.948,344.975,345.001, 345.025,345.041,345.064,345.078,345.093 ,345.107,345.12,345.139,345.152,345.163 ,345.175,345.186,345.197,345.213, 345.223,345.237,345.242,345.243,345.781 ,346.53,346.873,346.888,346.894,346.882 ,346.874,346.866,346.858,346.849, 346.836,346.827,346.818,346.805,346.791 ,346.781,346.766,346.751,346.736, 346.725,346.714,346.703,346.692,346.681 ,346.669,346.654,346.644,346.628, 346.618,346.608,346.597,346.581,346.563 ,346.549,346.535,346.521,346.507, 346.493,346.478,346.463,346.448,346.432 ,346.417,346.401,346.384,346.36,346.343 ,346.317,346.308,346.313)
ORBIT_NUMBER = 9516
ORBITAL_ECCENTRICITY = 0.574
ORBITAL_INCLINATION = 86.88
ORBITAL_SEMIMAJOR_AXIS = 8807.4
PERIAPSIS_ALTITUDE = 367.44
PERIAPSIS_ARGUMENT_ANGLE = 135.31
PERIAPSIS_TIME = 2011-06-16T11:46:36.000Z
SPACECRAFT_ORIENTATION = (0.0,-1.0,0.0)
^MEX_ORIENTATION_DESC = "MEX_ORIENTATION_DESC.TXT"
SPACECRAFT_POINTING_MODE = ACROSSTRACK
^MEX_POINTING_DESC = "MEX_POINTING_DESC.TXT"
RIGHT_ASCENSION = -1e+32
DECLINATION = -1e+32
OFFSET_ANGLE = -0.83
SPACECRAFT_SOLAR_DISTANCE = 2.16129e+08
TARGET_NAME = MARS
/* CAMERA DATA ELEMENTS */
DETECTOR_TEMPERATURE = 17.351
FOCAL_PLANE_TEMPERATURE = 8.3794
INST_CMPRS_NAME = "DISCRETE COSINE TRANSFORMATION (DCT)"
INST_CMPRS_RATIO = 10.7456
INST_CMPRS_QUALITY = 0
INST_CMPRS_QUANTZ_TBL_ID = 0
INSTRUMENT_TEMPERATURE = 11.234
LENS_TEMPERATURE = 8.5833
MACROPIXEL_SIZE = 2
MISSING_FRAMES = 0
PIXEL_SUBSAMPLING_FLAG = N
SIGNAL_CHAIN_ID = 1
/* RADIOMETRIC DATA ELEMENTS */
BANDWIDTH = 180.0
CENTER_FILTER_WAVELENGTH = 677.0
RADIANCE_OFFSET = 3.31656
RADIANCE_SCALING_FACTOR = 0.0171867
REFLECTANCE_SCALING_FACTOR = 0.000418849
MEX:REFLECTANCE_OFFSET = 0.0808266
/* IMAGE OBJECT DEFINITIONS */
OBJECT = IMAGE
  INTERCHANGE_FORMAT = BINARY
  LINES = 35546
  LINE_SAMPLES = 4539
  SAMPLE_TYPE = UNSIGNED_INTEGER
  SAMPLE_BITS = 8
  BANDS = 1
  BAND_STORAGE_TYPE = BAND_SEQUENTIAL
  MAXIMUM = 255
  MEAN = 64.8204
  MINIMUM = 1
  STANDARD_DEVIATION = 30.0392
END_OBJECT = IMAGE
/* MAP OBJECT DEFINITIONS */
OBJECT = IMAGE_MAP_PROJECTION
  ^DATA_SET_MAP_PROJECTION_CATALOG= "DSMAP.CAT"
  A_AXIS_RADIUS = 3396.0
  B_AXIS_RADIUS = 3396.0
  C_AXIS_RADIUS = 3396.0
  CENTER_LATITUDE = 0.0
  CENTER_LONGITUDE = 346.0
  COORDINATE_SYSTEM_NAME = PLANETOGRAPHIC
  COORDINATE_SYSTEM_TYPE = "BODY-FIXED ROTATING"
  EASTERNMOST_LONGITUDE = 346.894
  FIRST_STANDARD_PARALLEL = "N/A"
  LINE_FIRST_PIXEL = 1
  LINE_LAST_PIXEL = 35546
  LINE_PROJECTION_OFFSET = 113934.25
  MAP_PROJECTION_ROTATION = 0.0
  MAP_PROJECTION_TYPE = SINUSOIDAL
  MAP_RESOLUTION = 2370.85521546667
  MAP_SCALE = 0.025
  MAXIMUM_LATITUDE = 48.1567
  MINIMUM_LATITUDE = 32.9936
  POSITIVE_LONGITUDE_DIRECTION = EAST
  REFERENCE_LATITUDE = "N/A"
  REFERENCE_LONGITUDE = "N/A"
  SAMPLE_FIRST_PIXEL = 1
  SAMPLE_LAST_PIXEL = 4539
  SAMPLE_PROJECTION_OFFSET = 2723.25
  SECOND_STANDARD_PARALLEL = "N/A"
  WESTERNMOST_LONGITUDE = 344.275
END_OBJECT = IMAGE_MAP_PROJECTION
END
