PDS_VERSION_ID = PDS3
/* FILE DATA ELEMENTS */
RECORD_TYPE = UNDEFINED
/* POINTERS TO DATA OBJECTS */
^IMAGE = ("H9385_0000_BL4.TIF")
/* IDENTIFICATION DATA ELEMENTS */
DATA_SET_ID = "MEX-M-HRSC-4-REFDR-MAPPROJECT-EXT3-V4.0"
DATA_SET_NAME = "MARS EXPRESS HRSC MAP PROJECTED REFDR EXTENSION3 V4.0"
DETECTOR_ID = MEX_HRSC_BLUE
EVENT_TYPE = "MARS-REGIONAL-MAPPING-Im-Fl-La"
INSTRUMENT_HOST_ID = MEX
INSTRUMENT_HOST_NAME = "MARS EXPRESS"
INSTRUMENT_ID = HRSC
INSTRUMENT_NAME = "HIGH RESOLUTION STEREO CAMERA"
MISSION_NAME = "MARS EXPRESS"
MISSION_PHASE_NAME = ME_Phase_23
PROCESSING_LEVEL_ID = 4
PRODUCT_CREATION_TIME = 2023-02-04T05:05:37.000Z
PRODUCT_ID = "H9385_0000_BL4.TIF"
RELEASE_ID = 0006
REVISION_ID = 0000
/* QUALITY DATA ELEMENTS */
DATA_QUALITY_ID = 1
DATA_QUALITY_DESC = "Data calculated based on original SPICE kernels"
/* TIME DATA ELEMENTS */
SPACECRAFT_CLOCK_START_COUNT = "1/0253006706.09050"
SPACECRAFT_CLOCK_STOP_COUNT = "1/0253006969.00033"
START_TIME = 2011-05-09T07:39:13.074Z
STOP_TIME = 2011-05-09T07:42:02.241Z
/* ORBITAL DATA ELEMENTS */
ASCENDING_NODE_LONGITUDE = 38.06
MAXIMUM_RESOLUTION = 0.067
FOOTPRINT_POINT_LATITUDE = (3.9608,3.96183,3.96242,3.963,3.96357, 3.9641,3.9646,3.96463,3.96108,3.39903, 3.02508,2.64406,2.262,1.88067,1.49266, 1.10336,0.714908,0.516457,0.318014, 0.119764,-0.0783184,-0.276416,-0.47732, -0.679067,-0.880883,-1.08246,-1.28371, -1.48912,-1.79721,-2.00235,-2.20725, -2.41625,-2.62549,-2.83485,-3.0428, -3.2543,-3.46703,-3.67936,-3.89137, -4.10584,-4.3217,-4.53739,-4.86253, -5.0818,-5.30093,-5.51974,-5.85383, -6.07651,-6.18748,-6.22897,-6.23067, -6.23313,-6.23444,-6.23553,-6.23634, -6.23676,-6.23679,-6.23558,-6.01306, -5.7911,-5.56818,-5.34901,-5.1307, -4.91028,-4.69164,-4.47604,-4.2602, -3.93673,-3.72503,-3.5111,-3.29838, -3.086,-2.87757,-2.66875,-2.4601, -2.25195,-2.04708,-1.73893,-1.53334, -1.22629,-1.02488,-0.82315,-0.621132, -0.418817,-0.21872,-0.0208807,0.177401, 0.375806,0.574403,0.771468,1.16028, 1.54981,1.84142,2.22291,2.60509,2.98715 ,3.36106,3.82953,3.92333,3.9608)
FOOTPRINT_POINT_LONGITUDE = (67.989,67.6195,67.3948,67.1721,66.9516 ,66.7328,66.5157,66.5022,66.498,66.4846 ,66.4755,66.4661,66.4564,66.4467, 66.4366,66.4263,66.4158,66.4104,66.405, 66.3995,66.3939,66.3883,66.3827,66.3769 ,66.3711,66.3653,66.3594,66.3534, 66.3442,66.338,66.3318,66.3254,66.319, 66.3125,66.306,66.2994,66.2926,66.2859, 66.279,66.2721,66.265,66.2579,66.2471, 66.2398,66.2323,66.2249,66.2134,66.2057 ,66.2018,66.2004,66.4862,66.8431, 67.0999,67.4111,67.7251,68.0247,68.0424 ,68.0482,68.0462,68.0413,68.0384, 68.0362,68.0311,68.0319,68.0308,68.0288 ,68.0267,68.0229,68.02,68.0235,68.0222, 68.0202,68.0182,68.0167,68.0137,68.0081 ,68.0044,68.0031,68.0018,67.9999, 67.9983,67.997,67.996,67.9951,67.995, 67.9935,67.9929,67.9919,67.9909,67.99, 67.9884,67.9866,67.9857,67.9846,67.9836 ,67.9826,67.9814,67.9805,67.9803, 67.989)
ORBIT_NUMBER = 9385
ORBITAL_ECCENTRICITY = 0.577
ORBITAL_INCLINATION = 86.87
ORBITAL_SEMIMAJOR_AXIS = 8849.41
PERIAPSIS_ALTITUDE = 351.66
PERIAPSIS_ARGUMENT_ANGLE = 158.05
PERIAPSIS_TIME = 2011-05-09T07:34:26.000Z
SPACECRAFT_ORIENTATION = (0.0,-1.0,0.0)
^MEX_ORIENTATION_DESC = "MEX_ORIENTATION_DESC.TXT"
SPACECRAFT_POINTING_MODE = ACROSSTRACK
^MEX_POINTING_DESC = "MEX_POINTING_DESC.TXT"
RIGHT_ASCENSION = -1e+32
DECLINATION = -1e+32
OFFSET_ANGLE = 0.85
SPACECRAFT_SOLAR_DISTANCE = 2.10479e+08
TARGET_NAME = MARS
/* CAMERA DATA ELEMENTS */
DETECTOR_TEMPERATURE = 18.3705
FOCAL_PLANE_TEMPERATURE = 8.5833
INST_CMPRS_NAME = "DISCRETE COSINE TRANSFORMATION (DCT)"
INST_CMPRS_RATIO = 6.91796
INST_CMPRS_QUALITY = 0
INST_CMPRS_QUANTZ_TBL_ID = 0
INSTRUMENT_TEMPERATURE = 10.8262
LENS_TEMPERATURE = 9.195
MACROPIXEL_SIZE = 4
MISSING_FRAMES = 0
PIXEL_SUBSAMPLING_FLAG = N
SIGNAL_CHAIN_ID = 2
/* RADIOMETRIC DATA ELEMENTS */
BANDWIDTH = 76.0
CENTER_FILTER_WAVELENGTH = 444.0
RADIANCE_OFFSET = 0.462901
RADIANCE_SCALING_FACTOR = 0.00163194
REFLECTANCE_SCALING_FACTOR = 7.42808e-05
MEX:REFLECTANCE_OFFSET = 0.0210699
/* IMAGE OBJECT DEFINITIONS */
OBJECT = IMAGE
  INTERCHANGE_FORMAT = BINARY
  LINES = 12097
  LINE_SAMPLES = 2164
  SAMPLE_TYPE = UNSIGNED_INTEGER
  SAMPLE_BITS = 8
  BANDS = 1
  BAND_STORAGE_TYPE = BAND_SEQUENTIAL
  MAXIMUM = 255
  MEAN = 123.701
  MINIMUM = 1
  STANDARD_DEVIATION = 26.7234
END_OBJECT = IMAGE
/* MAP OBJECT DEFINITIONS */
OBJECT = IMAGE_MAP_PROJECTION
  ^DATA_SET_MAP_PROJECTION_CATALOG= "DSMAP.CAT"
  A_AXIS_RADIUS = 3396.0
  B_AXIS_RADIUS = 3396.0
  C_AXIS_RADIUS = 3396.0
  CENTER_LATITUDE = 0.0
  CENTER_LONGITUDE = 67.0
  COORDINATE_SYSTEM_NAME = PLANETOGRAPHIC
  COORDINATE_SYSTEM_TYPE = "BODY-FIXED ROTATING"
  EASTERNMOST_LONGITUDE = 68.04819999999999
  FIRST_STANDARD_PARALLEL = "N/A"
  LINE_FIRST_PIXEL = 1
  LINE_LAST_PIXEL = 12097
  LINE_PROJECTION_OFFSET = 4700.125
  MAP_PROJECTION_ROTATION = 0.0
  MAP_PROJECTION_TYPE = SINUSOIDAL
  MAP_RESOLUTION = 1185.42760773333
  MAP_SCALE = 0.05
  MAXIMUM_LATITUDE = 3.96463
  MINIMUM_LATITUDE = -6.23679
  POSITIVE_LONGITUDE_DIRECTION = EAST
  REFERENCE_LATITUDE = "N/A"
  REFERENCE_LONGITUDE = "N/A"
  SAMPLE_FIRST_PIXEL = 1
  SAMPLE_LAST_PIXEL = 2164
  SAMPLE_PROJECTION_OFFSET = 941.875
  SECOND_STANDARD_PARALLEL = "N/A"
  WESTERNMOST_LONGITUDE = 66.2004
END_OBJECT = IMAGE_MAP_PROJECTION
END
