PDS_VERSION_ID = PDS3
/* FILE DATA ELEMENTS */
RECORD_TYPE = UNDEFINED
/* POINTERS TO DATA OBJECTS */
^IMAGE = ("H9237_0000_GR4.TIF")
/* IDENTIFICATION DATA ELEMENTS */
DATA_SET_ID = "MEX-M-HRSC-4-REFDR-MAPPROJECT-EXT3-V4.0"
DATA_SET_NAME = "MARS EXPRESS HRSC MAP PROJECTED REFDR EXTENSION3 V4.0"
DETECTOR_ID = MEX_HRSC_GREEN
EVENT_TYPE = "MARS-REGIONAL-MAPPING-Im-Fl-La"
INSTRUMENT_HOST_ID = MEX
INSTRUMENT_HOST_NAME = "MARS EXPRESS"
INSTRUMENT_ID = HRSC
INSTRUMENT_NAME = "HIGH RESOLUTION STEREO CAMERA"
MISSION_NAME = "MARS EXPRESS"
MISSION_PHASE_NAME = ME_Phase_22
PROCESSING_LEVEL_ID = 4
PRODUCT_CREATION_TIME = 2023-02-04T05:05:37.000Z
PRODUCT_ID = "H9237_0000_GR4.TIF"
RELEASE_ID = 0006
REVISION_ID = 0000
/* QUALITY DATA ELEMENTS */
DATA_QUALITY_ID = 1
DATA_QUALITY_DESC = "Data calculated based on original SPICE kernels"
/* TIME DATA ELEMENTS */
SPACECRAFT_CLOCK_START_COUNT = "1/0249280444.08241"
SPACECRAFT_CLOCK_STOP_COUNT = "1/0249280783.30634"
START_TIME = 2011-03-27T04:34:44.002Z
STOP_TIME = 2011-03-27T04:38:09.111Z
/* ORBITAL DATA ELEMENTS */
ASCENDING_NODE_LONGITUDE = 40.91
MAXIMUM_RESOLUTION = 0.1566
FOOTPRINT_POINT_LATITUDE = (-30.2478,-30.2499,-30.2515,-30.2525, -30.2528,-30.2526,-30.251,-30.2509, -30.2596,-30.681,-30.9968,-31.3186, -31.7469,-32.0727,-32.5075,-32.8389, -33.281,-33.6177,-33.8423,-34.0674, -34.2961,-34.5238,-34.8683,-35.1004, -35.4483,-35.8015,-36.0361,-36.2738, -36.5121,-36.8716,-37.1137,-37.3552, -37.6003,-37.9679,-38.2161,-38.4648, -38.7148,-38.9665,-39.2182,-39.4734, -39.7281,-39.9864,-40.2445,-40.5053, -40.7667,-41.1626,-41.4271,-41.6951, -42.0984,-42.2338,-42.3138,-42.3157, -42.3161,-42.3142,-42.3076,-42.3016, -42.2929,-42.2924,-42.2889,-41.8843, -41.6175,-41.3506,-41.0871,-40.8228, -40.5621,-40.3007,-40.0433,-39.6575, -39.4035,-39.149,-38.8979,-38.5217, -38.2739,-37.9024,-37.6578,-37.2917, -37.0505,-36.6889,-36.451,-36.2128, -35.8588,-35.6233,-35.3888,-35.1575, -34.9258,-34.6946,-34.467,-34.2388, -34.0109,-33.7866,-33.4508,-33.1166, -32.7845,-32.3461,-31.9116,-31.4812, -30.9472,-30.4223,-30.317,-30.2478)
FOOTPRINT_POINT_LONGITUDE = (84.4603,84.1732,83.8841,83.5923, 83.2985,83.0022,82.5332,82.5143,82.4733 ,82.4563,82.4414,82.427,82.4078,82.3947 ,82.3779,82.3621,82.3434,82.3298, 82.3201,82.3097,82.2989,82.2914,82.274, 82.2624,82.2438,82.2262,82.2164,82.2056 ,82.195,82.177,82.1647,82.1529,82.1402, 82.1215,82.1105,82.0963,82.0837,82.0715 ,82.0586,82.0457,82.0323,82.0186, 82.0048,81.9903,81.9758,81.9541,81.9393 ,81.9242,81.9012,81.8935,81.8891, 82.3372,82.7866,83.3216,84.0588,84.5259 ,84.9904,85.0194,85.0384,85.0094, 84.9905,84.972,84.9543,84.9366,84.9196, 84.9028,84.8866,84.863,84.8479,84.8329, 84.8184,84.7972,84.7836,84.7636,84.7508 ,84.732,84.7199,84.7023,84.6909,84.6797 ,84.6634,84.6527,84.6424,84.6324, 84.6226,84.6129,84.6036,84.5944,84.5854 ,84.5768,84.564,84.5517,84.5398,84.5246 ,84.51,84.4962,84.4797,84.464,84.461, 84.4603)
ORBIT_NUMBER = 9237
ORBITAL_ECCENTRICITY = 0.579
ORBITAL_INCLINATION = 86.85
ORBITAL_SEMIMAJOR_AXIS = 8863.22
PERIAPSIS_ALTITUDE = 336.58
PERIAPSIS_ARGUMENT_ANGLE = 183.69
PERIAPSIS_TIME = 2011-03-27T04:27:52.000Z
SPACECRAFT_ORIENTATION = (0.0,-1.0,0.0)
^MEX_ORIENTATION_DESC = "MEX_ORIENTATION_DESC.TXT"
SPACECRAFT_POINTING_MODE = ACROSSTRACK
^MEX_POINTING_DESC = "MEX_POINTING_DESC.TXT"
RIGHT_ASCENSION = -1e+32
DECLINATION = -1e+32
OFFSET_ANGLE = -0.9
SPACECRAFT_SOLAR_DISTANCE = 2.06986e+08
TARGET_NAME = MARS
/* CAMERA DATA ELEMENTS */
DETECTOR_TEMPERATURE = 18.3705
FOCAL_PLANE_TEMPERATURE = 8.5833
INST_CMPRS_NAME = "DISCRETE COSINE TRANSFORMATION (DCT)"
INST_CMPRS_RATIO = 34.0854
INST_CMPRS_QUALITY = 0
INST_CMPRS_QUANTZ_TBL_ID = 0
INSTRUMENT_TEMPERATURE = 11.234
LENS_TEMPERATURE = 8.7872
MACROPIXEL_SIZE = 8
MISSING_FRAMES = 0
PIXEL_SUBSAMPLING_FLAG = N
SIGNAL_CHAIN_ID = 2
/* RADIOMETRIC DATA ELEMENTS */
BANDWIDTH = 88.0
CENTER_FILTER_WAVELENGTH = 538.0
RADIANCE_OFFSET = 0.674534
RADIANCE_SCALING_FACTOR = 0.00335063
REFLECTANCE_SCALING_FACTOR = 0.000123593
MEX:REFLECTANCE_OFFSET = 0.0248813
/* IMAGE OBJECT DEFINITIONS */
OBJECT = IMAGE
  INTERCHANGE_FORMAT = BINARY
  LINES = 3575
  LINE_SAMPLES = 712
  SAMPLE_TYPE = UNSIGNED_INTEGER
  SAMPLE_BITS = 8
  BANDS = 1
  BAND_STORAGE_TYPE = BAND_SEQUENTIAL
  MAXIMUM = 255
  MEAN = 113.404
  MINIMUM = 3
  STANDARD_DEVIATION = 55.9064
END_OBJECT = IMAGE
/* MAP OBJECT DEFINITIONS */
OBJECT = IMAGE_MAP_PROJECTION
  ^DATA_SET_MAP_PROJECTION_CATALOG= "DSMAP.CAT"
  A_AXIS_RADIUS = 3396.0
  B_AXIS_RADIUS = 3396.0
  C_AXIS_RADIUS = 3396.0
  CENTER_LATITUDE = 0.0
  CENTER_LONGITUDE = 83.0
  COORDINATE_SYSTEM_NAME = PLANETOGRAPHIC
  COORDINATE_SYSTEM_TYPE = "BODY-FIXED ROTATING"
  EASTERNMOST_LONGITUDE = 85.0384
  FIRST_STANDARD_PARALLEL = "N/A"
  LINE_FIRST_PIXEL = 1
  LINE_LAST_PIXEL = 3575
  LINE_PROJECTION_OFFSET = -8964.1875
  MAP_PROJECTION_ROTATION = 0.0
  MAP_PROJECTION_TYPE = SINUSOIDAL
  MAP_RESOLUTION = 296.356901933333
  MAP_SCALE = 0.2
  MAXIMUM_LATITUDE = -30.2478
  MINIMUM_LATITUDE = -42.3161
  POSITIVE_LONGITUDE_DIRECTION = EAST
  REFERENCE_LATITUDE = "N/A"
  REFERENCE_LONGITUDE = "N/A"
  SAMPLE_FIRST_PIXEL = 1
  SAMPLE_LAST_PIXEL = 712
  SAMPLE_PROJECTION_OFFSET = 257.3125
  SECOND_STANDARD_PARALLEL = "N/A"
  WESTERNMOST_LONGITUDE = 81.8891
END_OBJECT = IMAGE_MAP_PROJECTION
END
