PDS_VERSION_ID = PDS3
/* FILE DATA ELEMENTS */
RECORD_TYPE = UNDEFINED
/* POINTERS TO DATA OBJECTS */
^IMAGE = ("H8635_0000_S24.TIF")
/* IDENTIFICATION DATA ELEMENTS */
DATA_SET_ID = "MEX-M-HRSC-4-REFDR-MAPPROJECT-EXT3-V4.0"
DATA_SET_NAME = "MARS EXPRESS HRSC MAP PROJECTED REFDR EXTENSION3 V4.0"
DETECTOR_ID = MEX_HRSC_S2
EVENT_TYPE = "MARS-REGIONAL-MAPPING-Im-Fl"
INSTRUMENT_HOST_ID = MEX
INSTRUMENT_HOST_NAME = "MARS EXPRESS"
INSTRUMENT_ID = HRSC
INSTRUMENT_NAME = "HIGH RESOLUTION STEREO CAMERA"
MISSION_NAME = "MARS EXPRESS"
MISSION_PHASE_NAME = ME_Phase_21
PROCESSING_LEVEL_ID = 4
PRODUCT_CREATION_TIME = 2023-02-03T21:13:30.000Z
PRODUCT_ID = "H8635_0000_S24.TIF"
RELEASE_ID = 0005
REVISION_ID = 0000
/* QUALITY DATA ELEMENTS */
DATA_QUALITY_ID = 1
DATA_QUALITY_DESC = "Data calculated based on original SPICE kernels"
/* TIME DATA ELEMENTS */
SPACECRAFT_CLOCK_START_COUNT = "1/0234122288.08271"
SPACECRAFT_CLOCK_STOP_COUNT = "1/0234122530.24258"
START_TIME = 2010-10-02T17:58:10.767Z
STOP_TIME = 2010-10-02T18:00:40.115Z
/* ORBITAL DATA ELEMENTS */
ASCENDING_NODE_LONGITUDE = 52.37
MAXIMUM_RESOLUTION = 0.0306
FOOTPRINT_POINT_LATITUDE = (-56.4403,-56.4033,-56.3612,-56.304, -56.3024,-56.2275,-55.8966,-55.5669, -55.1066,-54.9092,-54.7096,-54.3196, -54.1208,-53.9225,-53.7241,-53.5265, -53.3273,-53.1301,-52.8341,-52.6362, -52.439,-52.2415,-52.044,-51.847, -51.6498,-51.4531,-51.2561,-50.9607, -50.7637,-50.5666,-50.1734,-49.7806, -49.5788,-49.2769,-49.0761,-48.8738, -48.6723,-48.4674,-48.261,-48.0545, -47.8486,-47.6476,-47.4386,-47.2275, -47.0208,-46.8106,-46.4952,-46.3882, -46.387,-46.4089,-46.4289,-46.4513, -46.4664,-46.4781,-46.4919,-46.4928, -46.4936,-46.8124,-47.0231,-47.2354, -47.4469,-47.6567,-47.9666,-48.1731, -48.3798,-48.5863,-48.7916,-49.0941, -49.2962,-49.5989,-49.8012,-50.0991, -50.2959,-50.4936,-50.7893,-50.9868, -51.1841,-51.3822,-51.6789,-51.8757, -52.0735,-52.2721,-52.5695,-52.7673, -52.9641,-53.1622,-53.3606,-53.5594, -53.858,-54.0576,-54.2566,-54.5523, -54.7492,-54.9474,-55.1457,-55.5396, -55.8725,-56.287,-56.3699,-56.4403)
FOOTPRINT_POINT_LONGITUDE = (270.748,270.069,269.383,268.559, 268.538,268.477,268.528,268.577,268.64, 268.667,268.692,268.748,268.772,268.797 ,268.82,268.844,268.867,268.89,268.924, 268.945,268.967,268.988,269.009,269.03, 269.05,269.07,269.089,269.117,269.136, 269.154,269.189,269.223,269.24,269.265, 269.281,269.297,269.312,269.327,269.343 ,269.357,269.372,269.39,269.403,269.417 ,269.433,269.447,269.467,269.473, 269.473,269.843,270.212,270.687,271.031 ,271.332,271.674,271.695,271.703, 271.681,271.666,271.651,271.636,271.621 ,271.598,271.583,271.567,271.551, 271.535,271.512,271.495,271.471,271.454 ,271.429,271.412,271.394,271.368, 271.351,271.333,271.314,271.286,271.268 ,271.249,271.229,271.2,271.18,271.16, 271.139,271.118,271.097,271.065,271.043 ,271.02,270.987,270.965,270.942,270.918 ,270.87,270.829,270.776,270.766, 270.748)
ORBIT_NUMBER = 8635
ORBITAL_ECCENTRICITY = 0.578
ORBITAL_INCLINATION = 86.83
ORBITAL_SEMIMAJOR_AXIS = 8767.25
PERIAPSIS_ALTITUDE = 320.34
PERIAPSIS_ARGUMENT_ANGLE = 286.5
PERIAPSIS_TIME = 2010-10-02T17:54:24.000Z
SPACECRAFT_ORIENTATION = (0.0,1.0,0.0)
^MEX_ORIENTATION_DESC = "MEX_ORIENTATION_DESC.TXT"
SPACECRAFT_POINTING_MODE = ACROSSTRACK
^MEX_POINTING_DESC = "MEX_POINTING_DESC.TXT"
RIGHT_ASCENSION = -1e+32
DECLINATION = -1e+32
OFFSET_ANGLE = 0.458
SPACECRAFT_SOLAR_DISTANCE = 2.27209e+08
TARGET_NAME = MARS
/* CAMERA DATA ELEMENTS */
DETECTOR_TEMPERATURE = 17.7588
FOCAL_PLANE_TEMPERATURE = 7.5638
INST_CMPRS_NAME = "DISCRETE COSINE TRANSFORMATION (DCT)"
INST_CMPRS_RATIO = 12.9862
INST_CMPRS_QUALITY = 0
INST_CMPRS_QUANTZ_TBL_ID = 0
INSTRUMENT_TEMPERATURE = 11.0301
LENS_TEMPERATURE = 7.7677
MACROPIXEL_SIZE = 2
MISSING_FRAMES = 0
PIXEL_SUBSAMPLING_FLAG = N
SIGNAL_CHAIN_ID = 1
/* RADIOMETRIC DATA ELEMENTS */
BANDWIDTH = 178.0
CENTER_FILTER_WAVELENGTH = 679.0
RADIANCE_OFFSET = 2.8477
RADIANCE_SCALING_FACTOR = 0.0143582
REFLECTANCE_SCALING_FACTOR = 0.000392534
MEX:REFLECTANCE_OFFSET = 0.0778526
/* IMAGE OBJECT DEFINITIONS */
OBJECT = IMAGE
  INTERCHANGE_FORMAT = BINARY
  LINES = 23576
  LINE_SAMPLES = 4941
  SAMPLE_TYPE = UNSIGNED_INTEGER
  SAMPLE_BITS = 8
  BANDS = 1
  BAND_STORAGE_TYPE = BAND_SEQUENTIAL
  MAXIMUM = 255
  MEAN = 133.423
  MINIMUM = 1
  STANDARD_DEVIATION = 53.5905
END_OBJECT = IMAGE
/* MAP OBJECT DEFINITIONS */
OBJECT = IMAGE_MAP_PROJECTION
  ^DATA_SET_MAP_PROJECTION_CATALOG= "DSMAP.CAT"
  A_AXIS_RADIUS = 3396.0
  B_AXIS_RADIUS = 3396.0
  C_AXIS_RADIUS = 3396.0
  CENTER_LATITUDE = 0.0
  CENTER_LONGITUDE = 270.0
  COORDINATE_SYSTEM_NAME = PLANETOGRAPHIC
  COORDINATE_SYSTEM_TYPE = "BODY-FIXED ROTATING"
  EASTERNMOST_LONGITUDE = 271.703
  FIRST_STANDARD_PARALLEL = "N/A"
  LINE_FIRST_PIXEL = 1
  LINE_LAST_PIXEL = 23576
  LINE_PROJECTION_OFFSET = -109958.25
  MAP_PROJECTION_ROTATION = 0.0
  MAP_PROJECTION_TYPE = SINUSOIDAL
  MAP_RESOLUTION = 2370.85521546667
  MAP_SCALE = 0.025
  MAXIMUM_LATITUDE = -46.387
  MINIMUM_LATITUDE = -56.4403
  POSITIVE_LONGITUDE_DIRECTION = EAST
  REFERENCE_LATITUDE = "N/A"
  REFERENCE_LONGITUDE = "N/A"
  SAMPLE_FIRST_PIXEL = 1
  SAMPLE_LAST_PIXEL = 4941
  SAMPLE_PROJECTION_OFFSET = 2054.25
  SECOND_STANDARD_PARALLEL = "N/A"
  WESTERNMOST_LONGITUDE = 268.477
END_OBJECT = IMAGE_MAP_PROJECTION
END
