PDS_VERSION_ID = PDS3
/* FILE DATA ELEMENTS */
RECORD_TYPE = UNDEFINED
/* POINTERS TO DATA OBJECTS */
^IMAGE = ("H7813_0018_GR4.TIF")
/* IDENTIFICATION DATA ELEMENTS */
DATA_SET_ID = "MEX-M-HRSC-4-REFDR-MAPPROJECT-EXT3-V4.0"
DATA_SET_NAME = "MARS EXPRESS HRSC MAP PROJECTED REFDR EXTENSION3 V4.0"
DETECTOR_ID = MEX_HRSC_GREEN
EVENT_TYPE = "MARS-CLOUD-VARIABLE-At"
INSTRUMENT_HOST_ID = MEX
INSTRUMENT_HOST_NAME = "MARS EXPRESS"
INSTRUMENT_ID = HRSC
INSTRUMENT_NAME = "HIGH RESOLUTION STEREO CAMERA"
MISSION_NAME = "MARS EXPRESS"
MISSION_PHASE_NAME = ME_Phase_20
PROCESSING_LEVEL_ID = 4
PRODUCT_CREATION_TIME = 2023-02-02T15:10:19.000Z
PRODUCT_ID = "H7813_0018_GR4.TIF"
RELEASE_ID = 0003
REVISION_ID = 0000
/* QUALITY DATA ELEMENTS */
DATA_QUALITY_ID = 1
DATA_QUALITY_DESC = "Data calculated based on original SPICE kernels"
/* TIME DATA ELEMENTS */
SPACECRAFT_CLOCK_START_COUNT = "1/0213458976.08273"
SPACECRAFT_CLOCK_STOP_COUNT = "1/0213460307.38574"
START_TIME = 2010-02-05T14:12:35.320Z
STOP_TIME = 2010-02-05T14:31:48.090Z
/* ORBITAL DATA ELEMENTS */
ASCENDING_NODE_LONGITUDE = 68.22
MAXIMUM_RESOLUTION = 0.2743
FOOTPRINT_POINT_LATITUDE = (22.4256,22.1567,21.9639,21.7727, 21.5832,21.395,21.2084,21.023,20.8386, 20.6551,20.4721,20.2896,20.0393,20.0166 ,20.0319,18.7477,17.8956,17.0465,15.774 ,14.507,13.6677,12.409,11.5747,10.7422, 9.91147,9.08231,8.25429,7.42771,6.59884 ,4.95089,3.30644,1.66413,0.0232777, -1.20695,-3.25762,-4.48996,-6.13461, -7.78207,-9.43366,-10.2604,-11.5031, -12.3367,-13.5852,-14.4238,-15.6901, -16.9557,-17.8008,-18.6519,-19.5151, -20.3685,-21.2365,-21.6688,-21.6749, -21.339,-21.1712,-21.0003,-20.8314, -20.5657,-20.2995,-20.0669,-19.8672, -19.5752,-19.3053,-19.0428,-18.8441, -18.58,-18.2789,-18.2459,-18.2346, -17.4138,-16.593,-15.777,-14.5562, -12.9364,-11.3214,-10.1139,-8.51003, -6.50995,-4.11195,-1.71471,-0.11548, 1.48499,3.08784,4.6952,6.30619,8.32602, 9.54404,11.5818,12.8084,14.4533,15.279, 16.1109,16.942,18.1953,19.4572,20.301, 21.151,22.0024,22.4303,22.4256)
FOOTPRINT_POINT_LONGITUDE = (142.395,143.804,144.813,145.813, 146.805,147.791,148.769,149.741,150.71, 151.677,152.641,153.607,154.936,155.057 ,155.111,155.076,155.055,155.035, 155.008,154.984,154.969,154.951,154.94, 154.931,154.924,154.918,154.914,154.911 ,154.91,154.913,154.925,154.943,154.969 ,154.995,155.049,155.093,155.157, 155.232,155.319,155.366,155.443,155.503 ,155.593,155.664,155.782,155.903, 155.988,156.081,156.189,156.289,156.406 ,156.464,156.465,154.536,153.585, 152.641,151.709,150.238,148.785,147.526 ,146.455,144.86,143.448,142.044,140.993 ,139.592,138.012,137.836,137.772, 137.913,138.053,138.189,138.389,138.645 ,138.896,139.078,139.311,139.589, 139.911,140.214,140.41,140.6,140.784, 140.959,141.128,141.332,141.447,141.634 ,141.741,141.874,141.938,142.0,142.06, 142.147,142.227,142.277,142.323,142.368 ,142.389,142.395)
ORBIT_NUMBER = 7813
ORBITAL_ECCENTRICITY = 0.568
ORBITAL_INCLINATION = 86.83
ORBITAL_SEMIMAJOR_AXIS = 8692.45
PERIAPSIS_ALTITUDE = 374.08
PERIAPSIS_ARGUMENT_ANGLE = 68.34
PERIAPSIS_TIME = 2010-02-05T13:31:20.000Z
SPACECRAFT_ORIENTATION = (0.0,1.0,0.0)
^MEX_ORIENTATION_DESC = "MEX_ORIENTATION_DESC.TXT"
SPACECRAFT_POINTING_MODE = INERT
^MEX_POINTING_DESC = "MEX_POINTING_DESC.TXT"
RIGHT_ASCENSION = 155.46
DECLINATION = -73.25
OFFSET_ANGLE = -1e+32
SPACECRAFT_SOLAR_DISTANCE = 2.47123e+08
TARGET_NAME = MARS
/* CAMERA DATA ELEMENTS */
DETECTOR_TEMPERATURE = 21.0212
FOCAL_PLANE_TEMPERATURE = 10.0106
INST_CMPRS_NAME = "DISCRETE COSINE TRANSFORMATION (DCT)"
INST_CMPRS_RATIO = 14.6149
INST_CMPRS_QUALITY = 0
INST_CMPRS_QUANTZ_TBL_ID = 0
INSTRUMENT_TEMPERATURE = 15.5159
LENS_TEMPERATURE = 9.3989
MACROPIXEL_SIZE = 2
PIXEL_SUBSAMPLING_FLAG = N
SIGNAL_CHAIN_ID = 2
/* RADIOMETRIC DATA ELEMENTS */
BANDWIDTH = 88.0
CENTER_FILTER_WAVELENGTH = 538.0
RADIANCE_OFFSET = 1.20092
RADIANCE_SCALING_FACTOR = 0.00876489
REFLECTANCE_SCALING_FACTOR = 0.000460858
MEX:REFLECTANCE_OFFSET = 0.0631444
/* IMAGE OBJECT DEFINITIONS */
OBJECT = IMAGE
  INTERCHANGE_FORMAT = BINARY
  LINES = 13016
  LINE_SAMPLES = 4890
  SAMPLE_TYPE = UNSIGNED_INTEGER
  SAMPLE_BITS = 8
  BANDS = 1
  BAND_STORAGE_TYPE = BAND_SEQUENTIAL
  MAXIMUM = 255
  MEAN = 150.705
  MINIMUM = 1
  STANDARD_DEVIATION = 37.2373
END_OBJECT = IMAGE
/* MAP OBJECT DEFINITIONS */
OBJECT = IMAGE_MAP_PROJECTION
  ^DATA_SET_MAP_PROJECTION_CATALOG= "DSMAP.CAT"
  A_AXIS_RADIUS = 3396.0
  B_AXIS_RADIUS = 3396.0
  C_AXIS_RADIUS = 3396.0
  CENTER_LATITUDE = 0.0
  CENTER_LONGITUDE = 147.0
  COORDINATE_SYSTEM_NAME = PLANETOGRAPHIC
  COORDINATE_SYSTEM_TYPE = "BODY-FIXED ROTATING"
  EASTERNMOST_LONGITUDE = 156.465
  FIRST_STANDARD_PARALLEL = "N/A"
  LINE_FIRST_PIXEL = 1
  LINE_LAST_PIXEL = 13016
  LINE_PROJECTION_OFFSET = 6586.0
  MAP_PROJECTION_ROTATION = 0.0
  MAP_PROJECTION_TYPE = SINUSOIDAL
  MAP_RESOLUTION = 296.356901933333
  MAP_SCALE = 0.2
  MAXIMUM_LATITUDE = 22.4303
  MINIMUM_LATITUDE = -21.6749
  POSITIVE_LONGITUDE_DIRECTION = EAST
  REFERENCE_LATITUDE = "N/A"
  REFERENCE_LONGITUDE = "N/A"
  SAMPLE_FIRST_PIXEL = 1
  SAMPLE_LAST_PIXEL = 4890
  SAMPLE_PROJECTION_OFFSET = 2848.0
  SECOND_STANDARD_PARALLEL = "N/A"
  WESTERNMOST_LONGITUDE = 137.772
END_OBJECT = IMAGE_MAP_PROJECTION
END
