PDS_VERSION_ID = PDS3
/* FILE DATA ELEMENTS */
RECORD_TYPE = UNDEFINED
/* POINTERS TO DATA OBJECTS */
^IMAGE = ("H7480_0001_BL4.TIF")
/* IDENTIFICATION DATA ELEMENTS */
DATA_SET_ID = "MEX-M-HRSC-4-REFDR-MAPPROJECT-EXT3-V4.0"
DATA_SET_NAME = "MARS EXPRESS HRSC MAP PROJECTED REFDR EXTENSION3 V4.0"
DETECTOR_ID = MEX_HRSC_BLUE
EVENT_TYPE = "MARS-CLOUD-VARIABLE-At"
INSTRUMENT_HOST_ID = MEX
INSTRUMENT_HOST_NAME = "MARS EXPRESS"
INSTRUMENT_ID = HRSC
INSTRUMENT_NAME = "HIGH RESOLUTION STEREO CAMERA"
MISSION_NAME = "MARS EXPRESS"
MISSION_PHASE_NAME = ME_Phase_18
PROCESSING_LEVEL_ID = 4
PRODUCT_CREATION_TIME = 2023-02-02T15:10:19.000Z
PRODUCT_ID = "H7480_0001_BL4.TIF"
RELEASE_ID = 0003
REVISION_ID = 0000
/* QUALITY DATA ELEMENTS */
DATA_QUALITY_ID = 1
DATA_QUALITY_DESC = "Data calculated based on original SPICE kernels"
/* TIME DATA ELEMENTS */
SPACECRAFT_CLOCK_START_COUNT = "1/0205190405.07278"
SPACECRAFT_CLOCK_STOP_COUNT = "1/0205191521.56122"
START_TIME = 2009-11-01T21:21:27.971Z
STOP_TIME = 2009-11-01T21:33:39.834Z
/* ORBITAL DATA ELEMENTS */
ASCENDING_NODE_LONGITUDE = 74.66
MAXIMUM_RESOLUTION = 0.1255
FOOTPRINT_POINT_LATITUDE = (9.59903,9.62931,9.64543,9.65608, 9.65655,9.63672,8.54256,7.81941,7.10046 ,6.38779,5.68062,4.97952,4.2844,3.59527 ,2.91198,2.23474,1.56336,0.897739, 0.238005,-0.415795,-1.06379,-1.70613, -2.34243,-2.97318,-3.59858,-4.21844, -4.83245,-5.44095,-6.04095,-6.64014, -7.23151,-7.81734,-8.39764,-8.97283, -9.54234,-10.1068,-10.6661,-11.2199, -11.7687,-12.8512,-13.9138,-14.9567, -15.9808,-16.9864,-17.9722,-18.9395, -19.8898,-20.1247,-20.1471,-20.2279, -20.2756,-20.3148,-20.3591,-20.3834, -20.4025,-20.4336,-20.4348,-20.4346, -19.4788,-18.5054,-17.5142,-16.5045, -15.4757,-14.4277,-13.3602,-12.2733, -11.1661,-10.6049,-10.0379,-9.4655, -8.88777,-8.30593,-7.71697,-7.12462, -6.22083,-5.61581,-5.00565,-4.38719, -3.76291,-3.13301,-2.49776,-1.85701, -1.21029,-0.558256,0.0996164,0.763312, 1.43276,2.10814,2.78946,3.47667,4.16973 ,4.86886,5.57394,6.28488,7.0019,7.7249, 8.45367,9.18853,9.5582,9.59903)
FOOTPRINT_POINT_LONGITUDE = (258.233,256.84,256.031,255.456,255.43, 255.446,255.377,255.332,255.288,255.242 ,255.197,255.15,255.103,255.055,255.006 ,254.957,254.907,254.856,254.804, 254.752,254.699,254.645,254.591,254.536 ,254.48,254.425,254.368,254.311,254.249 ,254.193,254.133,254.072,254.011, 253.949,253.887,253.824,253.76,253.696, 253.631,253.499,253.365,253.229,253.091 ,252.952,252.808,252.662,252.515, 252.478,252.474,253.754,254.608,255.4, 256.439,257.113,257.728,258.963,259.025 ,259.046,258.991,258.938,258.887, 258.838,258.791,258.747,258.705,258.664 ,258.625,258.606,258.588,258.572, 258.556,258.538,258.524,258.506,258.49, 258.472,258.453,258.439,258.427,258.415 ,258.403,258.39,258.379,258.367,258.355 ,258.343,258.332,258.321,258.311,258.3, 258.29,258.28,258.271,258.262,258.253, 258.244,258.235,258.226,258.222, 258.233)
ORBIT_NUMBER = 7480
ORBITAL_ECCENTRICITY = 0.57
ORBITAL_INCLINATION = 86.82
ORBITAL_SEMIMAJOR_AXIS = 8715.42
PERIAPSIS_ALTITUDE = 362.55
PERIAPSIS_ARGUMENT_ANGLE = 126.22
PERIAPSIS_TIME = 2009-11-01T21:08:58.000Z
SPACECRAFT_ORIENTATION = (0.0,-1.0,0.0)
^MEX_ORIENTATION_DESC = "MEX_ORIENTATION_DESC.TXT"
SPACECRAFT_POINTING_MODE = ACROSSTRACK
^MEX_POINTING_DESC = "MEX_POINTING_DESC.TXT"
RIGHT_ASCENSION = -1e+32
DECLINATION = -1e+32
OFFSET_ANGLE = 0.33
SPACECRAFT_SOLAR_DISTANCE = 2.34167e+08
TARGET_NAME = MARS
/* CAMERA DATA ELEMENTS */
DETECTOR_TEMPERATURE = 19.7978
FOCAL_PLANE_TEMPERATURE = 8.3794
INST_CMPRS_NAME = "DISCRETE COSINE TRANSFORMATION (DCT)"
INST_CMPRS_RATIO = 32.5505
INST_CMPRS_QUALITY = 0
INST_CMPRS_QUANTZ_TBL_ID = 0
INSTRUMENT_TEMPERATURE = 13.273
LENS_TEMPERATURE = 8.5833
MACROPIXEL_SIZE = 4
MISSING_FRAMES = 0
PIXEL_SUBSAMPLING_FLAG = N
SIGNAL_CHAIN_ID = 2
/* RADIOMETRIC DATA ELEMENTS */
BANDWIDTH = 76.0
CENTER_FILTER_WAVELENGTH = 444.0
RADIANCE_OFFSET = 0.71898
RADIANCE_SCALING_FACTOR = 0.00261322
REFLECTANCE_SCALING_FACTOR = 0.000147228
MEX:REFLECTANCE_OFFSET = 0.0405069
/* IMAGE OBJECT DEFINITIONS */
OBJECT = IMAGE
  INTERCHANGE_FORMAT = BINARY
  LINES = 17825
  LINE_SAMPLES = 3654
  SAMPLE_TYPE = UNSIGNED_INTEGER
  SAMPLE_BITS = 8
  BANDS = 1
  BAND_STORAGE_TYPE = BAND_SEQUENTIAL
  MAXIMUM = 255
  MEAN = 138.683
  MINIMUM = 1
  STANDARD_DEVIATION = 49.4503
END_OBJECT = IMAGE
/* MAP OBJECT DEFINITIONS */
OBJECT = IMAGE_MAP_PROJECTION
  ^DATA_SET_MAP_PROJECTION_CATALOG= "DSMAP.CAT"
  A_AXIS_RADIUS = 3396.0
  B_AXIS_RADIUS = 3396.0
  C_AXIS_RADIUS = 3396.0
  CENTER_LATITUDE = 0.0
  CENTER_LONGITUDE = 256.0
  COORDINATE_SYSTEM_NAME = PLANETOGRAPHIC
  COORDINATE_SYSTEM_TYPE = "BODY-FIXED ROTATING"
  EASTERNMOST_LONGITUDE = 259.046
  FIRST_STANDARD_PARALLEL = "N/A"
  LINE_FIRST_PIXEL = 1
  LINE_LAST_PIXEL = 17825
  LINE_PROJECTION_OFFSET = 5712.0
  MAP_PROJECTION_ROTATION = 0.0
  MAP_PROJECTION_TYPE = SINUSOIDAL
  MAP_RESOLUTION = 592.713803866667
  MAP_SCALE = 0.1
  MAXIMUM_LATITUDE = 9.656549999999999
  MINIMUM_LATITUDE = -20.4348
  POSITIVE_LONGITUDE_DIRECTION = EAST
  REFERENCE_LATITUDE = "N/A"
  REFERENCE_LONGITUDE = "N/A"
  SAMPLE_FIRST_PIXEL = 1
  SAMPLE_LAST_PIXEL = 3654
  SAMPLE_PROJECTION_OFFSET = 1961.0
  SECOND_STANDARD_PARALLEL = "N/A"
  WESTERNMOST_LONGITUDE = 252.474
END_OBJECT = IMAGE_MAP_PROJECTION
END
