PDS_VERSION_ID = PDS3
/* FILE DATA ELEMENTS */
RECORD_TYPE = UNDEFINED
/* POINTERS TO DATA OBJECTS */
^IMAGE = ("H7396_0000_P24.TIF")
/* IDENTIFICATION DATA ELEMENTS */
DATA_SET_ID = "MEX-M-HRSC-4-REFDR-MAPPROJECT-EXT3-V4.0"
DATA_SET_NAME = "MARS EXPRESS HRSC MAP PROJECTED REFDR EXTENSION3 V4.0"
DETECTOR_ID = MEX_HRSC_P2
EVENT_TYPE = "MARS-REGIONAL-MAPPING-Vo-Te-Pf"
INSTRUMENT_HOST_ID = MEX
INSTRUMENT_HOST_NAME = "MARS EXPRESS"
INSTRUMENT_ID = HRSC
INSTRUMENT_NAME = "HIGH RESOLUTION STEREO CAMERA"
MISSION_NAME = "MARS EXPRESS"
MISSION_PHASE_NAME = ME_Phase_18
PROCESSING_LEVEL_ID = 4
PRODUCT_CREATION_TIME = 2023-02-01T22:33:16.000Z
PRODUCT_ID = "H7396_0000_P24.TIF"
RELEASE_ID = 0002
REVISION_ID = 0000
/* QUALITY DATA ELEMENTS */
DATA_QUALITY_ID = 1
DATA_QUALITY_DESC = "Data calculated based on original SPICE kernels"
/* TIME DATA ELEMENTS */
SPACECRAFT_CLOCK_START_COUNT = "1/0203104510.09066"
SPACECRAFT_CLOCK_STOP_COUNT = "1/0203104800.49749"
START_TIME = 2009-10-08T17:56:07.392Z
STOP_TIME = 2009-10-08T17:59:45.117Z
/* ORBITAL DATA ELEMENTS */
ASCENDING_NODE_LONGITUDE = 76.3
MAXIMUM_RESOLUTION = 0.0307
FOOTPRINT_POINT_LATITUDE = (30.954,30.9547,30.9549,30.9535,30.9535 ,30.9873,30.4674,30.2018,29.936,29.4104 ,29.1418,28.8776,28.6137,28.3499, 28.0864,27.8239,27.5608,27.2986,27.0371 ,26.7741,26.5124,26.2516,25.9904,25.73, 25.2101,24.6919,24.1753,23.6613,23.271, 23.0079,22.745,22.4825,22.2215,21.8216, 21.5542,21.1532,20.7502,20.4775,20.0693 ,19.6592,19.3818,19.1047,18.8282, 18.4071,18.1252,17.8439,17.7031,17.6848 ,17.6807,17.6736,17.6685,17.6623, 17.6621,17.6626,18.0857,18.368,18.79, 19.0671,19.3447,19.6228,19.8981,20.1703 ,20.4428,20.7159,20.9866,21.2538, 21.5216,21.79,22.0583,22.3219,22.5842, 22.8476,23.1107,23.6349,24.1502,24.538, 25.0568,25.4471,25.7074,25.9683,26.2295 ,26.4908,26.7526,27.0149,27.2773, 27.5402,27.8033,28.0665,28.3302,28.5942 ,28.8587,29.1233,29.5209,29.7862, 30.0519,30.3179,30.5841,30.8507,30.9744 ,30.954)
FOOTPRINT_POINT_LONGITUDE = (88.6481,88.3038,87.8424,87.1735, 87.1589,87.1278,87.136,87.1398,87.1438, 87.1473,87.1534,87.1562,87.1589,87.1615 ,87.164,87.1656,87.1679,87.1695,87.1706 ,87.1729,87.1742,87.175,87.1762,87.1769 ,87.1778,87.1778,87.1771,87.1749, 87.1732,87.1719,87.1705,87.169,87.1665, 87.1633,87.1609,87.1574,87.153,87.15, 87.1453,87.1401,87.1363,87.1326,87.1286 ,87.1223,87.1179,87.1132,87.1109, 87.1105,87.4449,87.9774,88.3585,88.8043 ,88.8208,88.8268,88.8221,88.819,88.8142 ,88.8112,88.8081,88.805,88.8019,88.7988 ,88.7956,88.7925,88.7893,88.7862, 88.7831,88.78,88.7768,88.7736,88.7704, 88.7674,88.7642,88.7581,88.7517,88.7469 ,88.7406,88.7358,88.7325,88.7292, 88.7258,88.7224,88.719,88.7156,88.7121, 88.7085,88.705,88.7013,88.6976,88.6938, 88.6901,88.6863,88.6805,88.6766,88.6726 ,88.6686,88.6645,88.6604,88.6584, 88.6481)
ORBIT_NUMBER = 7396
ORBITAL_ECCENTRICITY = 0.572
ORBITAL_INCLINATION = 86.82
ORBITAL_SEMIMAJOR_AXIS = 8742.2
PERIAPSIS_ALTITUDE = 353.13
PERIAPSIS_ARGUMENT_ANGLE = 140.88
PERIAPSIS_TIME = 2009-10-08T17:53:40.000Z
SPACECRAFT_ORIENTATION = (0.0,-1.0,0.0)
^MEX_ORIENTATION_DESC = "MEX_ORIENTATION_DESC.TXT"
SPACECRAFT_POINTING_MODE = ACROSSTRACK
^MEX_POINTING_DESC = "MEX_POINTING_DESC.TXT"
RIGHT_ASCENSION = -1e+32
DECLINATION = -1e+32
OFFSET_ANGLE = -0.269
SPACECRAFT_SOLAR_DISTANCE = 2.29641e+08
TARGET_NAME = MARS
/* CAMERA DATA ELEMENTS */
DETECTOR_TEMPERATURE = 18.5744
FOCAL_PLANE_TEMPERATURE = 8.5833
INST_CMPRS_NAME = "DISCRETE COSINE TRANSFORMATION (DCT)"
INST_CMPRS_RATIO = 7.76782
INST_CMPRS_QUALITY = 0
INST_CMPRS_QUANTZ_TBL_ID = 0
INSTRUMENT_TEMPERATURE = 11.234
LENS_TEMPERATURE = 9.195
MACROPIXEL_SIZE = 2
MISSING_FRAMES = 0
PIXEL_SUBSAMPLING_FLAG = N
SIGNAL_CHAIN_ID = 3
/* RADIOMETRIC DATA ELEMENTS */
BANDWIDTH = 177.0
CENTER_FILTER_WAVELENGTH = 676.5
RADIANCE_OFFSET = 5.48306
RADIANCE_SCALING_FACTOR = 0.0159276
REFLECTANCE_SCALING_FACTOR = 0.000445353
MEX:REFLECTANCE_OFFSET = 0.153313
/* IMAGE OBJECT DEFINITIONS */
OBJECT = IMAGE
  INTERCHANGE_FORMAT = BINARY
  LINES = 31610
  LINE_SAMPLES = 3718
  SAMPLE_TYPE = UNSIGNED_INTEGER
  SAMPLE_BITS = 8
  BANDS = 1
  BAND_STORAGE_TYPE = BAND_SEQUENTIAL
  MAXIMUM = 255
  MEAN = 127.26
  MINIMUM = 1
  STANDARD_DEVIATION = 23.6843
END_OBJECT = IMAGE
/* MAP OBJECT DEFINITIONS */
OBJECT = IMAGE_MAP_PROJECTION
  ^DATA_SET_MAP_PROJECTION_CATALOG= "DSMAP.CAT"
  A_AXIS_RADIUS = 3396.0
  B_AXIS_RADIUS = 3396.0
  C_AXIS_RADIUS = 3396.0
  CENTER_LATITUDE = 0.0
  CENTER_LONGITUDE = 88.0
  COORDINATE_SYSTEM_NAME = PLANETOGRAPHIC
  COORDINATE_SYSTEM_TYPE = "BODY-FIXED ROTATING"
  EASTERNMOST_LONGITUDE = 88.82680000000001
  FIRST_STANDARD_PARALLEL = "N/A"
  LINE_FIRST_PIXEL = 1
  LINE_LAST_PIXEL = 31610
  LINE_PROJECTION_OFFSET = 73489.75
  MAP_PROJECTION_ROTATION = 0.0
  MAP_PROJECTION_TYPE = SINUSOIDAL
  MAP_RESOLUTION = 2370.85521546667
  MAP_SCALE = 0.025
  MAXIMUM_LATITUDE = 30.9873
  MINIMUM_LATITUDE = 17.6621
  POSITIVE_LONGITUDE_DIRECTION = EAST
  REFERENCE_LATITUDE = "N/A"
  REFERENCE_LONGITUDE = "N/A"
  SAMPLE_FIRST_PIXEL = 1
  SAMPLE_LAST_PIXEL = 3718
  SAMPLE_PROJECTION_OFFSET = 1927.25
  SECOND_STANDARD_PARALLEL = "N/A"
  WESTERNMOST_LONGITUDE = 87.1105
END_OBJECT = IMAGE_MAP_PROJECTION
END
