PDS_VERSION_ID = PDS3
/* FILE DATA ELEMENTS */
RECORD_TYPE = UNDEFINED
/* POINTERS TO DATA OBJECTS */
^IMAGE = ("H7246_0000_RE4.TIF")
/* IDENTIFICATION DATA ELEMENTS */
DATA_SET_ID = "MEX-M-HRSC-4-REFDR-MAPPROJECT-EXT3-V4.0"
DATA_SET_NAME = "MARS EXPRESS HRSC MAP PROJECTED REFDR EXTENSION3 V4.0"
DETECTOR_ID = MEX_HRSC_RED
EVENT_TYPE = "MARS-REGIONAL-MAPPING-Vo-Te-Pf"
INSTRUMENT_HOST_ID = MEX
INSTRUMENT_HOST_NAME = "MARS EXPRESS"
INSTRUMENT_ID = HRSC
INSTRUMENT_NAME = "HIGH RESOLUTION STEREO CAMERA"
MISSION_NAME = "MARS EXPRESS"
MISSION_PHASE_NAME = ME_Phase_18
PROCESSING_LEVEL_ID = 4
PRODUCT_CREATION_TIME = 2023-02-01T22:33:16.000Z
PRODUCT_ID = "H7246_0000_RE4.TIF"
RELEASE_ID = 0002
REVISION_ID = 0000
/* QUALITY DATA ELEMENTS */
DATA_QUALITY_ID = 1
DATA_QUALITY_DESC = "Data calculated based on original SPICE kernels"
/* TIME DATA ELEMENTS */
SPACECRAFT_CLOCK_START_COUNT = "1/0199380754.09041"
SPACECRAFT_CLOCK_STOP_COUNT = "1/0199380988.01002"
START_TIME = 2009-08-26T15:33:39.893Z
STOP_TIME = 2009-08-26T15:36:23.416Z
/* ORBITAL DATA ELEMENTS */
ASCENDING_NODE_LONGITUDE = 79.25
MAXIMUM_RESOLUTION = 0.057
FOOTPRINT_POINT_LATITUDE = (25.7674,25.7667,25.7653,25.7632, 25.7631,25.799,25.5832,25.3671,25.1511, 24.9347,24.7189,24.503,24.2872,24.0713, 23.7475,23.5316,23.3157,23.0998,22.7759 ,22.5604,22.3444,22.0205,21.8048, 21.4811,21.2654,20.9421,20.7265,20.5107 ,20.295,20.0793,19.8641,19.6484,19.325, 19.1095,18.8943,18.6789,18.4638,18.2485 ,18.0334,17.8181,17.4958,17.2809, 17.0661,16.8514,16.6367,16.4289,16.1173 ,15.7023,15.1839,15.0803,15.0618, 15.0606,15.0593,15.058,15.0579,15.0588, 15.5775,15.9925,16.408,16.6159,16.83, 17.0448,17.3675,17.5827,17.9056,18.1208 ,18.3359,18.5515,18.7667,18.9833, 19.1979,19.4132,19.6291,19.8447,20.0602 ,20.276,20.5995,20.8157,21.1396,21.4635 ,21.6794,22.0033,22.2192,22.4353, 22.6513,22.8672,23.0833,23.4072,23.7314 ,23.9478,24.164,24.3803,24.5964,24.8127 ,25.0288,25.2451,25.4611,25.6772, 25.7852,25.7674)
FOOTPRINT_POINT_LONGITUDE = (95.3306,94.977,94.4926,93.9424,93.9293 ,93.9111,93.9155,93.9199,93.9242, 93.9286,93.9326,93.9365,93.9403,93.944, 93.9494,93.9529,93.9562,93.9595,93.9643 ,93.9672,93.9702,93.9746,93.9773, 93.9812,93.9837,93.9872,93.9895,93.9917 ,93.9939,93.996,93.9978,93.9997,94.0025 ,94.0042,94.0057,94.0072,94.0087,94.01, 94.0113,94.0126,94.0141,94.0151,94.0161 ,94.0169,94.0177,94.0183,94.0193, 94.0202,94.0211,94.0212,94.0212,94.3774 ,94.8031,95.2404,95.252,95.2558,95.2591 ,95.2617,95.2645,95.2659,95.2673, 95.2688,95.2711,95.2727,95.2751,95.2767 ,95.2782,95.2799,95.2815,95.2836, 95.2849,95.2866,95.2884,95.2901,95.2918 ,95.2936,95.2962,95.2982,95.301,95.3038 ,95.3057,95.3086,95.3105,95.3125, 95.3144,95.3163,95.3184,95.3213,95.3244 ,95.3266,95.3287,95.3309,95.3331, 95.3353,95.3374,95.3397,95.3418,95.344, 95.3451,95.3306)
ORBIT_NUMBER = 7246
ORBITAL_ECCENTRICITY = 0.575
ORBITAL_INCLINATION = 86.8
ORBITAL_SEMIMAJOR_AXIS = 8774.67
PERIAPSIS_ALTITUDE = 336.37
PERIAPSIS_ARGUMENT_ANGLE = 167.12
PERIAPSIS_TIME = 2009-08-26T15:36:31.000Z
SPACECRAFT_ORIENTATION = (0.0,-1.0,0.0)
^MEX_ORIENTATION_DESC = "MEX_ORIENTATION_DESC.TXT"
SPACECRAFT_POINTING_MODE = NADIR
^MEX_POINTING_DESC = "MEX_POINTING_DESC.TXT"
RIGHT_ASCENSION = -1e+32
DECLINATION = -1e+32
OFFSET_ANGLE = -1e+32
SPACECRAFT_SOLAR_DISTANCE = 2.21274e+08
TARGET_NAME = MARS
/* CAMERA DATA ELEMENTS */
DETECTOR_TEMPERATURE = 18.3705
FOCAL_PLANE_TEMPERATURE = 8.3794
INST_CMPRS_NAME = "DISCRETE COSINE TRANSFORMATION (DCT)"
INST_CMPRS_RATIO = 31.2563
INST_CMPRS_QUALITY = 0
INST_CMPRS_QUANTZ_TBL_ID = 0
INSTRUMENT_TEMPERATURE = 11.8457
LENS_TEMPERATURE = 8.7872
MACROPIXEL_SIZE = 4
MISSING_FRAMES = 0
PIXEL_SUBSAMPLING_FLAG = N
SIGNAL_CHAIN_ID = 2
/* RADIOMETRIC DATA ELEMENTS */
BANDWIDTH = 48.0
CENTER_FILTER_WAVELENGTH = 748.0
RADIANCE_OFFSET = 0.827935
RADIANCE_SCALING_FACTOR = 0.00212905
REFLECTANCE_SCALING_FACTOR = 0.000237887
MEX:REFLECTANCE_OFFSET = 0.0925083
/* IMAGE OBJECT DEFINITIONS */
OBJECT = IMAGE
  INTERCHANGE_FORMAT = BINARY
  LINES = 12735
  LINE_SAMPLES = 1565
  SAMPLE_TYPE = UNSIGNED_INTEGER
  SAMPLE_BITS = 8
  BANDS = 1
  BAND_STORAGE_TYPE = BAND_SEQUENTIAL
  MAXIMUM = 255
  MEAN = 146.133
  MINIMUM = 6
  STANDARD_DEVIATION = 43.7165
END_OBJECT = IMAGE
/* MAP OBJECT DEFINITIONS */
OBJECT = IMAGE_MAP_PROJECTION
  ^DATA_SET_MAP_PROJECTION_CATALOG= "DSMAP.CAT"
  A_AXIS_RADIUS = 3396.0
  B_AXIS_RADIUS = 3396.0
  C_AXIS_RADIUS = 3396.0
  CENTER_LATITUDE = 0.0
  CENTER_LONGITUDE = 95.0
  COORDINATE_SYSTEM_NAME = PLANETOGRAPHIC
  COORDINATE_SYSTEM_TYPE = "BODY-FIXED ROTATING"
  EASTERNMOST_LONGITUDE = 95.3451
  FIRST_STANDARD_PARALLEL = "N/A"
  LINE_FIRST_PIXEL = 1
  LINE_LAST_PIXEL = 12735
  LINE_PROJECTION_OFFSET = 30578.625
  MAP_PROJECTION_ROTATION = 0.0
  MAP_PROJECTION_TYPE = SINUSOIDAL
  MAP_RESOLUTION = 1185.42760773333
  MAP_SCALE = 0.05
  MAXIMUM_LATITUDE = 25.799
  MINIMUM_LATITUDE = 15.0579
  POSITIVE_LONGITUDE_DIRECTION = EAST
  REFERENCE_LATITUDE = "N/A"
  REFERENCE_LONGITUDE = "N/A"
  SAMPLE_FIRST_PIXEL = 1
  SAMPLE_LAST_PIXEL = 1565
  SAMPLE_PROJECTION_OFFSET = 1180.125
  SECOND_STANDARD_PARALLEL = "N/A"
  WESTERNMOST_LONGITUDE = 93.9111
END_OBJECT = IMAGE_MAP_PROJECTION
END
