PDS_VERSION_ID = PDS3
/* FILE DATA ELEMENTS */
RECORD_TYPE = UNDEFINED
/* POINTERS TO DATA OBJECTS */
^IMAGE = ("H7145_0000_P14.TIF")
/* IDENTIFICATION DATA ELEMENTS */
DATA_SET_ID = "MEX-M-HRSC-4-REFDR-MAPPROJECT-EXT3-V4.0"
DATA_SET_NAME = "MARS EXPRESS HRSC MAP PROJECTED REFDR EXTENSION3 V4.0"
DETECTOR_ID = MEX_HRSC_P1
EVENT_TYPE = "MARS-REGIONAL-MAPPING-Te-Im-Fl"
INSTRUMENT_HOST_ID = MEX
INSTRUMENT_HOST_NAME = "MARS EXPRESS"
INSTRUMENT_ID = HRSC
INSTRUMENT_NAME = "HIGH RESOLUTION STEREO CAMERA"
MISSION_NAME = "MARS EXPRESS"
MISSION_PHASE_NAME = ME_Phase_18
PROCESSING_LEVEL_ID = 4
PRODUCT_CREATION_TIME = 2023-02-01T06:41:01.000Z
PRODUCT_ID = "H7145_0000_P14.TIF"
RELEASE_ID = 0001
REVISION_ID = 0000
/* QUALITY DATA ELEMENTS */
DATA_QUALITY_ID = 1
DATA_QUALITY_DESC = "Data calculated based on original SPICE kernels"
/* TIME DATA ELEMENTS */
SPACECRAFT_CLOCK_START_COUNT = "1/0196874288.08279"
SPACECRAFT_CLOCK_STOP_COUNT = "1/0196874445.14146"
START_TIME = 2009-07-28T15:18:21.834Z
STOP_TIME = 2009-07-28T15:19:37.326Z
/* ORBITAL DATA ELEMENTS */
ASCENDING_NODE_LONGITUDE = 81.24
MAXIMUM_RESOLUTION = 0.0309
FOOTPRINT_POINT_LATITUDE = (-21.0317,-21.0304,-21.0295,-21.0285, -21.0275,-21.0265,-21.0254,-21.0243, -21.0232,-21.0221,-21.0206,-21.0194, -21.0182,-21.0181,-21.0294,-21.127, -21.2733,-21.3714,-21.5181,-21.6164, -21.7624,-21.9574,-22.1038,-22.2017, -22.3485,-22.4952,-22.5927,-22.6904, -22.788,-22.8856,-22.9836,-23.0812, -23.1787,-23.2762,-23.4223,-23.6171, -23.7145,-23.9578,-24.2006,-24.4441, -24.6386,-24.7842,-24.8819,-25.0769, -25.3171,-25.4626,-25.5603,-25.6579, -25.7569,-25.8557,-25.9055,-25.9311, -25.9321,-25.933,-25.9342,-25.9354, -25.9371,-25.9402,-25.9411,-25.9416, -25.9412,-25.9409,-25.941,-25.9405, -25.7905,-25.692,-25.4985,-25.3531, -25.2076,-25.0136,-24.8197,-24.5769, -24.4795,-24.382,-24.2356,-24.041, -23.895,-23.6521,-23.4099,-23.2641, -23.0694,-22.9233,-22.777,-22.6794, -22.5816,-22.4837,-22.3386,-22.1437, -22.0459,-21.948,-21.7999,-21.7013, -21.6027,-21.5051,-21.4074,-21.3097, -21.212,-21.1141,-21.0652,-21.0317)
FOOTPRINT_POINT_LONGITUDE = (199.819,199.655,199.545,199.436, 199.326,199.217,199.109,199.0,198.892, 198.784,198.648,198.541,198.433,198.419 ,198.412,198.411,198.409,198.408, 198.406,198.404,198.402,198.4,198.398, 198.396,198.394,198.392,198.391,198.389 ,198.388,198.386,198.385,198.383, 198.382,198.381,198.378,198.376,198.374 ,198.371,198.367,198.363,198.36,198.358 ,198.357,198.353,198.35,198.348,198.346 ,198.345,198.343,198.342,198.341, 198.341,198.509,198.632,198.802,198.926 ,199.081,199.298,199.439,199.579, 199.798,199.923,199.939,199.944,199.939 ,199.937,199.932,199.928,199.923, 199.918,199.913,199.906,199.903,199.901 ,199.896,199.891,199.888,199.882, 199.877,199.874,199.869,199.866,199.863 ,199.86,199.858,199.856,199.854,199.85, 199.848,199.845,199.841,199.838,199.836 ,199.834,199.832,199.83,199.829,199.827 ,199.826,199.819)
ORBIT_NUMBER = 7145
ORBITAL_ECCENTRICITY = 0.575
ORBITAL_INCLINATION = 86.79
ORBITAL_SEMIMAJOR_AXIS = 8771.02
PERIAPSIS_ALTITUDE = 327.43
PERIAPSIS_ARGUMENT_ANGLE = 184.77
PERIAPSIS_TIME = 2009-07-28T15:14:32.000Z
SPACECRAFT_ORIENTATION = (0.0,-1.0,0.0)
^MEX_ORIENTATION_DESC = "MEX_ORIENTATION_DESC.TXT"
SPACECRAFT_POINTING_MODE = ACROSSTRACK
^MEX_POINTING_DESC = "MEX_POINTING_DESC.TXT"
RIGHT_ASCENSION = -1e+32
DECLINATION = -1e+32
OFFSET_ANGLE = 0.3
SPACECRAFT_SOLAR_DISTANCE = 2.16003e+08
TARGET_NAME = MARS
/* CAMERA DATA ELEMENTS */
DETECTOR_TEMPERATURE = 17.351
FOCAL_PLANE_TEMPERATURE = 8.5833
INST_CMPRS_NAME = "DISCRETE COSINE TRANSFORMATION (DCT)"
INST_CMPRS_RATIO = 11.7823
INST_CMPRS_QUALITY = 0
INST_CMPRS_QUANTZ_TBL_ID = 0
INSTRUMENT_TEMPERATURE = 11.4379
LENS_TEMPERATURE = 8.7872
MACROPIXEL_SIZE = 2
MISSING_FRAMES = 0
PIXEL_SUBSAMPLING_FLAG = N
SIGNAL_CHAIN_ID = 3
/* RADIOMETRIC DATA ELEMENTS */
BANDWIDTH = 174.0
CENTER_FILTER_WAVELENGTH = 675.0
RADIANCE_OFFSET = 1.66462
RADIANCE_SCALING_FACTOR = 0.00913906
REFLECTANCE_SCALING_FACTOR = 0.000229356
MEX:REFLECTANCE_OFFSET = 0.0417756
/* IMAGE OBJECT DEFINITIONS */
OBJECT = IMAGE
  INTERCHANGE_FORMAT = BINARY
  LINES = 11624
  LINE_SAMPLES = 3530
  SAMPLE_TYPE = UNSIGNED_INTEGER
  SAMPLE_BITS = 8
  BANDS = 1
  BAND_STORAGE_TYPE = BAND_SEQUENTIAL
  MAXIMUM = 255
  MEAN = 75.0649
  MINIMUM = 1
  STANDARD_DEVIATION = 21.933
END_OBJECT = IMAGE
/* MAP OBJECT DEFINITIONS */
OBJECT = IMAGE_MAP_PROJECTION
  ^DATA_SET_MAP_PROJECTION_CATALOG= "DSMAP.CAT"
  A_AXIS_RADIUS = 3396.0
  B_AXIS_RADIUS = 3396.0
  C_AXIS_RADIUS = 3396.0
  CENTER_LATITUDE = 0.0
  CENTER_LONGITUDE = 199.0
  COORDINATE_SYSTEM_NAME = PLANETOGRAPHIC
  COORDINATE_SYSTEM_TYPE = "BODY-FIXED ROTATING"
  EASTERNMOST_LONGITUDE = 199.944
  FIRST_STANDARD_PARALLEL = "N/A"
  LINE_FIRST_PIXEL = 1
  LINE_LAST_PIXEL = 11624
  LINE_PROJECTION_OFFSET = -49871.75
  MAP_PROJECTION_ROTATION = 0.0
  MAP_PROJECTION_TYPE = SINUSOIDAL
  MAP_RESOLUTION = 2370.85521546667
  MAP_SCALE = 0.025
  MAXIMUM_LATITUDE = -21.0181
  MINIMUM_LATITUDE = -25.9416
  POSITIVE_LONGITUDE_DIRECTION = EAST
  REFERENCE_LATITUDE = "N/A"
  REFERENCE_LONGITUDE = "N/A"
  SAMPLE_FIRST_PIXEL = 1
  SAMPLE_LAST_PIXEL = 3530
  SAMPLE_PROJECTION_OFFSET = 1468.25
  SECOND_STANDARD_PARALLEL = "N/A"
  WESTERNMOST_LONGITUDE = 198.341
END_OBJECT = IMAGE_MAP_PROJECTION
END
