PDS_VERSION_ID = PDS3
/* FILE DATA ELEMENTS */
RECORD_TYPE = UNDEFINED
/* POINTERS TO DATA OBJECTS */
^IMAGE = ("H6983_0000_RE4.TIF")
/* IDENTIFICATION DATA ELEMENTS */
DATA_SET_ID = "MEX-M-HRSC-4-REFDR-MAPPROJECT-EXT3-V4.0"
DATA_SET_NAME = "MARS EXPRESS HRSC MAP PROJECTED REFDR EXTENSION3 V4.0"
DETECTOR_ID = MEX_HRSC_RED
EVENT_TYPE = "MARS-REGIONAL-MAPPING-Im-Gl-Pf"
INSTRUMENT_HOST_ID = MEX
INSTRUMENT_HOST_NAME = "MARS EXPRESS"
INSTRUMENT_ID = HRSC
INSTRUMENT_NAME = "HIGH RESOLUTION STEREO CAMERA"
MISSION_NAME = "MARS EXPRESS"
MISSION_PHASE_NAME = ME_Phase_17
PROCESSING_LEVEL_ID = 4
PRODUCT_CREATION_TIME = 2023-02-01T06:41:01.000Z
PRODUCT_ID = "H6983_0000_RE4.TIF"
RELEASE_ID = 0001
REVISION_ID = 0000
/* QUALITY DATA ELEMENTS */
DATA_QUALITY_ID = 1
DATA_QUALITY_DESC = "Data calculated based on original SPICE kernels"
/* TIME DATA ELEMENTS */
SPACECRAFT_CLOCK_START_COUNT = "1/0192853562.09051"
SPACECRAFT_CLOCK_STOP_COUNT = "1/0192854024.09309"
START_TIME = 2009-06-12T02:28:03.260Z
STOP_TIME = 2009-06-12T02:32:58.886Z
/* ORBITAL DATA ELEMENTS */
ASCENDING_NODE_LONGITUDE = 84.43
MAXIMUM_RESOLUTION = 0.1137
FOOTPRINT_POINT_LATITUDE = (-69.3672,-69.4306,-69.5067,-69.5881, -69.6586,-69.6976,-69.6994,-69.6193, -69.9656,-70.4356,-71.0298,-71.5079, -72.1114,-72.4781,-72.973,-73.3477, -73.7247,-74.1052,-74.3601,-74.6168, -74.8748,-75.133,-75.3941,-75.6561, -75.9199,-76.1853,-76.4508,-76.7185, -76.987,-77.2576,-77.5287,-77.8024, -78.2161,-78.4934,-78.7725,-79.053, -79.3351,-79.6192,-79.9053,-80.1922, -80.4809,-80.7711,-81.0631,-81.3567, -81.6516,-81.948,-82.2479,-82.6961, -82.8465,-82.8869,-82.8162,-82.7108, -82.6169,-82.4621,-82.3555,-82.1171, -81.9512,-81.7393,-81.4319,-81.4117, -81.4035,-81.0436,-80.8023,-80.559, -80.19,-79.9433,-79.6949,-79.4457, -79.1955,-78.8185,-78.5679,-78.317, -78.0663,-77.8147,-77.563,-77.3118, -77.0624,-76.8127,-76.5628,-76.315, -76.067,-75.6927,-75.4446,-75.1989, -74.8313,-74.464,-74.2205,-73.8558, -73.3744,-72.8959,-72.5385,-72.1838, -71.8313,-71.4814,-70.7815,-70.2101, -69.7562,-69.4226,-69.31,-69.3672)
FOOTPRINT_POINT_LONGITUDE = (341.73,340.821,339.602,338.068,336.398 ,335.212,335.15,335.027,335.067,335.13, 335.215,335.283,335.374,335.432,335.517 ,335.586,335.657,335.733,335.786, 335.841,335.898,335.956,336.019,336.083 ,336.151,336.222,336.294,336.371,336.45 ,336.534,336.619,336.712,336.862, 336.967,337.079,337.196,337.321,337.454 ,337.597,337.747,337.907,338.078, 338.261,338.458,338.67,338.897,339.152, 339.554,339.701,339.741,342.387,345.5, 347.761,350.919,352.792,356.374,358.493 ,360.922,363.965,364.148,364.201, 362.423,361.328,360.296,358.857,357.966 ,357.123,356.326,355.571,354.512, 353.851,353.224,352.627,352.059,351.518 ,351.003,350.511,350.042,349.593, 349.164,348.754,348.171,347.802,347.449 ,346.944,346.469,346.168,345.738,345.2, 344.7,344.348,344.014,343.697,343.395, 342.836,342.407,342.087,341.859,341.785 ,341.73)
ORBIT_NUMBER = 6983
ORBITAL_ECCENTRICITY = 0.576
ORBITAL_INCLINATION = 86.78
ORBITAL_SEMIMAJOR_AXIS = 8742.85
PERIAPSIS_ALTITUDE = 317.15
PERIAPSIS_ARGUMENT_ANGLE = 212.95
PERIAPSIS_TIME = 2009-06-12T02:17:15.000Z
SPACECRAFT_ORIENTATION = (0.0,-1.0,0.0)
^MEX_ORIENTATION_DESC = "MEX_ORIENTATION_DESC.TXT"
SPACECRAFT_POINTING_MODE = NADIR
^MEX_POINTING_DESC = "MEX_POINTING_DESC.TXT"
RIGHT_ASCENSION = -1e+32
DECLINATION = -1e+32
OFFSET_ANGLE = -1e+32
SPACECRAFT_SOLAR_DISTANCE = 2.09451e+08
TARGET_NAME = MARS
/* CAMERA DATA ELEMENTS */
DETECTOR_TEMPERATURE = 18.9822
FOCAL_PLANE_TEMPERATURE = 9.195
INST_CMPRS_NAME = "DISCRETE COSINE TRANSFORMATION (DCT)"
INST_CMPRS_RATIO = 10.3539
INST_CMPRS_QUALITY = 0
INST_CMPRS_QUANTZ_TBL_ID = 0
INSTRUMENT_TEMPERATURE = 11.4379
LENS_TEMPERATURE = 9.6028
MACROPIXEL_SIZE = 4
MISSING_FRAMES = 0
PIXEL_SUBSAMPLING_FLAG = N
SIGNAL_CHAIN_ID = 2
/* RADIOMETRIC DATA ELEMENTS */
BANDWIDTH = 48.0
CENTER_FILTER_WAVELENGTH = 748.0
RADIANCE_OFFSET = 0.500676
RADIANCE_SCALING_FACTOR = 0.0101808
REFLECTANCE_SCALING_FACTOR = 0.00101924
MEX:REFLECTANCE_OFFSET = 0.0501245
/* IMAGE OBJECT DEFINITIONS */
OBJECT = IMAGE
  INTERCHANGE_FORMAT = BINARY
  LINES = 8389
  LINE_SAMPLES = 3327
  SAMPLE_TYPE = UNSIGNED_INTEGER
  SAMPLE_BITS = 8
  BANDS = 1
  BAND_STORAGE_TYPE = BAND_SEQUENTIAL
  MAXIMUM = 255
  MEAN = 93.1883
  MINIMUM = 1
  STANDARD_DEVIATION = 68.6448
END_OBJECT = IMAGE
/* MAP OBJECT DEFINITIONS */
OBJECT = IMAGE_MAP_PROJECTION
  ^DATA_SET_MAP_PROJECTION_CATALOG= "DSMAP.CAT"
  A_AXIS_RADIUS = 3396.0
  B_AXIS_RADIUS = 3396.0
  C_AXIS_RADIUS = 3396.0
  CENTER_LATITUDE = 0.0
  CENTER_LONGITUDE = 342.0
  COORDINATE_SYSTEM_NAME = PLANETOGRAPHIC
  COORDINATE_SYSTEM_TYPE = "BODY-FIXED ROTATING"
  EASTERNMOST_LONGITUDE = 4.201
  FIRST_STANDARD_PARALLEL = "N/A"
  LINE_FIRST_PIXEL = 1
  LINE_LAST_PIXEL = 8389
  LINE_PROJECTION_OFFSET = -41058.375
  MAP_PROJECTION_ROTATION = 0.0
  MAP_PROJECTION_TYPE = SINUSOIDAL
  MAP_RESOLUTION = 592.713803866667
  MAP_SCALE = 0.1
  MAXIMUM_LATITUDE = -69.31
  MINIMUM_LATITUDE = -82.8869
  POSITIVE_LONGITUDE_DIRECTION = EAST
  REFERENCE_LATITUDE = "N/A"
  REFERENCE_LONGITUDE = "N/A"
  SAMPLE_FIRST_PIXEL = 1
  SAMPLE_LAST_PIXEL = 3327
  SAMPLE_PROJECTION_OFFSET = 1372.125
  SECOND_STANDARD_PARALLEL = "N/A"
  WESTERNMOST_LONGITUDE = -24.973
END_OBJECT = IMAGE_MAP_PROJECTION
END
