PDS_VERSION_ID = PDS3
/* FILE DATA ELEMENTS */
RECORD_TYPE = UNDEFINED
/* POINTERS TO DATA OBJECTS */
^IMAGE = ("H6907_0000_IR4.TIF")
/* IDENTIFICATION DATA ELEMENTS */
DATA_SET_ID = "MEX-M-HRSC-4-REFDR-MAPPROJECT-EXT3-V4.0"
DATA_SET_NAME = "MARS EXPRESS HRSC MAP PROJECTED REFDR EXTENSION3 V4.0"
DETECTOR_ID = MEX_HRSC_IR
EVENT_TYPE = "MARS-REGIONAL-MAPPING-Fl-Gl-La"
INSTRUMENT_HOST_ID = MEX
INSTRUMENT_HOST_NAME = "MARS EXPRESS"
INSTRUMENT_ID = HRSC
INSTRUMENT_NAME = "HIGH RESOLUTION STEREO CAMERA"
MISSION_NAME = "MARS EXPRESS"
MISSION_PHASE_NAME = ME_Phase_17
PROCESSING_LEVEL_ID = 4
PRODUCT_CREATION_TIME = 2023-02-01T06:41:01.000Z
PRODUCT_ID = "H6907_0000_IR4.TIF"
RELEASE_ID = 0001
REVISION_ID = 0000
/* QUALITY DATA ELEMENTS */
DATA_QUALITY_ID = 1
DATA_QUALITY_DESC = "Data calculated based on original SPICE kernels"
/* TIME DATA ELEMENTS */
SPACECRAFT_CLOCK_START_COUNT = "1/0190967009.07299"
SPACECRAFT_CLOCK_STOP_COUNT = "1/0190967295.19098"
START_TIME = 2009-05-21T06:23:38.952Z
STOP_TIME = 2009-05-21T06:26:03.785Z
/* ORBITAL DATA ELEMENTS */
ASCENDING_NODE_LONGITUDE = 85.93
MAXIMUM_RESOLUTION = 0.0798
FOOTPRINT_POINT_LATITUDE = (-75.3111,-75.3955,-75.4476,-75.4964, -75.5417,-75.5837,-75.6267,-75.629, -75.7102,-76.0418,-76.4586,-76.7922, -77.1191,-77.3746,-77.7188,-78.0583, -78.2328,-78.5776,-78.8388,-79.0137, -79.1888,-79.364,-79.6309,-79.8086, -79.9859,-80.1636,-80.3441,-80.6145, -80.7941,-80.9764,-81.1594,-81.3421, -81.5233,-81.7074,-81.8916,-82.0757, -82.2613,-82.4478,-82.6342,-82.8204, -83.0087,-83.1964,-83.384,-83.5744, -83.8588,-84.0485,-84.3359,-84.5266, -84.6224,-84.6366,-84.5677,-84.4534, -84.31,-84.2103,-84.0669,-83.9166, -83.77,-83.5921,-83.5799,-83.5747, -83.4205,-83.1847,-82.9459,-82.7045, -82.5411,-82.3785,-82.2142,-81.9657, -81.8006,-81.6342,-81.3832,-81.2169, -81.0495,-80.7975,-80.6337,-80.4669, -80.2166,-80.0519,-79.8827,-79.716, -79.5486,-79.3833,-79.2174,-79.0504, -78.8839,-78.7188,-78.5536,-78.3878, -78.2216,-78.0582,-77.7304,-77.4839, -77.1595,-76.9141,-76.5114,-76.2708, -75.9499,-75.4723,-75.3931,-75.3111)
FOOTPRINT_POINT_LONGITUDE = (87.9563,86.5694,85.6344,84.6915, 83.7416,82.7841,81.6969,81.6362,81.5237 ,81.6811,81.8902,82.0755,82.2785, 82.4338,82.6462,82.8821,83.0031,83.2608 ,83.4674,83.6123,83.7614,83.915,84.1591 ,84.3305,84.508,84.6925,84.8869,85.1924 ,85.4065,85.6325,85.8682,86.1138, 86.3727,86.6472,86.9335,87.2326,87.5492 ,87.8845,88.2361,88.6065,89.004,89.4232 ,89.8655,90.3406,91.1104,91.665,92.5803 ,93.2432,93.5939,93.6481,95.5767, 98.2079,101.072,102.771,105.064,107.254 ,109.191,111.305,111.441,111.478,110.35 ,108.756,107.283,105.92,105.06,104.249, 103.471,102.369,101.68,101.019,100.079, 99.4914,98.9254,98.1188,97.6274,97.1426 ,96.4525,96.0201,95.5849,95.1785,94.783 ,94.4072,94.043,93.6878,93.3462,93.0175 ,92.6999,92.3912,92.0913,91.8055, 91.2579,90.8673,90.3773,90.0229,89.4759 ,89.1659,88.7709,88.2145,88.1268, 87.9563)
ORBIT_NUMBER = 6907
ORBITAL_ECCENTRICITY = 0.576
ORBITAL_INCLINATION = 86.78
ORBITAL_SEMIMAJOR_AXIS = 8725.72
PERIAPSIS_ALTITUDE = 313.1
PERIAPSIS_ARGUMENT_ANGLE = 226.1
PERIAPSIS_TIME = 2009-05-21T06:16:31.000Z
SPACECRAFT_ORIENTATION = (0.0,-1.0,0.0)
^MEX_ORIENTATION_DESC = "MEX_ORIENTATION_DESC.TXT"
SPACECRAFT_POINTING_MODE = ACROSSTRACK
^MEX_POINTING_DESC = "MEX_POINTING_DESC.TXT"
RIGHT_ASCENSION = -1e+32
DECLINATION = -1e+32
OFFSET_ANGLE = -0.2
SPACECRAFT_SOLAR_DISTANCE = 2.07601e+08
TARGET_NAME = MARS
/* CAMERA DATA ELEMENTS */
DETECTOR_TEMPERATURE = 17.7588
FOCAL_PLANE_TEMPERATURE = 8.7872
INST_CMPRS_NAME = "DISCRETE COSINE TRANSFORMATION (DCT)"
INST_CMPRS_RATIO = 17.046
INST_CMPRS_QUALITY = 0
INST_CMPRS_QUANTZ_TBL_ID = 0
INSTRUMENT_TEMPERATURE = 11.4379
LENS_TEMPERATURE = 9.3989
MACROPIXEL_SIZE = 4
MISSING_FRAMES = 0
PIXEL_SUBSAMPLING_FLAG = N
SIGNAL_CHAIN_ID = 2
/* RADIOMETRIC DATA ELEMENTS */
BANDWIDTH = 81.0
CENTER_FILTER_WAVELENGTH = 955.5
RADIANCE_OFFSET = 0.757331
RADIANCE_SCALING_FACTOR = 0.00370224
REFLECTANCE_SCALING_FACTOR = 0.000344232
MEX:REFLECTANCE_OFFSET = 0.0704162
/* IMAGE OBJECT DEFINITIONS */
OBJECT = IMAGE
  INTERCHANGE_FORMAT = BINARY
  LINES = 5506
  LINE_SAMPLES = 2749
  SAMPLE_TYPE = UNSIGNED_INTEGER
  SAMPLE_BITS = 8
  BANDS = 1
  BAND_STORAGE_TYPE = BAND_SEQUENTIAL
  MAXIMUM = 255
  MEAN = 113.833
  MINIMUM = 1
  STANDARD_DEVIATION = 44.3235
END_OBJECT = IMAGE
/* MAP OBJECT DEFINITIONS */
OBJECT = IMAGE_MAP_PROJECTION
  ^DATA_SET_MAP_PROJECTION_CATALOG= "DSMAP.CAT"
  A_AXIS_RADIUS = 3396.0
  B_AXIS_RADIUS = 3396.0
  C_AXIS_RADIUS = 3396.0
  CENTER_LATITUDE = 0.0
  CENTER_LONGITUDE = 90.0
  COORDINATE_SYSTEM_NAME = PLANETOGRAPHIC
  COORDINATE_SYSTEM_TYPE = "BODY-FIXED ROTATING"
  EASTERNMOST_LONGITUDE = 111.478
  FIRST_STANDARD_PARALLEL = "N/A"
  LINE_FIRST_PIXEL = 1
  LINE_LAST_PIXEL = 5506
  LINE_PROJECTION_OFFSET = -44685.875
  MAP_PROJECTION_ROTATION = 0.0
  MAP_PROJECTION_TYPE = SINUSOIDAL
  MAP_RESOLUTION = 592.713803866667
  MAP_SCALE = 0.1
  MAXIMUM_LATITUDE = -75.3111
  MINIMUM_LATITUDE = -84.6366
  POSITIVE_LONGITUDE_DIRECTION = EAST
  REFERENCE_LATITUDE = "N/A"
  REFERENCE_LONGITUDE = "N/A"
  SAMPLE_FIRST_PIXEL = 1
  SAMPLE_LAST_PIXEL = 2749
  SAMPLE_PROJECTION_OFFSET = 1264.125
  SECOND_STANDARD_PARALLEL = "N/A"
  WESTERNMOST_LONGITUDE = 81.52370000000001
END_OBJECT = IMAGE_MAP_PROJECTION
END
