PDS_VERSION_ID = PDS3
/* FILE DATA ELEMENTS */
RECORD_TYPE = UNDEFINED
/* POINTERS TO DATA OBJECTS */
^IMAGE = ("H6873_0000_RE4.TIF")
/* IDENTIFICATION DATA ELEMENTS */
DATA_SET_ID = "MEX-M-HRSC-4-REFDR-MAPPROJECT-EXT3-V4.0"
DATA_SET_NAME = "MARS EXPRESS HRSC MAP PROJECTED REFDR EXTENSION3 V4.0"
DETECTOR_ID = MEX_HRSC_RED
EVENT_TYPE = "MARS-REGIONAL-MAPPING-Gl-La"
INSTRUMENT_HOST_ID = MEX
INSTRUMENT_HOST_NAME = "MARS EXPRESS"
INSTRUMENT_ID = HRSC
INSTRUMENT_NAME = "HIGH RESOLUTION STEREO CAMERA"
MISSION_NAME = "MARS EXPRESS"
MISSION_PHASE_NAME = ME_Phase_17
PROCESSING_LEVEL_ID = 4
PRODUCT_CREATION_TIME = 2023-02-01T06:41:01.000Z
PRODUCT_ID = "H6873_0000_RE4.TIF"
RELEASE_ID = 0001
REVISION_ID = 0000
/* QUALITY DATA ELEMENTS */
DATA_QUALITY_ID = 1
DATA_QUALITY_DESC = "Data calculated based on original SPICE kernels"
/* TIME DATA ELEMENTS */
SPACECRAFT_CLOCK_START_COUNT = "1/0190123198.09052"
SPACECRAFT_CLOCK_STOP_COUNT = "1/0190123595.03526"
START_TIME = 2009-05-11T12:01:59.081Z
STOP_TIME = 2009-05-11T12:06:10.112Z
/* ORBITAL DATA ELEMENTS */
ASCENDING_NODE_LONGITUDE = 86.59
MAXIMUM_RESOLUTION = 0.1123
FOOTPRINT_POINT_LATITUDE = (-84.2066,-84.431,-84.7861,-85.1371, -85.484,-85.8264,-86.165,-86.5001, -86.5209,-86.503,-86.6062,-86.6664, -86.6303,-86.5401,-86.3581,-86.2157, -86.049,-85.8621,-85.5849,-85.2787, -85.1162,-84.9489,-84.7741,-84.5961, -84.4142,-84.2275,-84.0344,-83.8396, -83.641,-83.4391,-83.2344,-83.0267, -82.8161,-82.6024,-82.3858,-82.1671, -81.9456,-81.7225,-81.4966,-81.2683, -81.0388,-80.8086,-80.5788,-80.349, -80.1198,-79.8904,-79.6615,-79.4328, -79.2043,-79.0907,-79.0751,-79.02, -78.9105,-78.8312,-78.7164,-78.6325, -78.5301,-78.3897,-78.1971,-78.0454, -77.9291,-77.9143,-77.9107,-78.2239, -78.5361,-78.7436,-78.9505,-79.1567, -79.4658,-79.6702,-79.8738,-80.1753, -80.3721,-80.5657,-80.8499,-81.1262, -81.3946,-81.6534,-81.8211,-81.9845, -82.144,-82.2988,-82.4487,-82.6645, -82.8021,-83.0608,-83.2397,-83.457, -83.6028,-83.7333,-83.8828,-84.0029, -84.0748,-84.14,-84.1714,-84.1822, -84.1664,-84.1342,-84.1204,-84.2066)
FOOTPRINT_POINT_LONGITUDE = (340.934,340.671,340.203,339.664, 339.039,338.306,337.441,336.406,336.335 ,335.1,341.79,350.627,361.457,368.461, 376.617,381.105,385.303,389.157,393.787 ,397.888,399.754,401.499,403.156, 404.698,406.143,407.507,408.803,410.012 ,411.153,412.229,413.244,414.202, 415.111,415.972,416.789,417.562,418.298 ,418.997,419.663,420.297,420.9,421.471, 422.012,422.525,423.011,423.474,423.914 ,424.334,424.734,424.927,424.953, 423.676,421.443,420.029,418.164,416.941 ,415.589,413.788,411.592,410.01,408.879 ,408.738,408.688,407.885,407.035, 406.439,405.819,405.172,404.133,403.408 ,402.648,401.442,400.603,399.732, 398.362,396.917,395.381,393.781,392.656 ,391.494,390.277,389.024,387.723, 385.686,384.245,381.279,378.902,375.565 ,372.939,370.212,366.44,362.532,359.564 ,355.466,352.41,349.302,344.231,341.228 ,340.249,340.934)
ORBIT_NUMBER = 6873
ORBITAL_ECCENTRICITY = 0.576
ORBITAL_INCLINATION = 86.78
ORBITAL_SEMIMAJOR_AXIS = 8713.88
PERIAPSIS_ALTITUDE = 311.85
PERIAPSIS_ARGUMENT_ANGLE = 231.99
PERIAPSIS_TIME = 2009-05-11T11:51:10.000Z
SPACECRAFT_ORIENTATION = (0.0,-1.0,0.0)
^MEX_ORIENTATION_DESC = "MEX_ORIENTATION_DESC.TXT"
SPACECRAFT_POINTING_MODE = ACROSSTRACK
^MEX_POINTING_DESC = "MEX_POINTING_DESC.TXT"
RIGHT_ASCENSION = -1e+32
DECLINATION = -1e+32
OFFSET_ANGLE = 1.3
SPACECRAFT_SOLAR_DISTANCE = 2.0708e+08
TARGET_NAME = MARS
/* CAMERA DATA ELEMENTS */
DETECTOR_TEMPERATURE = 19.1861
FOCAL_PLANE_TEMPERATURE = 9.195
INST_CMPRS_NAME = "DISCRETE COSINE TRANSFORMATION (DCT)"
INST_CMPRS_RATIO = 11.3753
INST_CMPRS_QUALITY = 0
INST_CMPRS_QUANTZ_TBL_ID = 0
INSTRUMENT_TEMPERATURE = 11.6418
LENS_TEMPERATURE = 9.8067
MACROPIXEL_SIZE = 4
MISSING_FRAMES = 0
PIXEL_SUBSAMPLING_FLAG = N
SIGNAL_CHAIN_ID = 2
/* RADIOMETRIC DATA ELEMENTS */
BANDWIDTH = 48.0
CENTER_FILTER_WAVELENGTH = 748.0
RADIANCE_OFFSET = 1.47421
RADIANCE_SCALING_FACTOR = 0.00756287
REFLECTANCE_SCALING_FACTOR = 0.0007401
MEX:REFLECTANCE_OFFSET = 0.144266
/* IMAGE OBJECT DEFINITIONS */
OBJECT = IMAGE
  INTERCHANGE_FORMAT = BINARY
  LINES = 5094
  LINE_SAMPLES = 6510
  SAMPLE_TYPE = UNSIGNED_INTEGER
  SAMPLE_BITS = 8
  BANDS = 1
  BAND_STORAGE_TYPE = BAND_SEQUENTIAL
  MAXIMUM = 255
  MEAN = 138.157
  MINIMUM = 1
  STANDARD_DEVIATION = 67.8164
END_OBJECT = IMAGE
/* MAP OBJECT DEFINITIONS */
OBJECT = IMAGE_MAP_PROJECTION
  ^DATA_SET_MAP_PROJECTION_CATALOG= "DSMAP.CAT"
  A_AXIS_RADIUS = 3396.0
  B_AXIS_RADIUS = 3396.0
  C_AXIS_RADIUS = 3396.0
  CENTER_LATITUDE = 0.0
  CENTER_LONGITUDE = 34.0
  COORDINATE_SYSTEM_NAME = PLANETOGRAPHIC
  COORDINATE_SYSTEM_TYPE = "BODY-FIXED ROTATING"
  EASTERNMOST_LONGITUDE = 64.953
  FIRST_STANDARD_PARALLEL = "N/A"
  LINE_FIRST_PIXEL = 1
  LINE_LAST_PIXEL = 5094
  LINE_PROJECTION_OFFSET = -46206.125
  MAP_PROJECTION_ROTATION = 0.0
  MAP_PROJECTION_TYPE = SINUSOIDAL
  MAP_RESOLUTION = 592.713803866667
  MAP_SCALE = 0.1
  MAXIMUM_LATITUDE = -77.91070000000001
  MINIMUM_LATITUDE = -86.6664
  POSITIVE_LONGITUDE_DIRECTION = EAST
  REFERENCE_LATITUDE = "N/A"
  REFERENCE_LONGITUDE = "N/A"
  SAMPLE_FIRST_PIXEL = 1
  SAMPLE_LAST_PIXEL = 6510
  SAMPLE_PROJECTION_OFFSET = 3194.625
  SECOND_STANDARD_PARALLEL = "N/A"
  WESTERNMOST_LONGITUDE = -24.9
END_OBJECT = IMAGE_MAP_PROJECTION
END
