PDS_VERSION_ID = PDS3
/* FILE DATA ELEMENTS */
RECORD_TYPE = UNDEFINED
/* POINTERS TO DATA OBJECTS */
^IMAGE = ("H6834_0000_S24.TIF")
/* IDENTIFICATION DATA ELEMENTS */
DATA_SET_ID = "MEX-M-HRSC-4-REFDR-MAPPROJECT-EXT2-V4.0"
DATA_SET_NAME = "MARS EXPRESS HRSC MAP PROJECTED REFDR EXTENSION2 V4.0"
DETECTOR_ID = MEX_HRSC_S2
EVENT_TYPE = "MARS-REGIONAL-MAPPING-Te-Gl-La"
INSTRUMENT_HOST_ID = MEX
INSTRUMENT_HOST_NAME = "MARS EXPRESS"
INSTRUMENT_ID = HRSC
INSTRUMENT_NAME = "HIGH RESOLUTION STEREO CAMERA"
MISSION_NAME = "MARS EXPRESS"
MISSION_PHASE_NAME = ME_Phase_17
PROCESSING_LEVEL_ID = 4
PRODUCT_CREATION_TIME = 2023-02-05T17:30:49.000Z
PRODUCT_ID = "H6834_0000_S24.TIF"
RELEASE_ID = 0007
REVISION_ID = 0000
/* QUALITY DATA ELEMENTS */
DATA_QUALITY_ID = 1
DATA_QUALITY_DESC = "Data calculated based on original SPICE kernels"
/* TIME DATA ELEMENTS */
SPACECRAFT_CLOCK_START_COUNT = "1/0189155132.08238"
SPACECRAFT_CLOCK_STOP_COUNT = "1/0189155518.04500"
START_TIME = 2009-04-30T07:07:38.750Z
STOP_TIME = 2009-04-30T07:11:58.580Z
/* ORBITAL DATA ELEMENTS */
ASCENDING_NODE_LONGITUDE = 87.35
MAXIMUM_RESOLUTION = 0.0556
FOOTPRINT_POINT_LATITUDE = (-83.1835,-83.5455,-83.7956,-84.0336, -84.2587,-84.4701,-84.6669,-84.6787, -84.7665,-84.4293,-84.1734,-83.9027, -83.5303,-83.1486,-82.7555,-82.4566, -82.1554,-81.8464,-81.4288,-81.1096, -80.7872,-80.4605,-80.2408,-80.0183, -79.7948,-79.57,-79.3397,-79.1153, -78.8845,-78.6511,-78.3,-77.9474, -77.7105,-77.4709,-77.2289,-76.9844, -76.7416,-76.3762,-76.1361,-75.8964, -75.537,-75.2972,-75.0589,-74.8226, -74.5869,-74.3524,-73.9984,-73.8821, -73.8629,-73.8358,-73.7911,-73.7546, -73.7141,-73.6705,-73.6225,-73.5654, -73.5173,-73.4511,-73.3736,-73.2355, -73.2264,-73.2239,-73.4476,-73.6721, -73.8972,-74.1229,-74.3496,-74.5769, -74.8049,-75.0333,-75.3756,-75.6066, -75.8376,-76.0688,-76.3003,-76.5289, -76.7537,-77.0909,-77.3129,-77.6437, -77.8635,-78.0793,-78.4008,-78.6111, -78.8204,-79.0274,-79.2323,-79.4337, -79.9298,-80.3148,-80.6908,-81.0533, -81.4973,-81.922,-82.2458,-82.5555, -82.777,-83.1265,-83.193,-83.1835)
FOOTPRINT_POINT_LONGITUDE = (0.962215,3.88174,6.18142,8.64104, 11.2675,14.0762,17.0765,17.2705,16.7272 ,19.4176,21.2081,22.8944,24.9398, 26.7704,28.4245,29.5548,30.599,31.5792, 32.783,33.6196,34.4019,35.1367,35.6015, 36.0495,36.4789,36.8914,37.2924,37.6714 ,38.0404,38.3974,38.9074,39.3901, 39.6984,39.9971,40.2863,40.5664,40.836, 41.2212,41.4647,41.699,42.0345,42.248, 42.4538,42.652,42.8434,43.0282,43.294, 43.3796,43.3937,42.4724,41.2011,40.279, 39.359,38.4409,37.5252,36.495,35.6959, 34.6724,33.5353,31.7302,31.6178,31.5765 ,31.345,31.1052,30.8568,30.5998,30.3319 ,30.0542,29.7656,29.4668,29.0027, 28.6683,28.3226,27.964,27.5907,27.21, 26.827,26.2121,25.7874,25.118,24.6411, 24.1621,23.4023,22.8866,22.3406,21.7788 ,21.1995,20.6075,19.0139,17.6477, 16.1697,14.6216,12.4188,10.0018,7.91814 ,5.66759,3.88249,0.660495,359.997, 0.962215)
ORBIT_NUMBER = 6834
ORBITAL_ECCENTRICITY = 0.576
ORBITAL_INCLINATION = 86.76
ORBITAL_SEMIMAJOR_AXIS = 8703.33
PERIAPSIS_ALTITUDE = 311.25
PERIAPSIS_ARGUMENT_ANGLE = 238.68
PERIAPSIS_TIME = 2009-04-30T06:57:07.000Z
SPACECRAFT_ORIENTATION = (0.0,-1.0,0.0)
^MEX_ORIENTATION_DESC = "MEX_ORIENTATION_DESC.TXT"
SPACECRAFT_POINTING_MODE = ACROSSTRACK
^MEX_POINTING_DESC = "MEX_POINTING_DESC.TXT"
RIGHT_ASCENSION = -1e+32
DECLINATION = -1e+32
OFFSET_ANGLE = 1.0
SPACECRAFT_SOLAR_DISTANCE = 2.0673e+08
TARGET_NAME = MARS
/* CAMERA DATA ELEMENTS */
DETECTOR_TEMPERATURE = 18.3705
FOCAL_PLANE_TEMPERATURE = 7.9716
INST_CMPRS_NAME = "DISCRETE COSINE TRANSFORMATION (DCT)"
INST_CMPRS_RATIO = 11.5567
INST_CMPRS_QUALITY = 0
INST_CMPRS_QUANTZ_TBL_ID = 0
INSTRUMENT_TEMPERATURE = 11.0301
LENS_TEMPERATURE = 8.1755
MACROPIXEL_SIZE = 2
MISSING_FRAMES = 0
PIXEL_SUBSAMPLING_FLAG = N
SIGNAL_CHAIN_ID = 1
/* RADIOMETRIC DATA ELEMENTS */
BANDWIDTH = 178.0
CENTER_FILTER_WAVELENGTH = 679.0
RADIANCE_OFFSET = 1.71948
RADIANCE_SCALING_FACTOR = 0.0612654
REFLECTANCE_SCALING_FACTOR = 0.0013866
MEX:REFLECTANCE_OFFSET = 0.0389165
/* IMAGE OBJECT DEFINITIONS */
OBJECT = IMAGE
  INTERCHANGE_FORMAT = BINARY
  LINES = 13666
  LINE_SAMPLES = 8275
  SAMPLE_TYPE = UNSIGNED_INTEGER
  SAMPLE_BITS = 8
  BANDS = 1
  BAND_STORAGE_TYPE = BAND_SEQUENTIAL
  MAXIMUM = 255
  MEAN = 191.169
  MINIMUM = 1
  STANDARD_DEVIATION = 49.592
END_OBJECT = IMAGE
/* MAP OBJECT DEFINITIONS */
OBJECT = IMAGE_MAP_PROJECTION
  ^DATA_SET_MAP_PROJECTION_CATALOG= "DSMAP.CAT"
  A_AXIS_RADIUS = 3396.0
  B_AXIS_RADIUS = 3396.0
  C_AXIS_RADIUS = 3396.0
  CENTER_LATITUDE = 0.0
  CENTER_LONGITUDE = 29.0
  COORDINATE_SYSTEM_NAME = PLANETOGRAPHIC
  COORDINATE_SYSTEM_TYPE = "BODY-FIXED ROTATING"
  EASTERNMOST_LONGITUDE = 359.997
  FIRST_STANDARD_PARALLEL = "N/A"
  LINE_FIRST_PIXEL = 1
  LINE_LAST_PIXEL = 13666
  LINE_PROJECTION_OFFSET = -86801.25
  MAP_PROJECTION_ROTATION = 0.0
  MAP_PROJECTION_TYPE = SINUSOIDAL
  MAP_RESOLUTION = 1185.42760773333
  MAP_SCALE = 0.05
  MAXIMUM_LATITUDE = -73.2239
  MINIMUM_LATITUDE = -84.76649999999999
  POSITIVE_LONGITUDE_DIRECTION = EAST
  REFERENCE_LATITUDE = "N/A"
  REFERENCE_LONGITUDE = "N/A"
  SAMPLE_FIRST_PIXEL = 1
  SAMPLE_LAST_PIXEL = 8275
  SAMPLE_PROJECTION_OFFSET = 3917.75
  SECOND_STANDARD_PARALLEL = "N/A"
  WESTERNMOST_LONGITUDE = 0.660495
END_OBJECT = IMAGE_MAP_PROJECTION
END
