PDS_VERSION_ID = PDS3
/* FILE DATA ELEMENTS */
RECORD_TYPE = UNDEFINED
/* POINTERS TO DATA OBJECTS */
^IMAGE = ("H6831_0000_IR4.TIF")
/* IDENTIFICATION DATA ELEMENTS */
DATA_SET_ID = "MEX-M-HRSC-4-REFDR-MAPPROJECT-EXT2-V4.0"
DATA_SET_NAME = "MARS EXPRESS HRSC MAP PROJECTED REFDR EXTENSION2 V4.0"
DETECTOR_ID = MEX_HRSC_IR
EVENT_TYPE = "MARS-LOCAL-COLOR-Im-Lc"
INSTRUMENT_HOST_ID = MEX
INSTRUMENT_HOST_NAME = "MARS EXPRESS"
INSTRUMENT_ID = HRSC
INSTRUMENT_NAME = "HIGH RESOLUTION STEREO CAMERA"
MISSION_NAME = "MARS EXPRESS"
MISSION_PHASE_NAME = ME_Phase_17
PROCESSING_LEVEL_ID = 4
PRODUCT_CREATION_TIME = 2023-02-05T17:30:49.000Z
PRODUCT_ID = "H6831_0000_IR4.TIF"
RELEASE_ID = 0007
REVISION_ID = 0000
/* QUALITY DATA ELEMENTS */
DATA_QUALITY_ID = 1
DATA_QUALITY_DESC = "Data calculated based on original SPICE kernels"
/* TIME DATA ELEMENTS */
SPACECRAFT_CLOCK_START_COUNT = "1/0189080809.07287"
SPACECRAFT_CLOCK_STOP_COUNT = "1/0189081455.28644"
START_TIME = 2009-04-29T10:27:02.903Z
STOP_TIME = 2009-04-29T10:32:01.386Z
/* ORBITAL DATA ELEMENTS */
ASCENDING_NODE_LONGITUDE = 87.41
MAXIMUM_RESOLUTION = 0.1133
FOOTPRINT_POINT_LATITUDE = (-75.8454,-76.0572,-76.1759,-76.2854, -76.3857,-76.477,-76.5593,-76.5641, -76.4821,-75.8728,-75.2516,-74.4632, -73.8179,-73.4928,-73.1639,-72.8321, -72.4986,-72.1613,-71.8216,-71.4785, -70.9603,-70.4381,-70.0882,-69.7468, -69.403,-69.059,-68.7155,-68.1999, -67.8579,-67.5159,-67.1755,-66.8355, -66.4964,-66.1583,-65.8211,-65.4849, -65.1492,-64.8144,-64.4802,-64.1471, -63.8152,-63.4838,-63.1528,-62.8227, -62.4945,-62.163,-61.5113,-60.6982, -60.0506,-59.8895,-59.8649,-59.8224, -59.772,-59.7122,-59.6264,-59.5536, -59.4291,-59.4227,-59.4222,-60.2225, -60.8657,-61.5042,-62.3179,-62.8048, -63.4642,-63.7937,-64.1222,-64.4525, -64.7832,-65.1161,-65.4477,-65.7806, -66.1141,-66.6157,-66.9508,-67.2836, -67.622,-68.1293,-68.4688,-68.8057, -69.1456,-69.4836,-69.8232,-70.1654, -70.5082,-70.8488,-71.1839,-71.5165, -71.8467,-72.1699,-72.4932,-72.8141, -73.1316,-73.6044,-74.2245,-74.68, -75.1322,-75.5765,-75.7215,-75.8454)
FOOTPRINT_POINT_LONGITUDE = (333.486,335.684,337.058,338.446, 339.847,341.261,342.688,342.777,342.916 ,343.496,344.035,344.652,345.11,345.326 ,345.536,345.738,345.933,346.123, 346.305,346.483,346.737,346.979,347.134 ,347.277,347.417,347.552,347.682, 347.869,347.988,348.102,348.212,348.319 ,348.421,348.52,348.615,348.707,348.796 ,348.881,348.964,349.044,349.122, 349.197,349.269,349.34,349.407,349.475, 349.599,349.745,349.855,349.881,349.885 ,348.626,347.563,346.5,345.172,344.242, 342.847,342.78,342.758,342.594,342.45, 342.29,342.082,341.944,341.754,341.652, 341.545,341.435,341.32,341.203,341.079, 340.95,340.817,340.607,340.46,340.304, 340.147,339.897,339.723,339.538,339.348 ,339.148,338.941,338.726,338.502,338.27 ,338.029,337.779,337.522,337.253, 336.978,336.692,336.398,335.938,335.285 ,334.764,334.216,333.637,333.436, 333.486)
ORBIT_NUMBER = 6831
ORBITAL_ECCENTRICITY = 0.576
ORBITAL_INCLINATION = 86.78
ORBITAL_SEMIMAJOR_AXIS = 8700.93
PERIAPSIS_ALTITUDE = 311.69
PERIAPSIS_ARGUMENT_ANGLE = 239.18
PERIAPSIS_TIME = 2009-04-29T10:16:06.000Z
SPACECRAFT_ORIENTATION = (0.0,-1.0,0.0)
^MEX_ORIENTATION_DESC = "MEX_ORIENTATION_DESC.TXT"
SPACECRAFT_POINTING_MODE = ACROSSTRACK
^MEX_POINTING_DESC = "MEX_POINTING_DESC.TXT"
RIGHT_ASCENSION = -1e+32
DECLINATION = -1e+32
OFFSET_ANGLE = 0.8
SPACECRAFT_SOLAR_DISTANCE = 2.06714e+08
TARGET_NAME = MARS
/* CAMERA DATA ELEMENTS */
DETECTOR_TEMPERATURE = 17.5549
FOCAL_PLANE_TEMPERATURE = 10.0106
INST_CMPRS_NAME = "DISCRETE COSINE TRANSFORMATION (DCT)"
INST_CMPRS_RATIO = 17.6807
INST_CMPRS_QUALITY = 0
INST_CMPRS_QUANTZ_TBL_ID = 0
INSTRUMENT_TEMPERATURE = 11.234
LENS_TEMPERATURE = 9.195
MACROPIXEL_SIZE = 4
MISSING_FRAMES = 0
PIXEL_SUBSAMPLING_FLAG = N
SIGNAL_CHAIN_ID = 2
/* RADIOMETRIC DATA ELEMENTS */
BANDWIDTH = 81.0
CENTER_FILTER_WAVELENGTH = 955.5
RADIANCE_OFFSET = 1.31497
RADIANCE_SCALING_FACTOR = 0.0110422
REFLECTANCE_SCALING_FACTOR = 0.00101795
MEX:REFLECTANCE_OFFSET = 0.121224
/* IMAGE OBJECT DEFINITIONS */
OBJECT = IMAGE
  INTERCHANGE_FORMAT = BINARY
  LINES = 10079
  LINE_SAMPLES = 3508
  SAMPLE_TYPE = UNSIGNED_INTEGER
  SAMPLE_BITS = 8
  BANDS = 1
  BAND_STORAGE_TYPE = BAND_SEQUENTIAL
  MAXIMUM = 255
  MEAN = 92.4339
  MINIMUM = 1
  STANDARD_DEVIATION = 76.7791
END_OBJECT = IMAGE
/* MAP OBJECT DEFINITIONS */
OBJECT = IMAGE_MAP_PROJECTION
  ^DATA_SET_MAP_PROJECTION_CATALOG= "DSMAP.CAT"
  A_AXIS_RADIUS = 3396.0
  B_AXIS_RADIUS = 3396.0
  C_AXIS_RADIUS = 3396.0
  CENTER_LATITUDE = 0.0
  CENTER_LONGITUDE = 344.0
  COORDINATE_SYSTEM_NAME = PLANETOGRAPHIC
  COORDINATE_SYSTEM_TYPE = "BODY-FIXED ROTATING"
  EASTERNMOST_LONGITUDE = 349.885
  FIRST_STANDARD_PARALLEL = "N/A"
  LINE_FIRST_PIXEL = 1
  LINE_LAST_PIXEL = 10079
  LINE_PROJECTION_OFFSET = -35243.375
  MAP_PROJECTION_ROTATION = 0.0
  MAP_PROJECTION_TYPE = SINUSOIDAL
  MAP_RESOLUTION = 592.713803866667
  MAP_SCALE = 0.1
  MAXIMUM_LATITUDE = -59.4222
  MINIMUM_LATITUDE = -76.5641
  POSITIVE_LONGITUDE_DIRECTION = EAST
  REFERENCE_LATITUDE = "N/A"
  REFERENCE_LONGITUDE = "N/A"
  SAMPLE_FIRST_PIXEL = 1
  SAMPLE_LAST_PIXEL = 3508
  SAMPLE_PROJECTION_OFFSET = 1617.125
  SECOND_STANDARD_PARALLEL = "N/A"
  WESTERNMOST_LONGITUDE = 333.436
END_OBJECT = IMAGE_MAP_PROJECTION
END
