PDS_VERSION_ID = PDS3
/* FILE DATA ELEMENTS */
RECORD_TYPE = UNDEFINED
/* POINTERS TO DATA OBJECTS */
^IMAGE = ("H6828_0000_S14.TIF")
/* IDENTIFICATION DATA ELEMENTS */
DATA_SET_ID = "MEX-M-HRSC-4-REFDR-MAPPROJECT-EXT2-V4.0"
DATA_SET_NAME = "MARS EXPRESS HRSC MAP PROJECTED REFDR EXTENSION2 V4.0"
DETECTOR_ID = MEX_HRSC_S1
EVENT_TYPE = "MARS-REGIONAL-MAPPING-Gl-La-At"
INSTRUMENT_HOST_ID = MEX
INSTRUMENT_HOST_NAME = "MARS EXPRESS"
INSTRUMENT_ID = HRSC
INSTRUMENT_NAME = "HIGH RESOLUTION STEREO CAMERA"
MISSION_NAME = "MARS EXPRESS"
MISSION_PHASE_NAME = ME_Phase_17
PROCESSING_LEVEL_ID = 4
PRODUCT_CREATION_TIME = 2023-02-05T17:30:49.000Z
PRODUCT_ID = "H6828_0000_S14.TIF"
RELEASE_ID = 0007
REVISION_ID = 0000
/* QUALITY DATA ELEMENTS */
DATA_QUALITY_ID = 1
DATA_QUALITY_DESC = "Data calculated based on original SPICE kernels"
/* TIME DATA ELEMENTS */
SPACECRAFT_CLOCK_START_COUNT = "1/0189006219.08388"
SPACECRAFT_CLOCK_STOP_COUNT = "1/0189006631.57339"
START_TIME = 2009-04-28T13:43:41.549Z
STOP_TIME = 2009-04-28T13:47:05.179Z
/* ORBITAL DATA ELEMENTS */
ASCENDING_NODE_LONGITUDE = 87.47
MAXIMUM_RESOLUTION = 0.0465
FOOTPRINT_POINT_LATITUDE = (-82.7104,-82.9865,-83.1521,-83.3083, -83.4545,-83.5824,-83.6932,-83.7008, -83.6179,-83.2187,-82.813,-82.2927, -81.8678,-81.5469,-81.2179,-80.7756, -80.55,-80.3251,-80.0976,-79.8683, -79.6387,-79.4054,-79.1641,-78.9277, -78.6973,-78.4568,-78.2126,-77.9748, -77.7312,-77.3632,-77.1135,-76.7416, -76.4912,-76.1091,-75.8527,-75.5925, -75.3317,-75.0637,-74.805,-74.5398, -74.2729,-74.0037,-73.7324,-73.4558, -73.044,-72.7679,-72.4894,-72.0659, -71.6393,-71.496,-71.4607,-71.3903, -71.3331,-71.2609,-71.1433,-71.0417, -70.9716,-70.9646,-70.9631,-71.242, -71.5189,-71.7958,-72.0704,-72.346, -72.6186,-72.8871,-73.1525,-73.415, -73.6814,-74.0824,-74.3401,-74.7226, -74.978,-75.2297,-75.479,-75.7283, -75.9748,-76.2193,-76.4605,-76.7025, -76.9379,-77.1764,-77.4099,-77.6412, -77.8753,-78.2143,-78.4392,-78.7751, -78.9945,-79.2123,-79.537,-79.9619, -80.3773,-80.8852,-81.2817,-81.6678, -82.1344,-82.4926,-82.5804,-82.7104)
FOOTPRINT_POINT_LONGITUDE = (260.259,263.161,265.132,267.195, 269.346,271.449,273.484,273.632,274.236 ,275.795,277.178,278.723,279.828,280.58 ,281.295,282.169,282.582,282.972, 283.347,283.708,284.052,284.386,284.723 ,285.032,285.31,285.599,285.88,286.135, 286.389,286.754,286.99,287.32,287.531, 287.841,288.039,288.233,288.42,288.609, 288.776,288.945,289.109,289.268,289.424 ,289.579,289.795,289.934,290.068, 290.266,290.455,290.516,290.531,288.787 ,287.604,286.352,284.796,283.482, 282.564,282.487,282.459,282.279,282.096 ,281.907,281.713,281.515,281.309, 281.099,280.88,280.656,280.426,280.07, 279.822,279.435,279.168,278.891,278.607 ,278.313,278.011,277.698,277.376, 277.042,276.699,276.342,275.975,275.595 ,275.2,274.585,274.156,273.484,273.016, 272.531,271.767,270.682,269.514,267.917 ,266.517,265.0,262.921,261.095,260.614, 260.259)
ORBIT_NUMBER = 6828
ORBITAL_ECCENTRICITY = 0.576
ORBITAL_INCLINATION = 86.77
ORBITAL_SEMIMAJOR_AXIS = 8703.78
PERIAPSIS_ALTITUDE = 311.54
PERIAPSIS_ARGUMENT_ANGLE = 239.71
PERIAPSIS_TIME = 2009-04-28T13:35:03.000Z
SPACECRAFT_ORIENTATION = (0.0,-1.0,0.0)
^MEX_ORIENTATION_DESC = "MEX_ORIENTATION_DESC.TXT"
SPACECRAFT_POINTING_MODE = ACROSSTRACK
^MEX_POINTING_DESC = "MEX_POINTING_DESC.TXT"
RIGHT_ASCENSION = -1e+32
DECLINATION = -1e+32
OFFSET_ANGLE = 0.3
SPACECRAFT_SOLAR_DISTANCE = 2.067e+08
TARGET_NAME = MARS
/* CAMERA DATA ELEMENTS */
DETECTOR_TEMPERATURE = 17.1471
FOCAL_PLANE_TEMPERATURE = 7.9716
INST_CMPRS_NAME = "DISCRETE COSINE TRANSFORMATION (DCT)"
INST_CMPRS_RATIO = 12.5894
INST_CMPRS_QUALITY = 0
INST_CMPRS_QUANTZ_TBL_ID = 0
INSTRUMENT_TEMPERATURE = 11.0301
LENS_TEMPERATURE = 8.3794
MACROPIXEL_SIZE = 2
MISSING_FRAMES = 0
PIXEL_SUBSAMPLING_FLAG = N
SIGNAL_CHAIN_ID = 1
/* RADIOMETRIC DATA ELEMENTS */
BANDWIDTH = 180.0
CENTER_FILTER_WAVELENGTH = 677.0
RADIANCE_OFFSET = 5.90894
RADIANCE_SCALING_FACTOR = 0.0443054
REFLECTANCE_SCALING_FACTOR = 0.000987604
MEX:REFLECTANCE_OFFSET = 0.131715
/* IMAGE OBJECT DEFINITIONS */
OBJECT = IMAGE
  INTERCHANGE_FORMAT = BINARY
  LINES = 15009
  LINE_SAMPLES = 7002
  SAMPLE_TYPE = UNSIGNED_INTEGER
  SAMPLE_BITS = 8
  BANDS = 1
  BAND_STORAGE_TYPE = BAND_SEQUENTIAL
  MAXIMUM = 255
  MEAN = 153.09
  MINIMUM = 1
  STANDARD_DEVIATION = 65.113
END_OBJECT = IMAGE
/* MAP OBJECT DEFINITIONS */
OBJECT = IMAGE_MAP_PROJECTION
  ^DATA_SET_MAP_PROJECTION_CATALOG= "DSMAP.CAT"
  A_AXIS_RADIUS = 3396.0
  B_AXIS_RADIUS = 3396.0
  C_AXIS_RADIUS = 3396.0
  CENTER_LATITUDE = 0.0
  CENTER_LONGITUDE = 281.0
  COORDINATE_SYSTEM_NAME = PLANETOGRAPHIC
  COORDINATE_SYSTEM_TYPE = "BODY-FIXED ROTATING"
  EASTERNMOST_LONGITUDE = 290.531
  FIRST_STANDARD_PARALLEL = "N/A"
  LINE_FIRST_PIXEL = 1
  LINE_LAST_PIXEL = 15009
  LINE_PROJECTION_OFFSET = -84099.25
  MAP_PROJECTION_ROTATION = 0.0
  MAP_PROJECTION_TYPE = SINUSOIDAL
  MAP_RESOLUTION = 1185.42760773333
  MAP_SCALE = 0.05
  MAXIMUM_LATITUDE = -70.9631
  MINIMUM_LATITUDE = -83.7008
  POSITIVE_LONGITUDE_DIRECTION = EAST
  REFERENCE_LATITUDE = "N/A"
  REFERENCE_LONGITUDE = "N/A"
  SAMPLE_FIRST_PIXEL = 1
  SAMPLE_LAST_PIXEL = 7002
  SAMPLE_PROJECTION_OFFSET = 3235.25
  SECOND_STANDARD_PARALLEL = "N/A"
  WESTERNMOST_LONGITUDE = 260.259
END_OBJECT = IMAGE_MAP_PROJECTION
END
