PDS_VERSION_ID = PDS3
/* FILE DATA ELEMENTS */
RECORD_TYPE = UNDEFINED
/* POINTERS TO DATA OBJECTS */
^IMAGE = ("H6751_0000_P24.TIF")
/* IDENTIFICATION DATA ELEMENTS */
DATA_SET_ID = "MEX-M-HRSC-4-REFDR-MAPPROJECT-EXT2-V4.0"
DATA_SET_NAME = "MARS EXPRESS HRSC MAP PROJECTED REFDR EXTENSION2 V4.0"
DETECTOR_ID = MEX_HRSC_P2
EVENT_TYPE = "MARS-REGIONAL-MAPPING-Gl-La"
INSTRUMENT_HOST_ID = MEX
INSTRUMENT_HOST_NAME = "MARS EXPRESS"
INSTRUMENT_ID = HRSC
INSTRUMENT_NAME = "HIGH RESOLUTION STEREO CAMERA"
MISSION_NAME = "MARS EXPRESS"
MISSION_PHASE_NAME = ME_Phase_16
PROCESSING_LEVEL_ID = 4
PRODUCT_CREATION_TIME = 2023-02-05T17:30:49.000Z
PRODUCT_ID = "H6751_0000_P24.TIF"
RELEASE_ID = 0007
REVISION_ID = 0000
/* QUALITY DATA ELEMENTS */
DATA_QUALITY_ID = 1
DATA_QUALITY_DESC = "Data calculated based on original SPICE kernels"
/* TIME DATA ELEMENTS */
SPACECRAFT_CLOCK_START_COUNT = "1/0187094822.09044"
SPACECRAFT_CLOCK_STOP_COUNT = "1/0187095099.52496"
START_TIME = 2009-04-06T10:48:14.168Z
STOP_TIME = 2009-04-06T10:51:14.852Z
/* ORBITAL DATA ELEMENTS */
ASCENDING_NODE_LONGITUDE = 88.97
MAXIMUM_RESOLUTION = 0.0385
FOOTPRINT_POINT_LATITUDE = (-80.6346,-80.7272,-80.8546,-81.0119, -81.0877,-81.1703,-81.1745,-81.2487, -80.989,-80.6421,-80.289,-79.9362, -79.5753,-79.2148,-78.9368,-78.6609, -78.4759,-78.2833,-78.0962,-77.9093, -77.72,-77.5288,-77.338,-77.0497, -76.7634,-76.5698,-76.3721,-76.1732, -75.9746,-75.7746,-75.5744,-75.3746, -75.1721,-74.9695,-74.7676,-74.5618, -74.2533,-73.9417,-73.7338,-73.5247, -73.3153,-72.9987,-72.7881,-72.578, -72.3627,-72.0346,-71.8087,-71.5952, -71.4881,-71.4363,-71.4186,-71.3885, -71.3653,-71.329,-71.2765,-71.2427, -71.1835,-71.1229,-71.1187,-71.1179, -71.3357,-71.551,-71.7656,-71.9782, -72.1915,-72.402,-72.6121,-72.8212, -73.0288,-73.2354,-73.5431,-73.7475, -74.0539,-74.2549,-74.456,-74.6547, -74.8536,-75.1483,-75.3443,-75.5401, -75.732,-75.9246,-76.1174,-76.3068, -76.4955,-76.7779,-76.9632,-77.2392, -77.4274,-77.7024,-77.8848,-78.2441, -78.5992,-78.9496,-79.385,-79.7263, -80.0655,-80.5631,-80.6457,-80.6346)
FOOTPRINT_POINT_LONGITUDE = (116.88,118.18,120.128,122.865,124.362, 126.174,126.27,126.375,126.875,127.495, 128.079,128.624,129.136,129.616,129.956 ,130.283,130.49,130.69,130.889,131.082, 131.269,131.452,131.63,131.886,132.14, 132.299,132.454,132.604,132.75,132.894, 133.035,133.172,133.307,133.439,133.568 ,133.693,133.876,134.053,134.168, 134.282,134.394,134.555,134.663,134.769 ,134.87,135.012,135.101,135.199,135.248 ,135.27,134.677,133.818,133.225,132.372 ,131.261,130.609,129.574,128.607, 128.543,128.519,128.397,128.273,128.148 ,128.019,127.886,127.751,127.612, 127.471,127.325,127.179,126.949,126.792 ,126.541,126.376,126.203,126.028, 125.847,125.57,125.378,125.181,124.983, 124.776,124.563,124.348,124.127,123.784 ,123.55,123.193,122.925,122.526,122.253 ,121.688,121.097,120.466,119.615, 118.889,118.115,116.86,116.637,116.88)
ORBIT_NUMBER = 6751
ORBITAL_ECCENTRICITY = 0.575
ORBITAL_INCLINATION = 86.77
ORBITAL_SEMIMAJOR_AXIS = 8684.3
PERIAPSIS_ALTITUDE = 309.9
PERIAPSIS_ARGUMENT_ANGLE = 252.89
PERIAPSIS_TIME = 2009-04-06T10:41:10.000Z
SPACECRAFT_ORIENTATION = (0.0,-1.0,0.0)
^MEX_ORIENTATION_DESC = "MEX_ORIENTATION_DESC.TXT"
SPACECRAFT_POINTING_MODE = NADIR
^MEX_POINTING_DESC = "MEX_POINTING_DESC.TXT"
RIGHT_ASCENSION = -1e+32
DECLINATION = -1e+32
OFFSET_ANGLE = -1e+32
SPACECRAFT_SOLAR_DISTANCE = 2.06887e+08
TARGET_NAME = MARS
/* CAMERA DATA ELEMENTS */
DETECTOR_TEMPERATURE = 18.7783
FOCAL_PLANE_TEMPERATURE = 8.9911
INST_CMPRS_NAME = "DISCRETE COSINE TRANSFORMATION (DCT)"
INST_CMPRS_RATIO = 8.31971
INST_CMPRS_QUALITY = 0
INST_CMPRS_QUANTZ_TBL_ID = 0
INSTRUMENT_TEMPERATURE = 12.6613
LENS_TEMPERATURE = 9.195
MACROPIXEL_SIZE = 2
MISSING_FRAMES = 0
PIXEL_SUBSAMPLING_FLAG = N
SIGNAL_CHAIN_ID = 3
/* RADIOMETRIC DATA ELEMENTS */
BANDWIDTH = 177.0
CENTER_FILTER_WAVELENGTH = 676.5
RADIANCE_OFFSET = 7.15475
RADIANCE_SCALING_FACTOR = 0.0207128
REFLECTANCE_SCALING_FACTOR = 0.000470069
MEX:REFLECTANCE_OFFSET = 0.162374
/* IMAGE OBJECT DEFINITIONS */
OBJECT = IMAGE
  INTERCHANGE_FORMAT = BINARY
  LINES = 24006
  LINE_SAMPLES = 9604
  SAMPLE_TYPE = UNSIGNED_INTEGER
  SAMPLE_BITS = 8
  BANDS = 1
  BAND_STORAGE_TYPE = BAND_SEQUENTIAL
  MAXIMUM = 255
  MEAN = 110.817
  MINIMUM = 1
  STANDARD_DEVIATION = 37.0901
END_OBJECT = IMAGE
/* MAP OBJECT DEFINITIONS */
OBJECT = IMAGE_MAP_PROJECTION
  ^DATA_SET_MAP_PROJECTION_CATALOG= "DSMAP.CAT"
  A_AXIS_RADIUS = 3396.0
  B_AXIS_RADIUS = 3396.0
  C_AXIS_RADIUS = 3396.0
  CENTER_LATITUDE = 0.0
  CENTER_LONGITUDE = 128.0
  COORDINATE_SYSTEM_NAME = PLANETOGRAPHIC
  COORDINATE_SYSTEM_TYPE = "BODY-FIXED ROTATING"
  EASTERNMOST_LONGITUDE = 135.27
  FIRST_STANDARD_PARALLEL = "N/A"
  LINE_FIRST_PIXEL = 1
  LINE_LAST_PIXEL = 24006
  LINE_PROJECTION_OFFSET = -168636.25
  MAP_PROJECTION_ROTATION = 0.0
  MAP_PROJECTION_TYPE = SINUSOIDAL
  MAP_RESOLUTION = 2370.85521546667
  MAP_SCALE = 0.025
  MAXIMUM_LATITUDE = -71.11790000000001
  MINIMUM_LATITUDE = -81.2487
  POSITIVE_LONGITUDE_DIRECTION = EAST
  REFERENCE_LATITUDE = "N/A"
  REFERENCE_LONGITUDE = "N/A"
  SAMPLE_FIRST_PIXEL = 1
  SAMPLE_LAST_PIXEL = 9604
  SAMPLE_PROJECTION_OFFSET = 4323.25
  SECOND_STANDARD_PARALLEL = "N/A"
  WESTERNMOST_LONGITUDE = 116.637
END_OBJECT = IMAGE_MAP_PROJECTION
END
