PDS_VERSION_ID = PDS3
/* FILE DATA ELEMENTS */
RECORD_TYPE = UNDEFINED
/* POINTERS TO DATA OBJECTS */
^IMAGE = ("H6733_0000_ND4.TIF")
/* IDENTIFICATION DATA ELEMENTS */
DATA_SET_ID = "MEX-M-HRSC-4-REFDR-MAPPROJECT-EXT2-V4.0"
DATA_SET_NAME = "MARS EXPRESS HRSC MAP PROJECTED REFDR EXTENSION2 V4.0"
DETECTOR_ID = MEX_HRSC_NADIR
EVENT_TYPE = "MARS-LOCAL-STEREO-Im-Gl"
INSTRUMENT_HOST_ID = MEX
INSTRUMENT_HOST_NAME = "MARS EXPRESS"
INSTRUMENT_ID = HRSC
INSTRUMENT_NAME = "HIGH RESOLUTION STEREO CAMERA"
MISSION_NAME = "MARS EXPRESS"
MISSION_PHASE_NAME = ME_Phase_16
PROCESSING_LEVEL_ID = 4
PRODUCT_CREATION_TIME = 2023-02-05T17:30:49.000Z
PRODUCT_ID = "H6733_0000_ND4.TIF"
RELEASE_ID = 0007
REVISION_ID = 0000
/* QUALITY DATA ELEMENTS */
DATA_QUALITY_ID = 1
DATA_QUALITY_DESC = "Data calculated based on original SPICE kernels"
/* TIME DATA ELEMENTS */
SPACECRAFT_CLOCK_START_COUNT = "1/0186648106.09069"
SPACECRAFT_CLOCK_STOP_COUNT = "1/0186648300.32887"
START_TIME = 2009-04-01T06:42:33.445Z
STOP_TIME = 2009-04-01T06:43:56.418Z
/* ORBITAL DATA ELEMENTS */
ASCENDING_NODE_LONGITUDE = 89.32
MAXIMUM_RESOLUTION = 0.0195
FOOTPRINT_POINT_LATITUDE = (-73.932,-73.9906,-74.0281,-74.0645, -74.0997,-74.1337,-74.1665,-74.1981, -74.2285,-74.2579,-74.2861,-74.3132, -74.3392,-74.3424,-74.3443,-74.2098, -74.0276,-73.8445,-73.6616,-73.4789, -73.2929,-73.1065,-72.9203,-72.7342, -72.5445,-72.2601,-72.0707,-71.8781, -71.7816,-71.6853,-71.5889,-71.3963, -71.2495,-71.1515,-71.0535,-70.9555, -70.8576,-70.7598,-70.6108,-70.5112, -70.4116,-70.3121,-70.2126,-70.1133, -70.0127,-69.9115,-69.8104,-69.7093, -69.6083,-69.5578,-69.5352,-69.5142, -69.4833,-69.4502,-69.428,-69.4016, -69.3739,-69.3523,-69.3225,-69.2914, -69.2591,-69.2213,-69.1862,-69.1817, -69.1798,-69.2795,-69.3792,-69.479, -69.5788,-69.7285,-69.8265,-69.9247, -70.0228,-70.121,-70.2684,-70.3667, -70.4632,-70.5597,-70.6563,-70.7529, -70.8495,-70.9463,-71.0898,-71.2798, -71.4698,-71.6598,-71.8464,-72.0333, -72.2202,-72.3597,-72.5425,-72.7252, -72.9083,-73.0915,-73.271,-73.4506, -73.6304,-73.8525,-73.8965,-73.932)
FOOTPRINT_POINT_LONGITUDE = (138.779,139.488,139.96,140.432,140.904 ,141.376,141.848,142.319,142.79,143.26, 143.731,144.202,144.672,144.731,144.749 ,144.859,145.006,145.15,145.291,145.427 ,145.564,145.697,145.827,145.954, 146.081,146.265,146.385,146.503,146.562 ,146.619,146.677,146.789,146.873, 146.928,146.982,147.036,147.09,147.143, 147.222,147.274,147.326,147.377,147.427 ,147.477,147.527,147.577,147.626, 147.675,147.723,147.747,147.757,147.326 ,146.729,146.132,145.751,145.316, 144.879,144.551,144.113,143.675,143.236 ,142.741,142.3,142.245,142.218,142.16, 142.102,142.043,141.983,141.893,141.833 ,141.771,141.709,141.647,141.552, 141.488,141.424,141.36,141.295,141.228, 141.161,141.095,140.996,140.862,140.722 ,140.576,140.433,140.29,140.141,140.026 ,139.867,139.703,139.539,139.384, 139.216,139.045,138.87,138.645,138.6, 138.779)
ORBIT_NUMBER = 6733
ORBITAL_ECCENTRICITY = 0.575
ORBITAL_INCLINATION = 86.76
ORBITAL_SEMIMAJOR_AXIS = 8682.45
PERIAPSIS_ALTITUDE = 309.82
PERIAPSIS_ARGUMENT_ANGLE = 255.97
PERIAPSIS_TIME = 2009-04-01T06:34:57.000Z
SPACECRAFT_ORIENTATION = (0.0,-1.0,0.0)
^MEX_ORIENTATION_DESC = "MEX_ORIENTATION_DESC.TXT"
SPACECRAFT_POINTING_MODE = ACROSSTRACK
^MEX_POINTING_DESC = "MEX_POINTING_DESC.TXT"
RIGHT_ASCENSION = -1e+32
DECLINATION = -1e+32
OFFSET_ANGLE = 0.9
SPACECRAFT_SOLAR_DISTANCE = 2.07082e+08
TARGET_NAME = MARS
/* CAMERA DATA ELEMENTS */
DETECTOR_TEMPERATURE = 17.9627
FOCAL_PLANE_TEMPERATURE = 7.5638
INST_CMPRS_NAME = "DISCRETE COSINE TRANSFORMATION (DCT)"
INST_CMPRS_RATIO = 5.90349
INST_CMPRS_QUALITY = 0
INST_CMPRS_QUANTZ_TBL_ID = 0
INSTRUMENT_TEMPERATURE = 11.0301
LENS_TEMPERATURE = 9.6028
MACROPIXEL_SIZE = 1
MISSING_FRAMES = 0
PIXEL_SUBSAMPLING_FLAG = N
SIGNAL_CHAIN_ID = 0
/* RADIOMETRIC DATA ELEMENTS */
BANDWIDTH = 177.0
CENTER_FILTER_WAVELENGTH = 677.5
RADIANCE_OFFSET = 6.08613
RADIANCE_SCALING_FACTOR = 0.0286888
REFLECTANCE_SCALING_FACTOR = 0.000653557
MEX:REFLECTANCE_OFFSET = 0.138648
/* IMAGE OBJECT DEFINITIONS */
OBJECT = IMAGE
  INTERCHANGE_FORMAT = BINARY
  LINES = 12247
  LINE_SAMPLES = 6675
  SAMPLE_TYPE = UNSIGNED_INTEGER
  SAMPLE_BITS = 8
  BANDS = 1
  BAND_STORAGE_TYPE = BAND_SEQUENTIAL
  MAXIMUM = 254
  MEAN = 78.5915
  MINIMUM = 1
  STANDARD_DEVIATION = 40.5372
END_OBJECT = IMAGE
/* MAP OBJECT DEFINITIONS */
OBJECT = IMAGE_MAP_PROJECTION
  ^DATA_SET_MAP_PROJECTION_CATALOG= "DSMAP.CAT"
  A_AXIS_RADIUS = 3396.0
  B_AXIS_RADIUS = 3396.0
  C_AXIS_RADIUS = 3396.0
  CENTER_LATITUDE = 0.0
  CENTER_LONGITUDE = 144.0
  COORDINATE_SYSTEM_NAME = PLANETOGRAPHIC
  COORDINATE_SYSTEM_TYPE = "BODY-FIXED ROTATING"
  EASTERNMOST_LONGITUDE = 147.757
  FIRST_STANDARD_PARALLEL = "N/A"
  LINE_FIRST_PIXEL = 1
  LINE_LAST_PIXEL = 12247
  LINE_PROJECTION_OFFSET = -164020.0
  MAP_PROJECTION_ROTATION = 0.0
  MAP_PROJECTION_TYPE = SINUSOIDAL
  MAP_RESOLUTION = 2370.85521546667
  MAP_SCALE = 0.025
  MAXIMUM_LATITUDE = -69.1798
  MINIMUM_LATITUDE = -74.3443
  POSITIVE_LONGITUDE_DIRECTION = EAST
  REFERENCE_LATITUDE = "N/A"
  REFERENCE_LONGITUDE = "N/A"
  SAMPLE_FIRST_PIXEL = 1
  SAMPLE_LAST_PIXEL = 6675
  SAMPLE_PROJECTION_OFFSET = 3558.0
  SECOND_STANDARD_PARALLEL = "N/A"
  WESTERNMOST_LONGITUDE = 138.6
END_OBJECT = IMAGE_MAP_PROJECTION
END
