PDS_VERSION_ID = PDS3
/* FILE DATA ELEMENTS */
RECORD_TYPE = UNDEFINED
/* POINTERS TO DATA OBJECTS */
^IMAGE = ("H6545_0000_ND4.TIF")
/* IDENTIFICATION DATA ELEMENTS */
DATA_SET_ID = "MEX-M-HRSC-4-REFDR-MAPPROJECT-EXT2-V4.0"
DATA_SET_NAME = "MARS EXPRESS HRSC MAP PROJECTED REFDR EXTENSION2 V4.0"
DETECTOR_ID = MEX_HRSC_NADIR
EVENT_TYPE = "MARS-REGIONAL-MAPPING-Te-Im-Fl"
INSTRUMENT_HOST_ID = MEX
INSTRUMENT_HOST_NAME = "MARS EXPRESS"
INSTRUMENT_ID = HRSC
INSTRUMENT_NAME = "HIGH RESOLUTION STEREO CAMERA"
MISSION_NAME = "MARS EXPRESS"
MISSION_PHASE_NAME = ME_Phase_15
PROCESSING_LEVEL_ID = 4
PRODUCT_CREATION_TIME = 2023-02-05T03:41:04.000Z
PRODUCT_ID = "H6545_0000_ND4.TIF"
RELEASE_ID = 0006
REVISION_ID = 0000
/* QUALITY DATA ELEMENTS */
DATA_QUALITY_ID = 1
DATA_QUALITY_DESC = "Data calculated based on original SPICE kernels"
/* TIME DATA ELEMENTS */
SPACECRAFT_CLOCK_START_COUNT = "1/0181982110.09124"
SPACECRAFT_CLOCK_STOP_COUNT = "1/0181982674.08463"
START_TIME = 2009-02-06T06:36:17.961Z
STOP_TIME = 2009-02-06T06:41:35.921Z
/* ORBITAL DATA ELEMENTS */
ASCENDING_NODE_LONGITUDE = 92.99
MAXIMUM_RESOLUTION = 0.027
FOOTPRINT_POINT_LATITUDE = (-29.8612,-29.8592,-29.8557,-29.8509, -29.8445,-29.8366,-29.8244,-29.8237, -29.8223,-29.3325,-29.0026,-28.6703, -28.3364,-28.0,-27.6599,-27.321, -26.9832,-26.6464,-26.3108,-25.9766, -25.6436,-25.3116,-24.9808,-24.6511, -24.3226,-23.9953,-23.6691,-23.3441, -23.0202,-22.6976,-22.376,-22.0556, -21.7364,-21.4183,-21.1015,-20.7857, -20.4711,-20.1576,-19.5344,-18.9155, -18.3013,-17.6918,-17.0868,-16.4863, -15.8906,-15.2993,-14.7124,-14.1301, -13.9853,-13.9681,-13.957,-13.9507, -13.94,-13.9323,-13.9195,-13.9064, -13.8902,-13.8892,-13.889,-14.4761, -15.0677,-15.6635,-16.2638,-16.8685, -17.4776,-18.0911,-18.7093,-19.3319, -19.9589,-20.2742,-20.5905,-20.908, -21.2266,-21.5464,-21.8673,-22.1894, -22.5126,-22.8367,-23.162,-23.4886, -23.8164,-24.1454,-24.4753,-24.8063, -25.1386,-25.4721,-25.8066,-26.1423, -26.479,-26.817,-27.156,-27.4962, -27.8375,-28.3471,-28.6832,-29.0172, -29.3488,-29.6772,-29.8414,-29.8612)
FOOTPRINT_POINT_LONGITUDE = (27.8949,27.4718,27.0449,26.6133, 26.1777,25.7371,25.1784,25.1502,25.122, 25.1185,25.1165,25.1088,25.1109,25.1067 ,25.1006,25.096,25.09,25.0794,25.0693, 25.0645,25.0615,25.0533,25.0456,25.0373 ,25.0298,25.0204,25.0105,25.0008, 24.9913,24.9813,24.9687,24.957,24.9453, 24.9336,24.9224,24.9104,24.8948,24.8794 ,24.8567,24.8247,24.7929,24.7625, 24.7304,24.6915,24.6629,24.6257,24.5883 ,24.5503,24.5403,24.5392,25.3098, 25.6924,26.2603,26.6369,27.1983,27.7184 ,28.3109,28.3478,28.3659,28.3533, 28.3403,28.3273,28.3139,28.3001,28.2858 ,28.2713,28.2558,28.24,28.2239,28.2155, 28.207,28.1983,28.1895,28.1805,28.1714, 28.1621,28.1526,28.143,28.1332,28.1232, 28.1129,28.1026,28.0919,28.0811,28.0701 ,28.059,28.0476,28.0359,28.024,28.0119, 27.9996,27.987,27.9741,27.9546,27.9414, 27.9279,27.9143,27.9014,27.8942, 27.8949)
ORBIT_NUMBER = 6545
ORBITAL_ECCENTRICITY = 0.576
ORBITAL_INCLINATION = 86.76
ORBITAL_SEMIMAJOR_AXIS = 8686.45
PERIAPSIS_ALTITUDE = 305.89
PERIAPSIS_ARGUMENT_ANGLE = 288.1
PERIAPSIS_TIME = 2009-02-06T06:25:04.000Z
SPACECRAFT_ORIENTATION = (0.0,1.0,0.0)
^MEX_ORIENTATION_DESC = "MEX_ORIENTATION_DESC.TXT"
SPACECRAFT_POINTING_MODE = ACROSSTRACK
^MEX_POINTING_DESC = "MEX_POINTING_DESC.TXT"
RIGHT_ASCENSION = -1e+32
DECLINATION = -1e+32
OFFSET_ANGLE = 1.4
SPACECRAFT_SOLAR_DISTANCE = 2.12236e+08
TARGET_NAME = MARS
/* CAMERA DATA ELEMENTS */
DETECTOR_TEMPERATURE = 18.5744
FOCAL_PLANE_TEMPERATURE = 8.7872
INST_CMPRS_NAME = "DISCRETE COSINE TRANSFORMATION (DCT)"
INST_CMPRS_RATIO = 6.93433
INST_CMPRS_QUALITY = 0
INST_CMPRS_QUANTZ_TBL_ID = 0
INSTRUMENT_TEMPERATURE = 11.6418
LENS_TEMPERATURE = 8.9911
MACROPIXEL_SIZE = 1
MISSING_FRAMES = 0
PIXEL_SUBSAMPLING_FLAG = N
SIGNAL_CHAIN_ID = 0
/* RADIOMETRIC DATA ELEMENTS */
BANDWIDTH = 177.0
CENTER_FILTER_WAVELENGTH = 677.5
RADIANCE_OFFSET = 5.82329
RADIANCE_SCALING_FACTOR = 0.025095
REFLECTANCE_SCALING_FACTOR = 0.000600486
MEX:REFLECTANCE_OFFSET = 0.139343
/* IMAGE OBJECT DEFINITIONS */
OBJECT = IMAGE
  INTERCHANGE_FORMAT = BINARY
  LINES = 37869
  LINE_SAMPLES = 8806
  SAMPLE_TYPE = UNSIGNED_INTEGER
  SAMPLE_BITS = 8
  BANDS = 1
  BAND_STORAGE_TYPE = BAND_SEQUENTIAL
  MAXIMUM = 255
  MEAN = 153.115
  MINIMUM = 1
  STANDARD_DEVIATION = 31.0513
END_OBJECT = IMAGE
/* MAP OBJECT DEFINITIONS */
OBJECT = IMAGE_MAP_PROJECTION
  ^DATA_SET_MAP_PROJECTION_CATALOG= "DSMAP.CAT"
  A_AXIS_RADIUS = 3396.0
  B_AXIS_RADIUS = 3396.0
  C_AXIS_RADIUS = 3396.0
  CENTER_LATITUDE = 0.0
  CENTER_LONGITUDE = 27.0
  COORDINATE_SYSTEM_NAME = PLANETOGRAPHIC
  COORDINATE_SYSTEM_TYPE = "BODY-FIXED ROTATING"
  EASTERNMOST_LONGITUDE = 28.3659
  FIRST_STANDARD_PARALLEL = "N/A"
  LINE_FIRST_PIXEL = 1
  LINE_LAST_PIXEL = 37869
  LINE_PROJECTION_OFFSET = -32932.0
  MAP_PROJECTION_ROTATION = 0.0
  MAP_PROJECTION_TYPE = SINUSOIDAL
  MAP_RESOLUTION = 2370.85521546667
  MAP_SCALE = 0.025
  MAXIMUM_LATITUDE = -13.889
  MINIMUM_LATITUDE = -29.8612
  POSITIVE_LONGITUDE_DIRECTION = EAST
  REFERENCE_LATITUDE = "N/A"
  REFERENCE_LONGITUDE = "N/A"
  SAMPLE_FIRST_PIXEL = 1
  SAMPLE_LAST_PIXEL = 8806
  SAMPLE_PROJECTION_OFFSET = 5656.0
  SECOND_STANDARD_PARALLEL = "N/A"
  WESTERNMOST_LONGITUDE = 24.5392
END_OBJECT = IMAGE_MAP_PROJECTION
END
