PDS_VERSION_ID = PDS3
/* FILE DATA ELEMENTS */
RECORD_TYPE = UNDEFINED
/* POINTERS TO DATA OBJECTS */
^IMAGE = ("H6541_0000_RE4.TIF")
/* IDENTIFICATION DATA ELEMENTS */
DATA_SET_ID = "MEX-M-HRSC-4-REFDR-MAPPROJECT-EXT2-V4.0"
DATA_SET_NAME = "MARS EXPRESS HRSC MAP PROJECTED REFDR EXTENSION2 V4.0"
DETECTOR_ID = MEX_HRSC_RED
EVENT_TYPE = "MARS-REGIONAL-MAPPING-Im-Fl-Gl"
INSTRUMENT_HOST_ID = MEX
INSTRUMENT_HOST_NAME = "MARS EXPRESS"
INSTRUMENT_ID = HRSC
INSTRUMENT_NAME = "HIGH RESOLUTION STEREO CAMERA"
MISSION_NAME = "MARS EXPRESS"
MISSION_PHASE_NAME = ME_Phase_15
PROCESSING_LEVEL_ID = 4
PRODUCT_CREATION_TIME = 2023-02-05T03:41:04.000Z
PRODUCT_ID = "H6541_0000_RE4.TIF"
RELEASE_ID = 0006
REVISION_ID = 0000
/* QUALITY DATA ELEMENTS */
DATA_QUALITY_ID = 1
DATA_QUALITY_DESC = "Data calculated based on original SPICE kernels"
/* TIME DATA ELEMENTS */
SPACECRAFT_CLOCK_START_COUNT = "1/0181882809.07284"
SPACECRAFT_CLOCK_STOP_COUNT = "1/0181883275.41065"
START_TIME = 2009-02-05T03:00:21.209Z
STOP_TIME = 2009-02-05T03:04:09.018Z
/* ORBITAL DATA ELEMENTS */
ASCENDING_NODE_LONGITUDE = 93.06
MAXIMUM_RESOLUTION = 0.1007
FOOTPRINT_POINT_LATITUDE = (-30.8488,-30.838,-30.8257,-30.8117, -30.7959,-30.7784,-30.7462,-30.7448, -30.6761,-30.1838,-29.8125,-29.4378, -28.8165,-28.4364,-27.9197,-27.3977, -27.1331,-26.8665,-26.6005,-26.1954, -25.7871,-25.5122,-25.0989,-24.8206, -24.5439,-24.1277,-23.8499,-23.5743, -23.2994,-22.8881,-22.4844,-22.2111, -21.805,-21.5327,-21.2626,-20.9896, -20.7168,-20.4474,-20.1796,-19.9124, -19.5141,-19.2494,-18.9728,-18.7072, -18.3189,-18.0532,-17.5249,-17.3957, -17.3346,-17.3472,-17.3598,-17.3655, -17.373,-17.3759,-17.3771,-17.3771, -17.3787,-17.6432,-17.9097,-18.1764, -18.4437,-18.7099,-18.9787,-19.2473, -19.514,-19.7821,-20.0518,-20.3183, -20.5885,-20.863,-21.1332,-21.5409, -21.9465,-22.355,-22.6302,-22.8984, -23.1718,-23.447,-23.7231,-24.0,-24.416 ,-24.8277,-25.2461,-25.525,-25.8011, -26.0779,-26.3535,-26.624,-26.8932, -27.1607,-27.4255,-27.9528,-28.4732, -28.86,-29.3604,-29.7359,-30.2345, -30.6053,-30.7278,-30.8488)
FOOTPRINT_POINT_LONGITUDE = (71.6254,71.2694,70.9117,70.5513, 70.1887,69.8238,69.2235,69.2002,69.146, 69.1437,69.1419,69.1412,69.1445,69.144, 69.1391,69.1341,69.1301,69.1261,69.1229 ,69.116,69.1088,69.1029,69.096,69.089, 69.0825,69.071,69.0624,69.0547,69.0468, 69.0347,69.0262,69.0172,69.0051,68.9954 ,68.9865,68.9752,68.9636,68.9535,68.944 ,68.9342,68.9202,68.9106,68.8934, 68.8822,68.8708,68.8583,68.8338,68.829, 68.8261,69.3241,69.8791,70.3137,70.8914 ,71.3219,71.8937,71.9222,71.9317, 71.9281,71.9241,71.9202,71.9161,71.9122 ,71.9079,71.9036,71.8995,71.8952, 71.8907,71.8865,71.8818,71.8766,71.8719 ,71.8644,71.857,71.8492,71.8437,71.8387 ,71.8332,71.8274,71.8215,71.8154, 71.8061,71.797,71.7871,71.7803,71.7736, 71.7666,71.7594,71.7524,71.7453,71.7383 ,71.7311,71.7164,71.7014,71.6899, 71.6751,71.6634,71.6473,71.635,71.6309, 71.6254)
ORBIT_NUMBER = 6541
ORBITAL_ECCENTRICITY = 0.576
ORBITAL_INCLINATION = 86.77
ORBITAL_SEMIMAJOR_AXIS = 8687.07
PERIAPSIS_ALTITUDE = 304.91
PERIAPSIS_ARGUMENT_ANGLE = 288.79
PERIAPSIS_TIME = 2009-02-05T02:50:29.000Z
SPACECRAFT_ORIENTATION = (0.0,1.0,0.0)
^MEX_ORIENTATION_DESC = "MEX_ORIENTATION_DESC.TXT"
SPACECRAFT_POINTING_MODE = ACROSSTRACK
^MEX_POINTING_DESC = "MEX_POINTING_DESC.TXT"
RIGHT_ASCENSION = -1e+32
DECLINATION = -1e+32
OFFSET_ANGLE = 0.9
SPACECRAFT_SOLAR_DISTANCE = 2.12399e+08
TARGET_NAME = MARS
/* CAMERA DATA ELEMENTS */
DETECTOR_TEMPERATURE = 18.9822
FOCAL_PLANE_TEMPERATURE = 9.3989
INST_CMPRS_NAME = "DISCRETE COSINE TRANSFORMATION (DCT)"
INST_CMPRS_RATIO = 15.5441
INST_CMPRS_QUALITY = 0
INST_CMPRS_QUANTZ_TBL_ID = 0
INSTRUMENT_TEMPERATURE = 11.234
LENS_TEMPERATURE = 9.6028
MACROPIXEL_SIZE = 4
MISSING_FRAMES = 0
PIXEL_SUBSAMPLING_FLAG = N
SIGNAL_CHAIN_ID = 2
/* RADIOMETRIC DATA ELEMENTS */
BANDWIDTH = 48.0
CENTER_FILTER_WAVELENGTH = 748.0
RADIANCE_OFFSET = 1.60107
RADIANCE_SCALING_FACTOR = 0.00486777
REFLECTANCE_SCALING_FACTOR = 0.00050114
MEX:REFLECTANCE_OFFSET = 0.164832
/* IMAGE OBJECT DEFINITIONS */
OBJECT = IMAGE
  INTERCHANGE_FORMAT = BINARY
  LINES = 7973
  LINE_SAMPLES = 1954
  SAMPLE_TYPE = UNSIGNED_INTEGER
  SAMPLE_BITS = 8
  BANDS = 1
  BAND_STORAGE_TYPE = BAND_SEQUENTIAL
  MAXIMUM = 255
  MEAN = 115.689
  MINIMUM = 1
  STANDARD_DEVIATION = 36.0236
END_OBJECT = IMAGE
/* MAP OBJECT DEFINITIONS */
OBJECT = IMAGE_MAP_PROJECTION
  ^DATA_SET_MAP_PROJECTION_CATALOG= "DSMAP.CAT"
  A_AXIS_RADIUS = 3396.0
  B_AXIS_RADIUS = 3396.0
  C_AXIS_RADIUS = 3396.0
  CENTER_LATITUDE = 0.0
  CENTER_LONGITUDE = 70.0
  COORDINATE_SYSTEM_NAME = PLANETOGRAPHIC
  COORDINATE_SYSTEM_TYPE = "BODY-FIXED ROTATING"
  EASTERNMOST_LONGITUDE = 71.93170000000001
  FIRST_STANDARD_PARALLEL = "N/A"
  LINE_FIRST_PIXEL = 1
  LINE_LAST_PIXEL = 7973
  LINE_PROJECTION_OFFSET = -10278.125
  MAP_PROJECTION_ROTATION = 0.0
  MAP_PROJECTION_TYPE = SINUSOIDAL
  MAP_RESOLUTION = 592.713803866667
  MAP_SCALE = 0.1
  MAXIMUM_LATITUDE = -17.3346
  MINIMUM_LATITUDE = -30.8488
  POSITIVE_LONGITUDE_DIRECTION = EAST
  REFERENCE_LATITUDE = "N/A"
  REFERENCE_LONGITUDE = "N/A"
  SAMPLE_FIRST_PIXEL = 1
  SAMPLE_LAST_PIXEL = 1954
  SAMPLE_PROJECTION_OFFSET = 764.875
  SECOND_STANDARD_PARALLEL = "N/A"
  WESTERNMOST_LONGITUDE = 68.8261
END_OBJECT = IMAGE_MAP_PROJECTION
END
