PDS_VERSION_ID = PDS3
/* FILE DATA ELEMENTS */
RECORD_TYPE = UNDEFINED
/* POINTERS TO DATA OBJECTS */
^IMAGE = ("H6541_0000_GR4.TIF")
/* IDENTIFICATION DATA ELEMENTS */
DATA_SET_ID = "MEX-M-HRSC-4-REFDR-MAPPROJECT-EXT2-V4.0"
DATA_SET_NAME = "MARS EXPRESS HRSC MAP PROJECTED REFDR EXTENSION2 V4.0"
DETECTOR_ID = MEX_HRSC_GREEN
EVENT_TYPE = "MARS-REGIONAL-MAPPING-Im-Fl-Gl"
INSTRUMENT_HOST_ID = MEX
INSTRUMENT_HOST_NAME = "MARS EXPRESS"
INSTRUMENT_ID = HRSC
INSTRUMENT_NAME = "HIGH RESOLUTION STEREO CAMERA"
MISSION_NAME = "MARS EXPRESS"
MISSION_PHASE_NAME = ME_Phase_15
PROCESSING_LEVEL_ID = 4
PRODUCT_CREATION_TIME = 2023-02-05T03:41:04.000Z
PRODUCT_ID = "H6541_0000_GR4.TIF"
RELEASE_ID = 0006
REVISION_ID = 0000
/* QUALITY DATA ELEMENTS */
DATA_QUALITY_ID = 1
DATA_QUALITY_DESC = "Data calculated based on original SPICE kernels"
/* TIME DATA ELEMENTS */
SPACECRAFT_CLOCK_START_COUNT = "1/0181882809.07284"
SPACECRAFT_CLOCK_STOP_COUNT = "1/0181883275.41065"
START_TIME = 2009-02-05T03:01:24.608Z
STOP_TIME = 2009-02-05T03:05:51.471Z
/* ORBITAL DATA ELEMENTS */
ASCENDING_NODE_LONGITUDE = 93.06
MAXIMUM_RESOLUTION = 0.106
FOOTPRINT_POINT_LATITUDE = (-30.7709,-30.7719,-30.7717,-30.7705, -30.7682,-30.7647,-30.7567,-30.7563, -30.7656,-30.4919,-30.2156,-29.7983, -29.5183,-29.2348,-28.9516,-28.6697, -28.3888,-28.1085,-27.8296,-27.5517, -27.2744,-26.9981,-26.7224,-26.4476, -26.1738,-25.9004,-25.6287,-25.2218, -24.9506,-24.6823,-24.414,-24.1467, -23.8801,-23.6141,-23.3494,-23.0854, -22.8221,-22.427,-22.1663,-21.5169, -21.0012,-20.4891,-19.9801,-19.5998, -18.9723,-18.473,-18.099,-17.6058, -17.4827,-17.406,-17.3982,-17.3866, -17.3783,-17.3712,-17.3595,-17.3466, -17.3355,-17.3346,-17.3356,-17.832, -18.3314,-18.8341,-19.3398,-19.8497, -20.3631,-20.8788,-21.3979,-21.92, -22.1832,-22.4465,-22.711,-22.976, -23.2422,-23.5089,-23.7763,-24.0445, -24.3133,-24.5828,-24.8546,-25.126, -25.3982,-25.6713,-25.9452,-26.2187, -26.4947,-26.9087,-27.3267,-27.6057, -27.8854,-28.1659,-28.4472,-28.7291, -29.0125,-29.2976,-29.5819,-29.8632, -30.2821,-30.5592,-30.6967,-30.7709)
FOOTPRINT_POINT_LONGITUDE = (71.7451,71.3554,70.9638,70.5692, 70.1728,69.7736,69.1177,69.0923,69.0373 ,69.0352,69.0324,69.0279,69.0262, 69.0248,69.0253,69.0236,69.0208,69.0183 ,69.0137,69.0076,69.0026,68.9964, 68.9913,68.9851,68.9781,68.9728,68.9636 ,68.9532,68.9494,68.9378,68.929,68.9196 ,68.9102,68.9014,68.8911,68.8808, 68.8706,68.8613,68.8489,68.8216,68.7987 ,68.7742,68.7494,68.7329,68.6973, 68.6711,68.6565,68.6281,68.6216,68.6179 ,69.1501,69.8459,70.3061,70.6343, 71.1579,71.6786,72.1008,72.1332,72.144, 72.1325,72.1206,72.1084,72.0958,72.0838 ,72.0718,72.0585,72.0452,72.0311, 72.0248,72.0177,72.0109,72.0038,71.9968 ,71.9894,71.9818,71.9741,71.9663, 71.9581,71.9509,71.9428,71.9344,71.9261 ,71.9176,71.9081,71.8996,71.8857, 71.8729,71.8637,71.8543,71.8447,71.835, 71.825,71.8153,71.8059,71.7957,71.7854, 71.7698,71.7592,71.754,71.7451)
ORBIT_NUMBER = 6541
ORBITAL_ECCENTRICITY = 0.576
ORBITAL_INCLINATION = 86.77
ORBITAL_SEMIMAJOR_AXIS = 8687.07
PERIAPSIS_ALTITUDE = 304.91
PERIAPSIS_ARGUMENT_ANGLE = 288.79
PERIAPSIS_TIME = 2009-02-05T02:50:29.000Z
SPACECRAFT_ORIENTATION = (0.0,1.0,0.0)
^MEX_ORIENTATION_DESC = "MEX_ORIENTATION_DESC.TXT"
SPACECRAFT_POINTING_MODE = ACROSSTRACK
^MEX_POINTING_DESC = "MEX_POINTING_DESC.TXT"
RIGHT_ASCENSION = -1e+32
DECLINATION = -1e+32
OFFSET_ANGLE = 0.9
SPACECRAFT_SOLAR_DISTANCE = 2.12399e+08
TARGET_NAME = MARS
/* CAMERA DATA ELEMENTS */
DETECTOR_TEMPERATURE = 18.5744
FOCAL_PLANE_TEMPERATURE = 9.3989
INST_CMPRS_NAME = "DISCRETE COSINE TRANSFORMATION (DCT)"
INST_CMPRS_RATIO = 13.1135
INST_CMPRS_QUALITY = 0
INST_CMPRS_QUANTZ_TBL_ID = 0
INSTRUMENT_TEMPERATURE = 11.234
LENS_TEMPERATURE = 9.6028
MACROPIXEL_SIZE = 4
MISSING_FRAMES = 0
PIXEL_SUBSAMPLING_FLAG = N
SIGNAL_CHAIN_ID = 2
/* RADIOMETRIC DATA ELEMENTS */
BANDWIDTH = 88.0
CENTER_FILTER_WAVELENGTH = 538.0
RADIANCE_OFFSET = 2.32171
RADIANCE_SCALING_FACTOR = 0.00424889
REFLECTANCE_SCALING_FACTOR = 0.000165031
MEX:REFLECTANCE_OFFSET = 0.0901778
/* IMAGE OBJECT DEFINITIONS */
OBJECT = IMAGE
  INTERCHANGE_FORMAT = BINARY
  LINES = 7973
  LINE_SAMPLES = 1954
  SAMPLE_TYPE = UNSIGNED_INTEGER
  SAMPLE_BITS = 8
  BANDS = 1
  BAND_STORAGE_TYPE = BAND_SEQUENTIAL
  MAXIMUM = 255
  MEAN = 131.151
  MINIMUM = 1
  STANDARD_DEVIATION = 30.0986
END_OBJECT = IMAGE
/* MAP OBJECT DEFINITIONS */
OBJECT = IMAGE_MAP_PROJECTION
  ^DATA_SET_MAP_PROJECTION_CATALOG= "DSMAP.CAT"
  A_AXIS_RADIUS = 3396.0
  B_AXIS_RADIUS = 3396.0
  C_AXIS_RADIUS = 3396.0
  CENTER_LATITUDE = 0.0
  CENTER_LONGITUDE = 70.0
  COORDINATE_SYSTEM_NAME = PLANETOGRAPHIC
  COORDINATE_SYSTEM_TYPE = "BODY-FIXED ROTATING"
  EASTERNMOST_LONGITUDE = 72.14400000000001
  FIRST_STANDARD_PARALLEL = "N/A"
  LINE_FIRST_PIXEL = 1
  LINE_LAST_PIXEL = 7973
  LINE_PROJECTION_OFFSET = -10278.125
  MAP_PROJECTION_ROTATION = 0.0
  MAP_PROJECTION_TYPE = SINUSOIDAL
  MAP_RESOLUTION = 592.713803866667
  MAP_SCALE = 0.1
  MAXIMUM_LATITUDE = -17.3346
  MINIMUM_LATITUDE = -30.7719
  POSITIVE_LONGITUDE_DIRECTION = EAST
  REFERENCE_LATITUDE = "N/A"
  REFERENCE_LONGITUDE = "N/A"
  SAMPLE_FIRST_PIXEL = 1
  SAMPLE_LAST_PIXEL = 1954
  SAMPLE_PROJECTION_OFFSET = 764.875
  SECOND_STANDARD_PARALLEL = "N/A"
  WESTERNMOST_LONGITUDE = 68.61790000000001
END_OBJECT = IMAGE_MAP_PROJECTION
END
