PDS_VERSION_ID = PDS3
/* FILE DATA ELEMENTS */
RECORD_TYPE = UNDEFINED
/* POINTERS TO DATA OBJECTS */
^IMAGE = ("H6540_0000_IR4.TIF")
/* IDENTIFICATION DATA ELEMENTS */
DATA_SET_ID = "MEX-M-HRSC-4-REFDR-MAPPROJECT-EXT2-V4.0"
DATA_SET_NAME = "MARS EXPRESS HRSC MAP PROJECTED REFDR EXTENSION2 V4.0"
DETECTOR_ID = MEX_HRSC_IR
EVENT_TYPE = "MARS-REGIONAL-MAPPING-Im-Fl"
INSTRUMENT_HOST_ID = MEX
INSTRUMENT_HOST_NAME = "MARS EXPRESS"
INSTRUMENT_ID = HRSC
INSTRUMENT_NAME = "HIGH RESOLUTION STEREO CAMERA"
MISSION_NAME = "MARS EXPRESS"
MISSION_PHASE_NAME = ME_Phase_15
PROCESSING_LEVEL_ID = 4
PRODUCT_CREATION_TIME = 2023-02-05T03:41:04.000Z
PRODUCT_ID = "H6540_0000_IR4.TIF"
RELEASE_ID = 0006
REVISION_ID = 0000
/* QUALITY DATA ELEMENTS */
DATA_QUALITY_ID = 1
DATA_QUALITY_DESC = "Data calculated based on original SPICE kernels"
/* TIME DATA ELEMENTS */
SPACECRAFT_CLOCK_START_COUNT = "1/0181857621.07296"
SPACECRAFT_CLOCK_STOP_COUNT = "1/0181857859.21410"
START_TIME = 2009-02-04T20:01:23.004Z
STOP_TIME = 2009-02-04T20:04:11.148Z
/* ORBITAL DATA ELEMENTS */
ASCENDING_NODE_LONGITUDE = 93.08
MAXIMUM_RESOLUTION = 0.0611
FOOTPRINT_POINT_LATITUDE = (-54.6332,-54.6205,-54.6049,-54.5799, -54.5792,-54.6273,-54.3334,-54.1379, -53.9423,-53.7476,-53.5541,-53.3598, -53.0677,-52.8732,-52.4916,-52.2, -52.0035,-51.6187,-51.2349,-50.9476, -50.4694,-50.0883,-49.8935,-49.6012, -49.3099,-49.1157,-48.9187,-48.7201, -48.5217,-48.1325,-47.9269,-47.7149, -47.5144,-47.3136,-47.0078,-46.8026, -46.5973,-46.3925,-46.1833,-45.9743, -45.6666,-45.4558,-45.2409,-45.0257, -44.8151,-44.7075,-44.6542,-44.6585, -44.6625,-44.6659,-44.6699,-44.6729, -44.6747,-44.6748,-44.6759,-44.9976, -45.2116,-45.4253,-45.6384,-45.8473, -46.0581,-46.2677,-46.4758,-46.6815, -46.8873,-47.0935,-47.2989,-47.5006, -47.7026,-47.9124,-48.2154,-48.4152, -48.6105,-48.9074,-49.1059,-49.3979, -49.6909,-49.8863,-50.1789,-50.5623, -50.7547,-51.0431,-51.2356,-51.428, -51.7176,-51.9106,-52.104,-52.2976, -52.4914,-52.7825,-52.9768,-53.1732, -53.4661,-53.6584,-53.8539,-54.1469, -54.3427,-54.5381,-54.636,-54.6332)
FOOTPRINT_POINT_LONGITUDE = (171.39,170.753,170.109,169.25,169.23, 169.154,169.194,169.22,169.245,169.27, 169.292,169.316,169.352,169.376,169.413 ,169.448,169.473,169.514,169.553, 169.582,169.628,169.664,169.681,169.707 ,169.731,169.748,169.764,169.779, 169.795,169.818,169.837,169.854,169.867 ,169.88,169.9,169.913,169.926,169.939, 169.952,169.964,169.977,169.989,170.003 ,170.017,170.027,170.033,170.035,170.43 ,170.735,171.211,171.555,171.982, 172.321,172.343,172.35,172.326,172.311, 172.295,172.279,172.263,172.247,172.231 ,172.215,172.198,172.182,172.165, 172.148,172.131,172.114,172.097,172.07, 172.053,172.035,172.009,171.991,171.964 ,171.936,171.918,171.89,171.852,171.833 ,171.804,171.785,171.765,171.734, 171.714,171.693,171.671,171.65,171.617, 171.595,171.573,171.538,171.515,171.492 ,171.456,171.431,171.407,171.394, 171.39)
ORBIT_NUMBER = 6540
ORBITAL_ECCENTRICITY = 0.576
ORBITAL_INCLINATION = 86.76
ORBITAL_SEMIMAJOR_AXIS = 8686.66
PERIAPSIS_ALTITUDE = 306.14
PERIAPSIS_ARGUMENT_ANGLE = 288.97
PERIAPSIS_TIME = 2009-02-04T19:56:50.000Z
SPACECRAFT_ORIENTATION = (0.0,1.0,0.0)
^MEX_ORIENTATION_DESC = "MEX_ORIENTATION_DESC.TXT"
SPACECRAFT_POINTING_MODE = ACROSSTRACK
^MEX_POINTING_DESC = "MEX_POINTING_DESC.TXT"
RIGHT_ASCENSION = -1e+32
DECLINATION = -1e+32
OFFSET_ANGLE = 0.55
SPACECRAFT_SOLAR_DISTANCE = 2.1244e+08
TARGET_NAME = MARS
/* CAMERA DATA ELEMENTS */
DETECTOR_TEMPERATURE = 16.9432
FOCAL_PLANE_TEMPERATURE = 7.3599
INST_CMPRS_NAME = "DISCRETE COSINE TRANSFORMATION (DCT)"
INST_CMPRS_RATIO = 17.6183
INST_CMPRS_QUALITY = 0
INST_CMPRS_QUANTZ_TBL_ID = 0
INSTRUMENT_TEMPERATURE = 10.8262
LENS_TEMPERATURE = 8.3794
MACROPIXEL_SIZE = 4
MISSING_FRAMES = 1
PIXEL_SUBSAMPLING_FLAG = N
SIGNAL_CHAIN_ID = 2
/* RADIOMETRIC DATA ELEMENTS */
BANDWIDTH = 81.0
CENTER_FILTER_WAVELENGTH = 955.5
RADIANCE_OFFSET = 0.936186
RADIANCE_SCALING_FACTOR = 0.00559439
REFLECTANCE_SCALING_FACTOR = 0.000544696
MEX:REFLECTANCE_OFFSET = 0.0911516
/* IMAGE OBJECT DEFINITIONS */
OBJECT = IMAGE
  INTERCHANGE_FORMAT = BINARY
  LINES = 11962
  LINE_SAMPLES = 2320
  SAMPLE_TYPE = UNSIGNED_INTEGER
  SAMPLE_BITS = 8
  BANDS = 1
  BAND_STORAGE_TYPE = BAND_SEQUENTIAL
  MAXIMUM = 255
  MEAN = 125.423
  MINIMUM = 1
  STANDARD_DEVIATION = 41.0482
END_OBJECT = IMAGE
/* MAP OBJECT DEFINITIONS */
OBJECT = IMAGE_MAP_PROJECTION
  ^DATA_SET_MAP_PROJECTION_CATALOG= "DSMAP.CAT"
  A_AXIS_RADIUS = 3396.0
  B_AXIS_RADIUS = 3396.0
  C_AXIS_RADIUS = 3396.0
  CENTER_LATITUDE = 0.0
  CENTER_LONGITUDE = 171.0
  COORDINATE_SYSTEM_NAME = PLANETOGRAPHIC
  COORDINATE_SYSTEM_TYPE = "BODY-FIXED ROTATING"
  EASTERNMOST_LONGITUDE = 172.35
  FIRST_STANDARD_PARALLEL = "N/A"
  LINE_FIRST_PIXEL = 1
  LINE_LAST_PIXEL = 11962
  LINE_PROJECTION_OFFSET = -52918.125
  MAP_PROJECTION_ROTATION = 0.0
  MAP_PROJECTION_TYPE = SINUSOIDAL
  MAP_RESOLUTION = 1185.42760773333
  MAP_SCALE = 0.05
  MAXIMUM_LATITUDE = -44.6542
  MINIMUM_LATITUDE = -54.636
  POSITIVE_LONGITUDE_DIRECTION = EAST
  REFERENCE_LATITUDE = "N/A"
  REFERENCE_LONGITUDE = "N/A"
  SAMPLE_FIRST_PIXEL = 1
  SAMPLE_LAST_PIXEL = 2320
  SAMPLE_PROJECTION_OFFSET = 1244.875
  SECOND_STANDARD_PARALLEL = "N/A"
  WESTERNMOST_LONGITUDE = 169.154
END_OBJECT = IMAGE_MAP_PROJECTION
END
