PDS_VERSION_ID = PDS3
/* FILE DATA ELEMENTS */
RECORD_TYPE = UNDEFINED
/* POINTERS TO DATA OBJECTS */
^IMAGE = ("H6535_0000_IR4.TIF")
/* IDENTIFICATION DATA ELEMENTS */
DATA_SET_ID = "MEX-M-HRSC-4-REFDR-MAPPROJECT-EXT2-V4.0"
DATA_SET_NAME = "MARS EXPRESS HRSC MAP PROJECTED REFDR EXTENSION2 V4.0"
DETECTOR_ID = MEX_HRSC_IR
EVENT_TYPE = "MARS-REGIONAL-MAPPING-Im-Fl-Gl"
INSTRUMENT_HOST_ID = MEX
INSTRUMENT_HOST_NAME = "MARS EXPRESS"
INSTRUMENT_ID = HRSC
INSTRUMENT_NAME = "HIGH RESOLUTION STEREO CAMERA"
MISSION_NAME = "MARS EXPRESS"
MISSION_PHASE_NAME = ME_Phase_15
PROCESSING_LEVEL_ID = 4
PRODUCT_CREATION_TIME = 2023-02-05T03:41:04.000Z
PRODUCT_ID = "H6535_0000_IR4.TIF"
RELEASE_ID = 0006
REVISION_ID = 0000
/* QUALITY DATA ELEMENTS */
DATA_QUALITY_ID = 1
DATA_QUALITY_DESC = "Data calculated based on original SPICE kernels"
/* TIME DATA ELEMENTS */
SPACECRAFT_CLOCK_START_COUNT = "1/0181733625.07304"
SPACECRAFT_CLOCK_STOP_COUNT = "1/0181733885.30132"
START_TIME = 2009-02-03T09:34:57.527Z
STOP_TIME = 2009-02-03T09:37:55.149Z
/* ORBITAL DATA ELEMENTS */
ASCENDING_NODE_LONGITUDE = 93.18
MAXIMUM_RESOLUTION = 0.0724
FOOTPRINT_POINT_LATITUDE = (-47.0177,-47.0154,-47.0125,-47.0088, -47.0045,-46.9994,-46.9897,-46.9893, -47.0559,-46.7869,-46.3393,-45.8794, -45.3283,-44.9577,-44.7676,-44.5778, -44.202,-43.919,-43.7258,-43.5309, -43.3427,-43.1514,-42.9566,-42.7592, -42.5642,-42.3716,-42.1731,-41.9739, -41.6777,-41.4767,-41.1724,-40.9648, -40.6652,-40.4652,-40.2591,-39.9493, -39.7406,-39.535,-39.3257,-39.1168, -38.9044,-38.6918,-38.4745,-38.2603, -37.9392,-37.6148,-37.2865,-37.1747, -37.1073,-37.1099,-37.1076,-37.1102, -37.1084,-37.1033,-37.087,-37.0868, -37.0869,-37.0881,-37.3115,-37.6435, -37.8675,-38.192,-38.4104,-38.6243, -38.8419,-39.0566,-39.2666,-39.4748, -39.6925,-39.9,-40.1024,-40.4113, -40.6169,-40.822,-41.0283,-41.2296, -41.4304,-41.7309,-41.9305,-42.2284, -42.5254,-42.7178,-42.9176,-43.1173, -43.3059,-43.4982,-43.7867,-43.9799, -44.1733,-44.3651,-44.5561,-44.7457, -45.0255,-45.2129,-45.6747,-46.037, -46.4943,-46.9421,-47.0326,-47.0177)
FOOTPRINT_POINT_LONGITUDE = (316.22,315.902,315.582,315.259,314.935 ,314.609,314.074,314.053,313.973,313.99 ,314.019,314.05,314.083,314.102,314.117 ,314.13,314.146,314.16,314.171,314.182, 314.187,314.195,314.204,314.214,314.222 ,314.228,314.235,314.244,314.254,314.26 ,314.273,314.285,314.288,314.291, 314.297,314.305,314.312,314.314,314.318 ,314.322,314.327,314.331,314.339, 314.342,314.346,314.349,314.354,314.356 ,314.358,314.689,315.14,315.632,315.983 ,316.24,316.586,316.839,316.862,316.87, 316.859,316.842,316.832,316.815,316.803 ,316.792,316.781,316.769,316.757, 316.745,316.734,316.722,316.709,316.691 ,316.679,316.666,316.654,316.642, 316.629,316.61,316.598,316.579,316.559, 316.546,316.534,316.521,316.507,316.494 ,316.474,316.461,316.448,316.435, 316.421,316.407,316.387,316.373,316.337 ,316.309,316.273,316.236,316.228, 316.22)
ORBIT_NUMBER = 6535
ORBITAL_ECCENTRICITY = 0.576
ORBITAL_INCLINATION = 86.77
ORBITAL_SEMIMAJOR_AXIS = 8685.7
PERIAPSIS_ALTITUDE = 305.67
PERIAPSIS_ARGUMENT_ANGLE = 289.84
PERIAPSIS_TIME = 2009-02-03T09:28:32.000Z
SPACECRAFT_ORIENTATION = (0.0,1.0,0.0)
^MEX_ORIENTATION_DESC = "MEX_ORIENTATION_DESC.TXT"
SPACECRAFT_POINTING_MODE = ACROSSTRACK
^MEX_POINTING_DESC = "MEX_POINTING_DESC.TXT"
RIGHT_ASCENSION = -1e+32
DECLINATION = -1e+32
OFFSET_ANGLE = 0.6
SPACECRAFT_SOLAR_DISTANCE = 2.12648e+08
TARGET_NAME = MARS
/* CAMERA DATA ELEMENTS */
DETECTOR_TEMPERATURE = 17.351
FOCAL_PLANE_TEMPERATURE = 8.1755
INST_CMPRS_NAME = "DISCRETE COSINE TRANSFORMATION (DCT)"
INST_CMPRS_RATIO = 15.7138
INST_CMPRS_QUALITY = 0
INST_CMPRS_QUANTZ_TBL_ID = 0
INSTRUMENT_TEMPERATURE = 11.0301
LENS_TEMPERATURE = 8.3794
MACROPIXEL_SIZE = 4
MISSING_FRAMES = 0
PIXEL_SUBSAMPLING_FLAG = N
SIGNAL_CHAIN_ID = 2
/* RADIOMETRIC DATA ELEMENTS */
BANDWIDTH = 81.0
CENTER_FILTER_WAVELENGTH = 955.5
RADIANCE_OFFSET = 1.08717
RADIANCE_SCALING_FACTOR = 0.00367535
REFLECTANCE_SCALING_FACTOR = 0.000358547
MEX:REFLECTANCE_OFFSET = 0.106058
/* IMAGE OBJECT DEFINITIONS */
OBJECT = IMAGE
  INTERCHANGE_FORMAT = BINARY
  LINES = 11882
  LINE_SAMPLES = 2459
  SAMPLE_TYPE = UNSIGNED_INTEGER
  SAMPLE_BITS = 8
  BANDS = 1
  BAND_STORAGE_TYPE = BAND_SEQUENTIAL
  MAXIMUM = 255
  MEAN = 135.383
  MINIMUM = 1
  STANDARD_DEVIATION = 31.5417
END_OBJECT = IMAGE
/* MAP OBJECT DEFINITIONS */
OBJECT = IMAGE_MAP_PROJECTION
  ^DATA_SET_MAP_PROJECTION_CATALOG= "DSMAP.CAT"
  A_AXIS_RADIUS = 3396.0
  B_AXIS_RADIUS = 3396.0
  C_AXIS_RADIUS = 3396.0
  CENTER_LATITUDE = 0.0
  CENTER_LONGITUDE = 315.0
  COORDINATE_SYSTEM_NAME = PLANETOGRAPHIC
  COORDINATE_SYSTEM_TYPE = "BODY-FIXED ROTATING"
  EASTERNMOST_LONGITUDE = 316.87
  FIRST_STANDARD_PARALLEL = "N/A"
  LINE_FIRST_PIXEL = 1
  LINE_LAST_PIXEL = 11882
  LINE_PROJECTION_OFFSET = -43953.875
  MAP_PROJECTION_ROTATION = 0.0
  MAP_PROJECTION_TYPE = SINUSOIDAL
  MAP_RESOLUTION = 1185.42760773333
  MAP_SCALE = 0.05
  MAXIMUM_LATITUDE = -37.0868
  MINIMUM_LATITUDE = -47.0559
  POSITIVE_LONGITUDE_DIRECTION = EAST
  REFERENCE_LATITUDE = "N/A"
  REFERENCE_LONGITUDE = "N/A"
  SAMPLE_FIRST_PIXEL = 1
  SAMPLE_LAST_PIXEL = 2459
  SAMPLE_PROJECTION_OFFSET = 788.375
  SECOND_STANDARD_PARALLEL = "N/A"
  WESTERNMOST_LONGITUDE = 313.973
END_OBJECT = IMAGE_MAP_PROJECTION
END
