PDS_VERSION_ID = PDS3
/* FILE DATA ELEMENTS */
RECORD_TYPE = UNDEFINED
/* POINTERS TO DATA OBJECTS */
^IMAGE = ("H6520_0000_GR4.TIF")
/* IDENTIFICATION DATA ELEMENTS */
DATA_SET_ID = "MEX-M-HRSC-4-REFDR-MAPPROJECT-EXT2-V4.0"
DATA_SET_NAME = "MARS EXPRESS HRSC MAP PROJECTED REFDR EXTENSION2 V4.0"
DETECTOR_ID = MEX_HRSC_GREEN
EVENT_TYPE = "MARS-REGIONAL-MAPPING-Te-Im-Fl"
INSTRUMENT_HOST_ID = MEX
INSTRUMENT_HOST_NAME = "MARS EXPRESS"
INSTRUMENT_ID = HRSC
INSTRUMENT_NAME = "HIGH RESOLUTION STEREO CAMERA"
MISSION_NAME = "MARS EXPRESS"
MISSION_PHASE_NAME = ME_Phase_15
PROCESSING_LEVEL_ID = 4
PRODUCT_CREATION_TIME = 2023-02-05T03:41:04.000Z
PRODUCT_ID = "H6520_0000_GR4.TIF"
RELEASE_ID = 0006
REVISION_ID = 0000
/* QUALITY DATA ELEMENTS */
DATA_QUALITY_ID = 1
DATA_QUALITY_DESC = "Data calculated based on original SPICE kernels"
/* TIME DATA ELEMENTS */
SPACECRAFT_CLOCK_START_COUNT = "1/0181361553.07282"
SPACECRAFT_CLOCK_STOP_COUNT = "1/0181362058.37695"
START_TIME = 2009-01-30T02:13:42.277Z
STOP_TIME = 2009-01-30T02:18:55.357Z
/* ORBITAL DATA ELEMENTS */
ASCENDING_NODE_LONGITUDE = 93.48
MAXIMUM_RESOLUTION = 0.0972
FOOTPRINT_POINT_LATITUDE = (-29.8583,-29.8601,-29.8592,-29.8575, -29.8549,-29.8509,-29.8506,-29.8526, -29.3601,-29.0278,-28.6931,-28.357, -28.0173,-27.5083,-27.172,-26.8342, -26.4984,-26.1647,-25.6642,-25.3322, -25.0031,-24.5095,-24.1819,-23.8552, -23.5305,-23.2061,-22.8823,-22.561, -22.2404,-21.9211,-21.6028,-21.2857, -20.9696,-20.6546,-20.3408,-20.0283, -19.7169,-19.253,-18.9445,-18.331, -17.7214,-17.1171,-16.5173,-15.922, -15.3315,-14.7453,-14.1639,-14.0193, -13.9337,-13.9264,-13.9139,-13.9024, -13.8893,-13.8757,-13.8626,-13.8534, -13.8524,-13.8534,-14.4376,-15.0262, -15.6193,-16.217,-16.8201,-17.4259, -18.0372,-18.6529,-18.9624,-19.2737, -19.7412,-20.0549,-20.3695,-20.6853, -21.0022,-21.3202,-21.6393,-21.9594, -22.2804,-22.6035,-23.09,-23.4155, -23.7415,-24.0691,-24.3979,-24.7277, -25.0585,-25.3917,-25.725,-26.0593, -26.3949,-26.7315,-27.0687,-27.4076, -27.7479,-28.089,-28.5979,-28.9343, -29.2681,-29.5984,-29.7633,-29.8583)
FOOTPRINT_POINT_LONGITUDE = (29.9076,29.3221,28.6452,28.2838, 27.9215,27.5123,27.4896,27.4743,27.4649 ,27.4589,27.4552,27.4477,27.4402,27.429 ,27.4169,27.4113,27.4032,27.3921, 27.3807,27.3719,27.3584,27.3428,27.3321 ,27.3216,27.3088,27.2978,27.2878, 27.2744,27.2615,27.2484,27.2351,27.2217 ,27.2082,27.1947,27.1807,27.1663, 27.1518,27.1271,27.1118,27.0806,27.05, 27.0172,26.9836,26.9491,26.9135,26.8777 ,26.8404,26.8309,26.8252,27.2094, 27.8828,28.3961,28.9085,29.4204,29.8994 ,30.2192,30.2512,30.2618,30.2511, 30.2401,30.2291,30.2181,30.2087,30.1956 ,30.1842,30.1724,30.1664,30.1615,30.151 ,30.1451,30.1388,30.1324,30.1259, 30.1193,30.1126,30.1055,30.0978,30.092, 30.0823,30.0754,30.0671,30.0596,30.0522 ,30.0444,30.0362,30.0302,30.0223, 30.0141,30.006,29.9975,29.9879,29.9794, 29.971,29.9621,29.9482,29.9392,29.9301, 29.9207,29.9159,29.9076)
ORBIT_NUMBER = 6520
ORBITAL_ECCENTRICITY = 0.576
ORBITAL_INCLINATION = 86.76
ORBITAL_SEMIMAJOR_AXIS = 8691.34
PERIAPSIS_ALTITUDE = 305.7
PERIAPSIS_ARGUMENT_ANGLE = 292.38
PERIAPSIS_TIME = 2009-01-30T02:03:35.000Z
SPACECRAFT_ORIENTATION = (0.0,1.0,0.0)
^MEX_ORIENTATION_DESC = "MEX_ORIENTATION_DESC.TXT"
SPACECRAFT_POINTING_MODE = ACROSSTRACK
^MEX_POINTING_DESC = "MEX_POINTING_DESC.TXT"
RIGHT_ASCENSION = -1e+32
DECLINATION = -1e+32
OFFSET_ANGLE = 0.2
SPACECRAFT_SOLAR_DISTANCE = 2.13287e+08
TARGET_NAME = MARS
/* CAMERA DATA ELEMENTS */
DETECTOR_TEMPERATURE = 17.9627
FOCAL_PLANE_TEMPERATURE = 8.3794
INST_CMPRS_NAME = "DISCRETE COSINE TRANSFORMATION (DCT)"
INST_CMPRS_RATIO = 12.881
INST_CMPRS_QUALITY = 0
INST_CMPRS_QUANTZ_TBL_ID = 0
INSTRUMENT_TEMPERATURE = 11.234
LENS_TEMPERATURE = 8.7872
MACROPIXEL_SIZE = 4
MISSING_FRAMES = 0
PIXEL_SUBSAMPLING_FLAG = N
SIGNAL_CHAIN_ID = 2
/* RADIOMETRIC DATA ELEMENTS */
BANDWIDTH = 88.0
CENTER_FILTER_WAVELENGTH = 538.0
RADIANCE_OFFSET = 2.11169
RADIANCE_SCALING_FACTOR = 0.00483749
REFLECTANCE_SCALING_FACTOR = 0.000189467
MEX:REFLECTANCE_OFFSET = 0.0827071
/* IMAGE OBJECT DEFINITIONS */
OBJECT = IMAGE
  INTERCHANGE_FORMAT = BINARY
  LINES = 9491
  LINE_SAMPLES = 1936
  SAMPLE_TYPE = UNSIGNED_INTEGER
  SAMPLE_BITS = 8
  BANDS = 1
  BAND_STORAGE_TYPE = BAND_SEQUENTIAL
  MAXIMUM = 255
  MEAN = 146.472
  MINIMUM = 1
  STANDARD_DEVIATION = 29.7938
END_OBJECT = IMAGE
/* MAP OBJECT DEFINITIONS */
OBJECT = IMAGE_MAP_PROJECTION
  ^DATA_SET_MAP_PROJECTION_CATALOG= "DSMAP.CAT"
  A_AXIS_RADIUS = 3396.0
  B_AXIS_RADIUS = 3396.0
  C_AXIS_RADIUS = 3396.0
  CENTER_LATITUDE = 0.0
  CENTER_LONGITUDE = 29.0
  COORDINATE_SYSTEM_NAME = PLANETOGRAPHIC
  COORDINATE_SYSTEM_TYPE = "BODY-FIXED ROTATING"
  EASTERNMOST_LONGITUDE = 30.2618
  FIRST_STANDARD_PARALLEL = "N/A"
  LINE_FIRST_PIXEL = 1
  LINE_LAST_PIXEL = 9491
  LINE_PROJECTION_OFFSET = -8215.125
  MAP_PROJECTION_ROTATION = 0.0
  MAP_PROJECTION_TYPE = SINUSOIDAL
  MAP_RESOLUTION = 592.713803866667
  MAP_SCALE = 0.1
  MAXIMUM_LATITUDE = -13.8524
  MINIMUM_LATITUDE = -29.8601
  POSITIVE_LONGITUDE_DIRECTION = EAST
  REFERENCE_LATITUDE = "N/A"
  REFERENCE_LONGITUDE = "N/A"
  SAMPLE_FIRST_PIXEL = 1
  SAMPLE_LAST_PIXEL = 1936
  SAMPLE_PROJECTION_OFFSET = 1234.375
  SECOND_STANDARD_PARALLEL = "N/A"
  WESTERNMOST_LONGITUDE = 26.8252
END_OBJECT = IMAGE_MAP_PROJECTION
END
