PDS_VERSION_ID = PDS3
/* FILE DATA ELEMENTS */
RECORD_TYPE = UNDEFINED
/* POINTERS TO DATA OBJECTS */
^IMAGE = ("H6494_0000_S24.TIF")
/* IDENTIFICATION DATA ELEMENTS */
DATA_SET_ID = "MEX-M-HRSC-4-REFDR-MAPPROJECT-EXT2-V4.0"
DATA_SET_NAME = "MARS EXPRESS HRSC MAP PROJECTED REFDR EXTENSION2 V4.0"
DETECTOR_ID = MEX_HRSC_S2
EVENT_TYPE = "MARS-REGIONAL-MAPPING-Te-Im-Gl"
INSTRUMENT_HOST_ID = MEX
INSTRUMENT_HOST_NAME = "MARS EXPRESS"
INSTRUMENT_ID = HRSC
INSTRUMENT_NAME = "HIGH RESOLUTION STEREO CAMERA"
MISSION_NAME = "MARS EXPRESS"
MISSION_PHASE_NAME = ME_Phase_15
PROCESSING_LEVEL_ID = 4
PRODUCT_CREATION_TIME = 2023-02-05T03:41:04.000Z
PRODUCT_ID = "H6494_0000_S24.TIF"
RELEASE_ID = 0006
REVISION_ID = 0000
/* QUALITY DATA ELEMENTS */
DATA_QUALITY_ID = 1
DATA_QUALITY_DESC = "Data calculated based on original SPICE kernels"
/* TIME DATA ELEMENTS */
SPACECRAFT_CLOCK_START_COUNT = "1/0180715973.07288"
SPACECRAFT_CLOCK_STOP_COUNT = "1/0180716399.23284"
START_TIME = 2009-01-22T14:52:55.563Z
STOP_TIME = 2009-01-22T14:57:48.087Z
/* ORBITAL DATA ELEMENTS */
ASCENDING_NODE_LONGITUDE = 93.99
MAXIMUM_RESOLUTION = 0.0308
FOOTPRINT_POINT_LATITUDE = (-43.4184,-43.3865,-43.3505,-43.302, -43.3006,-43.2516,-42.458,-41.943, -41.5997,-40.9159,-40.4041,-40.0622, -39.7189,-39.376,-38.8638,-38.5215, -38.1776,-37.6625,-37.3119,-36.9639, -36.4348,-36.077,-35.7236,-35.3623, -34.9956,-34.6325,-34.0724,-33.6988, -33.319,-32.937,-32.5514,-32.1618, -31.7707,-31.3712,-30.9728,-30.5658, -30.1595,-29.7468,-29.1224,-28.7029, -28.2784,-27.6339,-27.2003,-26.7599, -26.0835,-25.4024,-24.9498,-24.4811, -24.2451,-24.2204,-24.2515,-24.2764, -24.2889,-24.2966,-24.297,-24.2979, -25.0002,-25.4621,-25.9199,-26.3716, -26.8176,-27.2606,-27.917,-28.558, -28.9854,-29.4057,-29.8189,-30.2335, -30.64,-31.2418,-31.6488,-32.0447, -32.436,-32.8264,-33.2065,-33.588, -34.1531,-34.7116,-35.0769,-35.4426, -35.8068,-36.1654,-36.5239,-36.8796, -37.2299,-37.58,-38.0988,-38.9528, -39.6341,-39.9805,-40.4977,-40.8418, -41.1845,-41.5288,-41.8721,-42.2163, -42.5621,-43.2155,-43.3597,-43.4184)
FOOTPRINT_POINT_LONGITUDE = (130.075,129.547,129.011,128.361, 128.344,128.302,128.348,128.375,128.392 ,128.426,128.451,128.466,128.479, 128.491,128.511,128.522,128.531,128.546 ,128.556,128.567,128.581,128.589,128.6, 128.609,128.616,128.624,128.634,128.64, 128.646,128.65,128.654,128.658,128.661, 128.663,128.664,128.665,128.665,128.666 ,128.665,128.665,128.665,128.662,128.66 ,128.657,128.647,128.639,128.636, 128.627,128.622,128.622,129.288,129.924 ,130.407,130.782,130.803,130.81,130.795 ,130.784,130.774,130.763,130.752, 130.741,130.724,130.707,130.695,130.683 ,130.671,130.659,130.646,130.628, 130.614,130.601,130.588,130.575,130.561 ,130.548,130.527,130.506,130.491, 130.477,130.462,130.447,130.432,130.417 ,130.401,130.385,130.362,130.321, 130.287,130.269,130.242,130.223,130.205 ,130.185,130.166,130.146,130.125, 130.085,130.076,130.075)
ORBIT_NUMBER = 6494
ORBITAL_ECCENTRICITY = 0.576
ORBITAL_INCLINATION = 86.76
ORBITAL_SEMIMAJOR_AXIS = 8698.14
PERIAPSIS_ALTITUDE = 305.59
PERIAPSIS_ARGUMENT_ANGLE = 296.84
PERIAPSIS_TIME = 2009-01-22T14:48:29.000Z
SPACECRAFT_ORIENTATION = (0.0,1.0,0.0)
^MEX_ORIENTATION_DESC = "MEX_ORIENTATION_DESC.TXT"
SPACECRAFT_POINTING_MODE = ACROSSTRACK
^MEX_POINTING_DESC = "MEX_POINTING_DESC.TXT"
RIGHT_ASCENSION = -1e+32
DECLINATION = -1e+32
OFFSET_ANGLE = 0.7
SPACECRAFT_SOLAR_DISTANCE = 2.1445e+08
TARGET_NAME = MARS
/* CAMERA DATA ELEMENTS */
DETECTOR_TEMPERATURE = 18.5744
FOCAL_PLANE_TEMPERATURE = 9.3989
INST_CMPRS_NAME = "DISCRETE COSINE TRANSFORMATION (DCT)"
INST_CMPRS_RATIO = 9.17728
INST_CMPRS_QUALITY = 0
INST_CMPRS_QUANTZ_TBL_ID = 0
INSTRUMENT_TEMPERATURE = 11.234
LENS_TEMPERATURE = 8.7872
MACROPIXEL_SIZE = 2
MISSING_FRAMES = 0
PIXEL_SUBSAMPLING_FLAG = N
SIGNAL_CHAIN_ID = 1
/* RADIOMETRIC DATA ELEMENTS */
BANDWIDTH = 178.0
CENTER_FILTER_WAVELENGTH = 679.0
RADIANCE_OFFSET = 3.45551
RADIANCE_SCALING_FACTOR = 0.0243918
REFLECTANCE_SCALING_FACTOR = 0.000594051
MEX:REFLECTANCE_OFFSET = 0.0841572
/* IMAGE OBJECT DEFINITIONS */
OBJECT = IMAGE
  INTERCHANGE_FORMAT = BINARY
  LINES = 45231
  LINE_SAMPLES = 5134
  SAMPLE_TYPE = UNSIGNED_INTEGER
  SAMPLE_BITS = 8
  BANDS = 1
  BAND_STORAGE_TYPE = BAND_SEQUENTIAL
  MAXIMUM = 255
  MEAN = 133.34
  MINIMUM = 1
  STANDARD_DEVIATION = 27.9888
END_OBJECT = IMAGE
/* MAP OBJECT DEFINITIONS */
OBJECT = IMAGE_MAP_PROJECTION
  ^DATA_SET_MAP_PROJECTION_CATALOG= "DSMAP.CAT"
  A_AXIS_RADIUS = 3396.0
  B_AXIS_RADIUS = 3396.0
  C_AXIS_RADIUS = 3396.0
  CENTER_LATITUDE = 0.0
  CENTER_LONGITUDE = 130.0
  COORDINATE_SYSTEM_NAME = PLANETOGRAPHIC
  COORDINATE_SYSTEM_TYPE = "BODY-FIXED ROTATING"
  EASTERNMOST_LONGITUDE = 130.81
  FIRST_STANDARD_PARALLEL = "N/A"
  LINE_FIRST_PIXEL = 1
  LINE_LAST_PIXEL = 45231
  LINE_PROJECTION_OFFSET = -57476.75
  MAP_PROJECTION_ROTATION = 0.0
  MAP_PROJECTION_TYPE = SINUSOIDAL
  MAP_RESOLUTION = 2370.85521546667
  MAP_SCALE = 0.025
  MAXIMUM_LATITUDE = -24.2204
  MINIMUM_LATITUDE = -43.4184
  POSITIVE_LONGITUDE_DIRECTION = EAST
  REFERENCE_LATITUDE = "N/A"
  REFERENCE_LONGITUDE = "N/A"
  SAMPLE_FIRST_PIXEL = 1
  SAMPLE_LAST_PIXEL = 5134
  SAMPLE_PROJECTION_OFFSET = 3177.75
  SECOND_STANDARD_PARALLEL = "N/A"
  WESTERNMOST_LONGITUDE = 128.302
END_OBJECT = IMAGE_MAP_PROJECTION
END
