PDS_VERSION_ID = PDS3
/* FILE DATA ELEMENTS */
RECORD_TYPE = UNDEFINED
/* POINTERS TO DATA OBJECTS */
^IMAGE = ("H6494_0000_P24.TIF")
/* IDENTIFICATION DATA ELEMENTS */
DATA_SET_ID = "MEX-M-HRSC-4-REFDR-MAPPROJECT-EXT2-V4.0"
DATA_SET_NAME = "MARS EXPRESS HRSC MAP PROJECTED REFDR EXTENSION2 V4.0"
DETECTOR_ID = MEX_HRSC_P2
EVENT_TYPE = "MARS-REGIONAL-MAPPING-Te-Im-Gl"
INSTRUMENT_HOST_ID = MEX
INSTRUMENT_HOST_NAME = "MARS EXPRESS"
INSTRUMENT_ID = HRSC
INSTRUMENT_NAME = "HIGH RESOLUTION STEREO CAMERA"
MISSION_NAME = "MARS EXPRESS"
MISSION_PHASE_NAME = ME_Phase_15
PROCESSING_LEVEL_ID = 4
PRODUCT_CREATION_TIME = 2023-02-05T03:41:04.000Z
PRODUCT_ID = "H6494_0000_P24.TIF"
RELEASE_ID = 0006
REVISION_ID = 0000
/* QUALITY DATA ELEMENTS */
DATA_QUALITY_ID = 1
DATA_QUALITY_DESC = "Data calculated based on original SPICE kernels"
/* TIME DATA ELEMENTS */
SPACECRAFT_CLOCK_START_COUNT = "1/0180715973.07288"
SPACECRAFT_CLOCK_STOP_COUNT = "1/0180716399.23284"
START_TIME = 2009-01-22T14:53:06.778Z
STOP_TIME = 2009-01-22T14:58:06.785Z
/* ORBITAL DATA ELEMENTS */
ASCENDING_NODE_LONGITUDE = 93.99
MAXIMUM_RESOLUTION = 0.0302
FOOTPRINT_POINT_LATITUDE = (-43.3853,-43.3597,-43.3303,-43.2902, -43.2891,-43.2561,-42.917,-42.5779, -42.0698,-41.562,-40.8877,-40.3827, -39.7083,-39.3711,-38.8666,-38.3571, -38.0109,-37.6672,-37.3188,-36.9673, -36.616,-36.2593,-35.9007,-35.544, -35.1781,-34.6288,-34.0683,-33.6939, -33.3137,-32.9316,-32.5444,-32.1551, -31.7622,-31.3643,-30.7612,-30.1496, -29.7383,-29.3216,-28.6915,-28.2669, -27.8367,-27.4051,-26.9661,-26.5212, -26.0707,-25.3887,-24.6999,-24.4645, -24.2311,-24.2536,-24.269,-24.2822, -24.2824,-24.2832,-24.7515,-25.2158, -25.6761,-26.1316,-26.5801,-27.246, -27.684,-28.1184,-28.5449,-28.973, -29.3922,-29.8089,-30.2196,-30.6305, -31.0353,-31.4353,-32.0362,-32.4267, -33.009,-33.3902,-33.9595,-34.3341, -34.7069,-35.2569,-35.6244,-35.9841, -36.3445,-36.7019,-37.0545,-37.4071, -37.7559,-38.1002,-38.4446,-39.1233, -39.6258,-39.9687,-40.4738,-40.8126, -41.1505,-41.4896,-41.8283,-42.1677, -42.5083,-43.0173,-43.1874,-43.3853)
FOOTPRINT_POINT_LONGITUDE = (130.088,129.553,129.01,128.353,128.336 ,128.293,128.313,128.332,128.359, 128.385,128.418,128.441,128.468,128.48, 128.498,128.514,128.523,128.533,128.543 ,128.553,128.562,128.571,128.58,128.59, 128.598,128.609,128.618,128.623,128.629 ,128.633,128.637,128.64,128.643,128.644 ,128.645,128.645,128.645,128.644, 128.643,128.642,128.64,128.638,128.635, 128.629,128.621,128.612,128.605,128.6, 128.594,129.298,129.906,130.808,130.829 ,130.837,130.826,130.815,130.804, 130.793,130.782,130.764,130.753,130.741 ,130.729,130.717,130.704,130.692, 130.679,130.666,130.654,130.64,130.62, 130.607,130.586,130.572,130.551,130.537 ,130.522,130.5,130.485,130.47,130.455, 130.439,130.424,130.408,130.392,130.376 ,130.359,130.326,130.3,130.282,130.256, 130.237,130.218,130.199,130.18,130.16, 130.139,130.108,130.098,130.088)
ORBIT_NUMBER = 6494
ORBITAL_ECCENTRICITY = 0.576
ORBITAL_INCLINATION = 86.76
ORBITAL_SEMIMAJOR_AXIS = 8698.14
PERIAPSIS_ALTITUDE = 305.59
PERIAPSIS_ARGUMENT_ANGLE = 296.84
PERIAPSIS_TIME = 2009-01-22T14:48:29.000Z
SPACECRAFT_ORIENTATION = (0.0,1.0,0.0)
^MEX_ORIENTATION_DESC = "MEX_ORIENTATION_DESC.TXT"
SPACECRAFT_POINTING_MODE = ACROSSTRACK
^MEX_POINTING_DESC = "MEX_POINTING_DESC.TXT"
RIGHT_ASCENSION = -1e+32
DECLINATION = -1e+32
OFFSET_ANGLE = 0.7
SPACECRAFT_SOLAR_DISTANCE = 2.1445e+08
TARGET_NAME = MARS
/* CAMERA DATA ELEMENTS */
DETECTOR_TEMPERATURE = 18.5744
FOCAL_PLANE_TEMPERATURE = 9.3989
INST_CMPRS_NAME = "DISCRETE COSINE TRANSFORMATION (DCT)"
INST_CMPRS_RATIO = 6.29814
INST_CMPRS_QUALITY = 0
INST_CMPRS_QUANTZ_TBL_ID = 0
INSTRUMENT_TEMPERATURE = 11.234
LENS_TEMPERATURE = 8.7872
MACROPIXEL_SIZE = 2
MISSING_FRAMES = 0
PIXEL_SUBSAMPLING_FLAG = N
SIGNAL_CHAIN_ID = 3
/* RADIOMETRIC DATA ELEMENTS */
BANDWIDTH = 177.0
CENTER_FILTER_WAVELENGTH = 676.5
RADIANCE_OFFSET = 3.33077
RADIANCE_SCALING_FACTOR = 0.0231381
REFLECTANCE_SCALING_FACTOR = 0.000564205
MEX:REFLECTANCE_OFFSET = 0.0812182
/* IMAGE OBJECT DEFINITIONS */
OBJECT = IMAGE
  INTERCHANGE_FORMAT = BINARY
  LINES = 45231
  LINE_SAMPLES = 5134
  SAMPLE_TYPE = UNSIGNED_INTEGER
  SAMPLE_BITS = 8
  BANDS = 1
  BAND_STORAGE_TYPE = BAND_SEQUENTIAL
  MAXIMUM = 255
  MEAN = 133.405
  MINIMUM = 1
  STANDARD_DEVIATION = 27.6846
END_OBJECT = IMAGE
/* MAP OBJECT DEFINITIONS */
OBJECT = IMAGE_MAP_PROJECTION
  ^DATA_SET_MAP_PROJECTION_CATALOG= "DSMAP.CAT"
  A_AXIS_RADIUS = 3396.0
  B_AXIS_RADIUS = 3396.0
  C_AXIS_RADIUS = 3396.0
  CENTER_LATITUDE = 0.0
  CENTER_LONGITUDE = 130.0
  COORDINATE_SYSTEM_NAME = PLANETOGRAPHIC
  COORDINATE_SYSTEM_TYPE = "BODY-FIXED ROTATING"
  EASTERNMOST_LONGITUDE = 130.837
  FIRST_STANDARD_PARALLEL = "N/A"
  LINE_FIRST_PIXEL = 1
  LINE_LAST_PIXEL = 45231
  LINE_PROJECTION_OFFSET = -57476.75
  MAP_PROJECTION_ROTATION = 0.0
  MAP_PROJECTION_TYPE = SINUSOIDAL
  MAP_RESOLUTION = 2370.85521546667
  MAP_SCALE = 0.025
  MAXIMUM_LATITUDE = -24.2311
  MINIMUM_LATITUDE = -43.3853
  POSITIVE_LONGITUDE_DIRECTION = EAST
  REFERENCE_LATITUDE = "N/A"
  REFERENCE_LONGITUDE = "N/A"
  SAMPLE_FIRST_PIXEL = 1
  SAMPLE_LAST_PIXEL = 5134
  SAMPLE_PROJECTION_OFFSET = 3177.75
  SECOND_STANDARD_PARALLEL = "N/A"
  WESTERNMOST_LONGITUDE = 128.293
END_OBJECT = IMAGE_MAP_PROJECTION
END
