PDS_VERSION_ID = PDS3
/* FILE DATA ELEMENTS */
RECORD_TYPE = UNDEFINED
/* POINTERS TO DATA OBJECTS */
^IMAGE = ("H6493_0000_GR4.TIF")
/* IDENTIFICATION DATA ELEMENTS */
DATA_SET_ID = "MEX-M-HRSC-4-REFDR-MAPPROJECT-EXT2-V4.0"
DATA_SET_NAME = "MARS EXPRESS HRSC MAP PROJECTED REFDR EXTENSION2 V4.0"
DETECTOR_ID = MEX_HRSC_GREEN
EVENT_TYPE = "MARS-REGIONAL-MAPPING-Im-Fl"
INSTRUMENT_HOST_ID = MEX
INSTRUMENT_HOST_NAME = "MARS EXPRESS"
INSTRUMENT_ID = HRSC
INSTRUMENT_NAME = "HIGH RESOLUTION STEREO CAMERA"
MISSION_NAME = "MARS EXPRESS"
MISSION_PHASE_NAME = ME_Phase_15
PROCESSING_LEVEL_ID = 4
PRODUCT_CREATION_TIME = 2023-02-05T03:41:04.000Z
PRODUCT_ID = "H6493_0000_GR4.TIF"
RELEASE_ID = 0006
REVISION_ID = 0000
/* QUALITY DATA ELEMENTS */
DATA_QUALITY_ID = 1
DATA_QUALITY_DESC = "Data calculated based on original SPICE kernels"
/* TIME DATA ELEMENTS */
SPACECRAFT_CLOCK_START_COUNT = "1/0180690894.09127"
SPACECRAFT_CLOCK_STOP_COUNT = "1/0180691207.00363"
START_TIME = 2009-01-22T07:55:28.219Z
STOP_TIME = 2009-01-22T07:59:37.398Z
/* ORBITAL DATA ELEMENTS */
ASCENDING_NODE_LONGITUDE = 94.01
MAXIMUM_RESOLUTION = 0.0483
FOOTPRINT_POINT_LATITUDE = (-60.3361,-60.2999,-60.2598,-60.259, -60.2684,-59.8049,-59.4959,-59.1869, -58.7243,-58.4149,-58.1061,-57.7978, -57.4894,-57.1808,-56.5648,-55.9497, -55.1809,-54.7073,-54.3898,-54.0725, -53.7554,-53.2797,-52.9625,-52.6459, -52.3299,-51.8437,-51.5173,-51.1911, -50.8651,-50.5387,-50.2138,-49.7169, -49.382,-48.8803,-48.3791,-48.0455, -47.7123,-47.3794,-47.0481,-46.7162, -46.2179,-45.8871,-45.5569,-45.2268, -44.8633,-44.4708,-44.2748,-44.0809, -44.0972,-44.108,-44.1196,-44.1199, -44.1209,-44.5136,-44.9069,-45.2705, -45.6011,-45.9321,-46.2635,-46.5953, -46.9278,-47.2599,-47.5947,-47.9277, -48.2625,-48.5963,-48.9313,-49.2666, -49.6024,-50.1047,-50.5939,-50.9205, -51.247,-51.5741,-51.9014,-52.2292, -52.5474,-52.8644,-53.182,-53.4998, -53.9767,-54.2946,-54.6131,-54.932, -55.4015,-56.0181,-56.6355,-56.9444, -57.2534,-57.5627,-57.8719,-58.1819, -58.4908,-58.8011,-59.1105,-59.4205, -59.7305,-60.0404,-60.1957,-60.3361)
FOOTPRINT_POINT_LONGITUDE = (231.341,230.28,229.316,229.298,229.283 ,229.36,229.41,229.459,229.529,229.574, 229.618,229.661,229.702,229.743,229.82, 229.892,229.977,230.027,230.059,230.089 ,230.119,230.163,230.191,230.218, 230.244,230.283,230.308,230.332,230.355 ,230.379,230.4,230.433,230.453,230.482, 230.51,230.528,230.545,230.561,230.576, 230.591,230.614,230.627,230.64,230.653, 230.666,230.679,230.686,230.692,231.31, 231.8,232.483,232.5,232.506,232.491, 232.475,232.46,232.446,232.432,232.417, 232.401,232.386,232.368,232.359,232.34, 232.326,232.306,232.29,232.272,232.255, 232.226,232.201,232.184,232.164,232.145 ,232.126,232.106,232.086,232.065, 232.045,232.024,231.99,231.966,231.942, 231.919,231.884,231.834,231.783,231.756 ,231.729,231.702,231.672,231.646, 231.613,231.585,231.551,231.52,231.487, 231.452,231.435,231.341)
ORBIT_NUMBER = 6493
ORBITAL_ECCENTRICITY = 0.576
ORBITAL_INCLINATION = 86.77
ORBITAL_SEMIMAJOR_AXIS = 8694.78
PERIAPSIS_ALTITUDE = 304.62
PERIAPSIS_ARGUMENT_ANGLE = 297.0
PERIAPSIS_TIME = 2009-01-22T07:54:46.000Z
SPACECRAFT_ORIENTATION = (0.0,1.0,0.0)
^MEX_ORIENTATION_DESC = "MEX_ORIENTATION_DESC.TXT"
SPACECRAFT_POINTING_MODE = ACROSSTRACK
^MEX_POINTING_DESC = "MEX_POINTING_DESC.TXT"
RIGHT_ASCENSION = -1e+32
DECLINATION = -1e+32
OFFSET_ANGLE = -0.4
SPACECRAFT_SOLAR_DISTANCE = 2.14496e+08
TARGET_NAME = MARS
/* CAMERA DATA ELEMENTS */
DETECTOR_TEMPERATURE = 18.3705
FOCAL_PLANE_TEMPERATURE = 8.3794
INST_CMPRS_NAME = "DISCRETE COSINE TRANSFORMATION (DCT)"
INST_CMPRS_RATIO = 11.6723
INST_CMPRS_QUALITY = 0
INST_CMPRS_QUANTZ_TBL_ID = 0
INSTRUMENT_TEMPERATURE = 11.4379
LENS_TEMPERATURE = 8.7872
MACROPIXEL_SIZE = 4
MISSING_FRAMES = 0
PIXEL_SUBSAMPLING_FLAG = N
SIGNAL_CHAIN_ID = 2
/* RADIOMETRIC DATA ELEMENTS */
BANDWIDTH = 88.0
CENTER_FILTER_WAVELENGTH = 538.0
RADIANCE_OFFSET = 1.31376
RADIANCE_SCALING_FACTOR = 0.0109909
REFLECTANCE_SCALING_FACTOR = 0.000435373
MEX:REFLECTANCE_OFFSET = 0.0520407
/* IMAGE OBJECT DEFINITIONS */
OBJECT = IMAGE
  INTERCHANGE_FORMAT = BINARY
  LINES = 19283
  LINE_SAMPLES = 2293
  SAMPLE_TYPE = UNSIGNED_INTEGER
  SAMPLE_BITS = 8
  BANDS = 1
  BAND_STORAGE_TYPE = BAND_SEQUENTIAL
  MAXIMUM = 255
  MEAN = 46.6508
  MINIMUM = 1
  STANDARD_DEVIATION = 34.0519
END_OBJECT = IMAGE
/* MAP OBJECT DEFINITIONS */
OBJECT = IMAGE_MAP_PROJECTION
  ^DATA_SET_MAP_PROJECTION_CATALOG= "DSMAP.CAT"
  A_AXIS_RADIUS = 3396.0
  B_AXIS_RADIUS = 3396.0
  C_AXIS_RADIUS = 3396.0
  CENTER_LATITUDE = 0.0
  CENTER_LONGITUDE = 231.0
  COORDINATE_SYSTEM_NAME = PLANETOGRAPHIC
  COORDINATE_SYSTEM_TYPE = "BODY-FIXED ROTATING"
  EASTERNMOST_LONGITUDE = 232.506
  FIRST_STANDARD_PARALLEL = "N/A"
  LINE_FIRST_PIXEL = 1
  LINE_LAST_PIXEL = 19283
  LINE_PROJECTION_OFFSET = -52263.375
  MAP_PROJECTION_ROTATION = 0.0
  MAP_PROJECTION_TYPE = SINUSOIDAL
  MAP_RESOLUTION = 1185.42760773333
  MAP_SCALE = 0.05
  MAXIMUM_LATITUDE = -44.0809
  MINIMUM_LATITUDE = -60.3361
  POSITIVE_LONGITUDE_DIRECTION = EAST
  REFERENCE_LATITUDE = "N/A"
  REFERENCE_LONGITUDE = "N/A"
  SAMPLE_FIRST_PIXEL = 1
  SAMPLE_LAST_PIXEL = 2293
  SAMPLE_PROJECTION_OFFSET = 1015.125
  SECOND_STANDARD_PARALLEL = "N/A"
  WESTERNMOST_LONGITUDE = 229.283
END_OBJECT = IMAGE_MAP_PROJECTION
END
