PDS_VERSION_ID = PDS3
/* FILE DATA ELEMENTS */
RECORD_TYPE = UNDEFINED
/* POINTERS TO DATA OBJECTS */
^IMAGE = ("H6491_0000_S14.TIF")
/* IDENTIFICATION DATA ELEMENTS */
DATA_SET_ID = "MEX-M-HRSC-4-REFDR-MAPPROJECT-EXT2-V4.0"
DATA_SET_NAME = "MARS EXPRESS HRSC MAP PROJECTED REFDR EXTENSION2 V4.0"
DETECTOR_ID = MEX_HRSC_S1
EVENT_TYPE = "MARS-REGIONAL-MAPPING-Te-Im-Fl"
INSTRUMENT_HOST_ID = MEX
INSTRUMENT_HOST_NAME = "MARS EXPRESS"
INSTRUMENT_ID = HRSC
INSTRUMENT_NAME = "HIGH RESOLUTION STEREO CAMERA"
MISSION_NAME = "MARS EXPRESS"
MISSION_PHASE_NAME = ME_Phase_15
PROCESSING_LEVEL_ID = 4
PRODUCT_CREATION_TIME = 2023-02-05T03:41:04.000Z
PRODUCT_ID = "H6491_0000_S14.TIF"
RELEASE_ID = 0006
REVISION_ID = 0000
/* QUALITY DATA ELEMENTS */
DATA_QUALITY_ID = 1
DATA_QUALITY_DESC = "Data calculated based on original SPICE kernels"
/* TIME DATA ELEMENTS */
SPACECRAFT_CLOCK_START_COUNT = "1/0180641834.09059"
SPACECRAFT_CLOCK_STOP_COUNT = "1/0180642216.12751"
START_TIME = 2009-01-21T18:19:36.017Z
STOP_TIME = 2009-01-21T18:23:36.700Z
/* ORBITAL DATA ELEMENTS */
ASCENDING_NODE_LONGITUDE = 94.04
MAXIMUM_RESOLUTION = 0.0625
FOOTPRINT_POINT_LATITUDE = (-22.103,-22.1125,-22.1202,-22.1256, -22.1309,-22.1372,-22.1376,-22.1615, -21.9366,-21.7128,-21.4894,-21.2662, -21.0449,-20.8208,-20.6015,-20.274, -19.9515,-19.628,-19.413,-19.2006, -18.9881,-18.7765,-18.5653,-18.3549, -18.1444,-17.9359,-17.7286,-17.5216, -17.3154,-17.1093,-16.9049,-16.5991, -16.3967,-16.194,-15.9928,-15.7933, -15.3939,-14.9984,-14.6048,-14.1155, -13.7334,-13.4438,-13.1591,-12.7798, -12.4064,-12.032,-11.9388,-11.918, -11.9073,-11.8944,-11.8858,-11.8744, -11.8659,-11.858,-11.8499,-11.8417, -11.8326,-11.822,-11.8118,-11.811, -11.8113,-12.1862,-12.5629,-12.8487, -13.233,-13.7138,-14.1022,-14.6939, -15.0913,-15.2916,-15.4922,-15.6935, -15.8951,-16.0976,-16.3021,-16.5048, -16.813,-17.019,-17.2244,-17.4316, -17.6398,-17.8488,-18.061,-18.2682, -18.5863,-18.7984,-19.0128,-19.2266, -19.5477,-19.7672,-20.0929,-20.4206, -20.6394,-20.8591,-21.0871,-21.4296, -21.6528,-21.9882,-22.1005,-22.103)
FOOTPRINT_POINT_LONGITUDE = (74.3759,73.6258,73.0101,72.5824, 72.1541,71.6445,71.6176,71.6011,71.5919 ,71.5826,71.5733,71.564,71.5543,71.5456 ,71.5355,71.5202,71.5036,71.4876, 71.4769,71.4656,71.4544,71.4431,71.4318 ,71.4204,71.4092,71.3975,71.3856, 71.3737,71.3618,71.35,71.3377,71.3195, 71.307,71.2948,71.2822,71.2693,71.2441, 71.2183,71.1925,71.1603,71.1324,71.1128 ,71.0921,71.0648,71.0365,71.009,71.002, 71.0004,71.321,71.7141,71.9996,72.3562, 72.6412,72.9265,73.212,73.4975,73.8546, 74.2115,74.6409,74.6767,74.6896,74.6772 ,74.6644,74.6553,74.6434,74.6273, 74.6146,74.5968,74.5847,74.5788,74.5727 ,74.5666,74.5604,74.5542,74.5484, 74.5418,74.5328,74.5266,74.5199,74.5136 ,74.5074,74.5011,74.4958,74.4884, 74.4793,74.4729,74.467,74.4606,74.4507, 74.4456,74.4362,74.4268,74.4204,74.4139 ,74.4101,74.404,74.3978,74.388,74.3848, 74.3759)
ORBIT_NUMBER = 6491
ORBITAL_ECCENTRICITY = 0.576
ORBITAL_INCLINATION = 86.77
ORBITAL_SEMIMAJOR_AXIS = 8698.01
PERIAPSIS_ALTITUDE = 304.69
PERIAPSIS_ARGUMENT_ANGLE = 297.36
PERIAPSIS_TIME = 2009-01-21T18:07:32.000Z
SPACECRAFT_ORIENTATION = (0.0,1.0,0.0)
^MEX_ORIENTATION_DESC = "MEX_ORIENTATION_DESC.TXT"
SPACECRAFT_POINTING_MODE = NADIR
^MEX_POINTING_DESC = "MEX_POINTING_DESC.TXT"
RIGHT_ASCENSION = -1e+32
DECLINATION = -1e+32
OFFSET_ANGLE = -1e+32
SPACECRAFT_SOLAR_DISTANCE = 2.14589e+08
TARGET_NAME = MARS
/* CAMERA DATA ELEMENTS */
DETECTOR_TEMPERATURE = 17.5549
FOCAL_PLANE_TEMPERATURE = 8.1755
INST_CMPRS_NAME = "DISCRETE COSINE TRANSFORMATION (DCT)"
INST_CMPRS_RATIO = 10.8366
INST_CMPRS_QUALITY = 0
INST_CMPRS_QUANTZ_TBL_ID = 0
INSTRUMENT_TEMPERATURE = 11.234
LENS_TEMPERATURE = 8.3794
MACROPIXEL_SIZE = 2
MISSING_FRAMES = 0
PIXEL_SUBSAMPLING_FLAG = N
SIGNAL_CHAIN_ID = 1
/* RADIOMETRIC DATA ELEMENTS */
BANDWIDTH = 180.0
CENTER_FILTER_WAVELENGTH = 677.0
RADIANCE_OFFSET = 5.75785
RADIANCE_SCALING_FACTOR = 0.015296
REFLECTANCE_SCALING_FACTOR = 0.000367475
MEX:REFLECTANCE_OFFSET = 0.138328
/* IMAGE OBJECT DEFINITIONS */
OBJECT = IMAGE
  INTERCHANGE_FORMAT = BINARY
  LINES = 12237
  LINE_SAMPLES = 3566
  SAMPLE_TYPE = UNSIGNED_INTEGER
  SAMPLE_BITS = 8
  BANDS = 1
  BAND_STORAGE_TYPE = BAND_SEQUENTIAL
  MAXIMUM = 255
  MEAN = 90.8727
  MINIMUM = 1
  STANDARD_DEVIATION = 29.0552
END_OBJECT = IMAGE
/* MAP OBJECT DEFINITIONS */
OBJECT = IMAGE_MAP_PROJECTION
  ^DATA_SET_MAP_PROJECTION_CATALOG= "DSMAP.CAT"
  A_AXIS_RADIUS = 3396.0
  B_AXIS_RADIUS = 3396.0
  C_AXIS_RADIUS = 3396.0
  CENTER_LATITUDE = 0.0
  CENTER_LONGITUDE = 73.0
  COORDINATE_SYSTEM_NAME = PLANETOGRAPHIC
  COORDINATE_SYSTEM_TYPE = "BODY-FIXED ROTATING"
  EASTERNMOST_LONGITUDE = 74.6896
  FIRST_STANDARD_PARALLEL = "N/A"
  LINE_FIRST_PIXEL = 1
  LINE_LAST_PIXEL = 12237
  LINE_PROJECTION_OFFSET = -14009.75
  MAP_PROJECTION_ROTATION = 0.0
  MAP_PROJECTION_TYPE = SINUSOIDAL
  MAP_RESOLUTION = 1185.42760773333
  MAP_SCALE = 0.05
  MAXIMUM_LATITUDE = -11.811
  MINIMUM_LATITUDE = -22.1615
  POSITIVE_LONGITUDE_DIRECTION = EAST
  REFERENCE_LATITUDE = "N/A"
  REFERENCE_LONGITUDE = "N/A"
  SAMPLE_FIRST_PIXEL = 1
  SAMPLE_LAST_PIXEL = 3566
  SAMPLE_PROJECTION_OFFSET = 1993.75
  SECOND_STANDARD_PARALLEL = "N/A"
  WESTERNMOST_LONGITUDE = 71.0004
END_OBJECT = IMAGE_MAP_PROJECTION
END
