PDS_VERSION_ID = PDS3
/* FILE DATA ELEMENTS */
RECORD_TYPE = UNDEFINED
/* POINTERS TO DATA OBJECTS */
^IMAGE = ("H6491_0000_ND4.TIF")
/* IDENTIFICATION DATA ELEMENTS */
DATA_SET_ID = "MEX-M-HRSC-4-REFDR-MAPPROJECT-EXT2-V4.0"
DATA_SET_NAME = "MARS EXPRESS HRSC MAP PROJECTED REFDR EXTENSION2 V4.0"
DETECTOR_ID = MEX_HRSC_NADIR
EVENT_TYPE = "MARS-REGIONAL-MAPPING-Te-Im-Fl"
INSTRUMENT_HOST_ID = MEX
INSTRUMENT_HOST_NAME = "MARS EXPRESS"
INSTRUMENT_ID = HRSC
INSTRUMENT_NAME = "HIGH RESOLUTION STEREO CAMERA"
MISSION_NAME = "MARS EXPRESS"
MISSION_PHASE_NAME = ME_Phase_15
PROCESSING_LEVEL_ID = 4
PRODUCT_CREATION_TIME = 2023-02-05T03:41:04.000Z
PRODUCT_ID = "H6491_0000_ND4.TIF"
RELEASE_ID = 0006
REVISION_ID = 0000
/* QUALITY DATA ELEMENTS */
DATA_QUALITY_ID = 1
DATA_QUALITY_DESC = "Data calculated based on original SPICE kernels"
/* TIME DATA ELEMENTS */
SPACECRAFT_CLOCK_START_COUNT = "1/0180641834.09059"
SPACECRAFT_CLOCK_STOP_COUNT = "1/0180642216.12751"
START_TIME = 2009-01-21T18:18:17.555Z
STOP_TIME = 2009-01-21T18:21:32.589Z
/* ORBITAL DATA ELEMENTS */
ASCENDING_NODE_LONGITUDE = 94.04
MAXIMUM_RESOLUTION = 0.0259
FOOTPRINT_POINT_LATITUDE = (-22.123,-22.1262,-22.1323,-22.1352, -22.1378,-22.1387,-22.1392,-22.1393, -22.1393,-22.1386,-21.631,-21.323, -21.1178,-20.9098,-20.7021,-20.3877, -20.1778,-19.9655,-19.7533,-19.5415, -19.3302,-19.1193,-18.9088,-18.6988, -18.4892,-18.2801,-18.0714,-17.8631, -17.6553,-17.4479,-17.2409,-17.0344, -16.8283,-16.6227,-16.4175,-16.0084, -15.601,-15.1955,-14.7917,-14.3897, -13.9894,-13.5908,-13.194,-12.799, -12.4058,-12.0143,-11.9167,-11.8832, -11.8787,-11.8732,-11.8669,-11.8627, -11.855,-11.8463,-11.8406,-11.8339, -11.8246,-11.8173,-11.8165,-11.8165, -12.2096,-12.6048,-13.0015,-13.4, -13.8002,-14.2021,-14.6058,-15.0112, -15.4183,-15.8272,-16.0323,-16.2378, -16.4437,-16.6501,-16.8569,-17.0642, -17.2719,-17.48,-17.6885,-17.8975, -18.1069,-18.3167,-18.527,-18.7377, -18.9488,-19.1604,-19.3723,-19.5847, -19.7975,-20.0108,-20.2231,-20.434, -20.6447,-20.8532,-21.1652,-21.3715, -21.578,-21.986,-22.088,-22.123)
FOOTPRINT_POINT_LONGITUDE = (74.1888,73.9495,73.4,73.0416,72.5881, 72.3253,72.0861,71.7988,71.7748,71.757, 71.7406,71.7305,71.7242,71.7164,71.7094 ,71.6978,71.6891,71.6805,71.672,71.6637 ,71.6554,71.6466,71.6376,71.6285, 71.6195,71.6111,71.6017,71.5922,71.5827 ,71.5733,71.5638,71.5542,71.5446, 71.5348,71.5249,71.5048,71.4846,71.4637 ,71.4428,71.4223,71.4006,71.3784, 71.3559,71.3332,71.3106,71.2877,71.2818 ,71.28,71.5526,71.8557,72.1885,72.4004, 72.7633,73.1568,73.3992,73.6718,74.035, 74.3078,74.3382,74.3531,74.3493,74.3419 ,74.3364,74.3309,74.3252,74.3188, 74.3129,74.3071,74.3013,74.2951,74.292, 74.289,74.2857,74.2824,74.279,74.2756, 74.272,74.2692,74.2656,74.2623,74.2587, 74.2553,74.2518,74.2479,74.2449,74.2416 ,74.2383,74.2347,74.2314,74.2275, 74.2243,74.221,74.2169,74.2138,74.2128, 74.2096,74.2061,74.1985,74.1967, 74.1888)
ORBIT_NUMBER = 6491
ORBITAL_ECCENTRICITY = 0.576
ORBITAL_INCLINATION = 86.77
ORBITAL_SEMIMAJOR_AXIS = 8698.01
PERIAPSIS_ALTITUDE = 304.69
PERIAPSIS_ARGUMENT_ANGLE = 297.36
PERIAPSIS_TIME = 2009-01-21T18:07:32.000Z
SPACECRAFT_ORIENTATION = (0.0,1.0,0.0)
^MEX_ORIENTATION_DESC = "MEX_ORIENTATION_DESC.TXT"
SPACECRAFT_POINTING_MODE = NADIR
^MEX_POINTING_DESC = "MEX_POINTING_DESC.TXT"
RIGHT_ASCENSION = -1e+32
DECLINATION = -1e+32
OFFSET_ANGLE = -1e+32
SPACECRAFT_SOLAR_DISTANCE = 2.14589e+08
TARGET_NAME = MARS
/* CAMERA DATA ELEMENTS */
DETECTOR_TEMPERATURE = 18.1666
FOCAL_PLANE_TEMPERATURE = 8.1755
INST_CMPRS_NAME = "DISCRETE COSINE TRANSFORMATION (DCT)"
INST_CMPRS_RATIO = 7.28289
INST_CMPRS_QUALITY = 0
INST_CMPRS_QUANTZ_TBL_ID = 0
INSTRUMENT_TEMPERATURE = 11.234
LENS_TEMPERATURE = 8.3794
MACROPIXEL_SIZE = 1
MISSING_FRAMES = 0
PIXEL_SUBSAMPLING_FLAG = N
SIGNAL_CHAIN_ID = 0
/* RADIOMETRIC DATA ELEMENTS */
BANDWIDTH = 177.0
CENTER_FILTER_WAVELENGTH = 677.5
RADIANCE_OFFSET = 4.88249
RADIANCE_SCALING_FACTOR = 0.0159559
REFLECTANCE_SCALING_FACTOR = 0.000390313
MEX:REFLECTANCE_OFFSET = 0.119436
/* IMAGE OBJECT DEFINITIONS */
OBJECT = IMAGE
  INTERCHANGE_FORMAT = BINARY
  LINES = 24474
  LINE_SAMPLES = 7132
  SAMPLE_TYPE = UNSIGNED_INTEGER
  SAMPLE_BITS = 8
  BANDS = 1
  BAND_STORAGE_TYPE = BAND_SEQUENTIAL
  MAXIMUM = 255
  MEAN = 92.2336
  MINIMUM = 1
  STANDARD_DEVIATION = 26.6821
END_OBJECT = IMAGE
/* MAP OBJECT DEFINITIONS */
OBJECT = IMAGE_MAP_PROJECTION
  ^DATA_SET_MAP_PROJECTION_CATALOG= "DSMAP.CAT"
  A_AXIS_RADIUS = 3396.0
  B_AXIS_RADIUS = 3396.0
  C_AXIS_RADIUS = 3396.0
  CENTER_LATITUDE = 0.0
  CENTER_LONGITUDE = 73.0
  COORDINATE_SYSTEM_NAME = PLANETOGRAPHIC
  COORDINATE_SYSTEM_TYPE = "BODY-FIXED ROTATING"
  EASTERNMOST_LONGITUDE = 74.3531
  FIRST_STANDARD_PARALLEL = "N/A"
  LINE_FIRST_PIXEL = 1
  LINE_LAST_PIXEL = 24474
  LINE_PROJECTION_OFFSET = -28019.0
  MAP_PROJECTION_ROTATION = 0.0
  MAP_PROJECTION_TYPE = SINUSOIDAL
  MAP_RESOLUTION = 2370.85521546667
  MAP_SCALE = 0.025
  MAXIMUM_LATITUDE = -11.8165
  MINIMUM_LATITUDE = -22.1393
  POSITIVE_LONGITUDE_DIRECTION = EAST
  REFERENCE_LATITUDE = "N/A"
  REFERENCE_LONGITUDE = "N/A"
  SAMPLE_FIRST_PIXEL = 1
  SAMPLE_LAST_PIXEL = 7132
  SAMPLE_PROJECTION_OFFSET = 3988.0
  SECOND_STANDARD_PARALLEL = "N/A"
  WESTERNMOST_LONGITUDE = 71.28
END_OBJECT = IMAGE_MAP_PROJECTION
END
