PDS_VERSION_ID = PDS3
/* FILE DATA ELEMENTS */
RECORD_TYPE = UNDEFINED
/* POINTERS TO DATA OBJECTS */
^IMAGE = ("H6488_0000_S14.TIF")
/* IDENTIFICATION DATA ELEMENTS */
DATA_SET_ID = "MEX-M-HRSC-4-REFDR-MAPPROJECT-EXT2-V4.0"
DATA_SET_NAME = "MARS EXPRESS HRSC MAP PROJECTED REFDR EXTENSION2 V4.0"
DETECTOR_ID = MEX_HRSC_S1
EVENT_TYPE = "MARS-REGIONAL-MAPPING-Te-Im-Fl"
INSTRUMENT_HOST_ID = MEX
INSTRUMENT_HOST_NAME = "MARS EXPRESS"
INSTRUMENT_ID = HRSC
INSTRUMENT_NAME = "HIGH RESOLUTION STEREO CAMERA"
MISSION_NAME = "MARS EXPRESS"
MISSION_PHASE_NAME = ME_Phase_15
PROCESSING_LEVEL_ID = 4
PRODUCT_CREATION_TIME = 2023-02-05T03:41:04.000Z
PRODUCT_ID = "H6488_0000_S14.TIF"
RELEASE_ID = 0006
REVISION_ID = 0000
/* QUALITY DATA ELEMENTS */
DATA_QUALITY_ID = 1
DATA_QUALITY_DESC = "Data calculated based on original SPICE kernels"
/* TIME DATA ELEMENTS */
SPACECRAFT_CLOCK_START_COUNT = "1/0180567149.07272"
SPACECRAFT_CLOCK_STOP_COUNT = "1/0180567588.48423"
START_TIME = 2009-01-20T21:33:55.584Z
STOP_TIME = 2009-01-20T21:39:49.264Z
/* ORBITAL DATA ELEMENTS */
ASCENDING_NODE_LONGITUDE = 94.11
MAXIMUM_RESOLUTION = 0.0399
FOOTPRINT_POINT_LATITUDE = (-36.0841,-36.0884,-36.091,-36.092, -36.0919,-36.1217,-35.5305,-34.7786, -34.1671,-33.5476,-33.2343,-32.9193, -32.6009,-32.2826,-31.9622,-31.6404, -31.3167,-30.8225,-30.4917,-30.1569, -29.8212,-29.4823,-29.1407,-28.6241, -28.0999,-27.7499,-27.3945,-27.0426, -26.6827,-26.1326,-25.7679,-25.3991, -24.8365,-24.4598,-24.0789,-23.6963, -23.1139,-22.722,-22.3261,-21.9273, -21.5267,-21.1217,-20.7141,-20.3016, -19.8852,-19.4649,-19.0418,-18.6149, -18.4002,-18.3774,-18.3614,-18.3396, -18.3232,-18.3088,-18.2941,-18.2928, -18.2933,-18.9301,-19.3563,-19.7798, -20.1997,-20.6156,-21.0262,-21.4333, -22.0409,-22.4546,-22.8504,-23.2417, -23.6308,-24.0096,-24.3795,-24.76, -25.1387,-25.5125,-26.0713,-26.4344, -26.9779,-27.3368,-27.6917,-28.0434, -28.5676,-28.9152,-29.4332,-29.9415, -30.2799,-30.6133,-30.9441,-31.2702, -31.5989,-31.9246,-32.2472,-32.5645, -32.8874,-33.5119,-34.145,-34.7534, -35.351,-35.9527,-36.1017,-36.0841)
FOOTPRINT_POINT_LONGITUDE = (15.8317,15.211,14.5847,13.8327,13.8128 ,13.7871,13.7932,13.8,13.8042,13.807, 13.808,13.8089,13.8097,13.8093,13.8079, 13.8064,13.8033,13.8012,13.7987,13.7958 ,13.7926,13.7886,13.7844,13.7771, 13.7696,13.7631,13.7568,13.747,13.7394, 13.7294,13.7193,13.7096,13.6949,13.6837 ,13.6724,13.6599,13.6407,13.627,13.6131 ,13.5983,13.582,13.5656,13.5481,13.5303 ,13.5117,13.4926,13.4725,13.4514, 13.4404,13.4393,13.9704,14.6466,15.1439 ,15.9318,16.4265,16.4555,16.4659, 16.4429,16.4295,16.4164,16.4034,16.3904 ,16.3773,16.3643,16.3457,16.3363, 16.3238,16.311,16.2985,16.2846,16.2695, 16.2575,16.2457,16.2336,16.2164,16.2036 ,16.1854,16.1733,16.1609,16.1487, 16.1304,16.1185,16.1009,16.0824,16.0706 ,16.0584,16.0457,16.0332,16.021,16.0091 ,15.9966,15.9838,15.9721,15.9461, 15.9227,15.8963,15.8694,15.8441,15.8375 ,15.8317)
ORBIT_NUMBER = 6488
ORBITAL_ECCENTRICITY = 0.576
ORBITAL_INCLINATION = 86.76
ORBITAL_SEMIMAJOR_AXIS = 8698.05
PERIAPSIS_ALTITUDE = 305.72
PERIAPSIS_ARGUMENT_ANGLE = 297.86
PERIAPSIS_TIME = 2009-01-20T21:26:32.000Z
SPACECRAFT_ORIENTATION = (0.0,1.0,0.0)
^MEX_ORIENTATION_DESC = "MEX_ORIENTATION_DESC.TXT"
SPACECRAFT_POINTING_MODE = ACROSSTRACK
^MEX_POINTING_DESC = "MEX_POINTING_DESC.TXT"
RIGHT_ASCENSION = -1e+32
DECLINATION = -1e+32
OFFSET_ANGLE = 0.458
SPACECRAFT_SOLAR_DISTANCE = 2.14728e+08
TARGET_NAME = MARS
/* CAMERA DATA ELEMENTS */
DETECTOR_TEMPERATURE = 17.5549
FOCAL_PLANE_TEMPERATURE = 8.3794
INST_CMPRS_NAME = "DISCRETE COSINE TRANSFORMATION (DCT)"
INST_CMPRS_RATIO = 8.2857
INST_CMPRS_QUALITY = 0
INST_CMPRS_QUANTZ_TBL_ID = 0
INSTRUMENT_TEMPERATURE = 11.234
LENS_TEMPERATURE = 8.5833
MACROPIXEL_SIZE = 2
MISSING_FRAMES = 0
PIXEL_SUBSAMPLING_FLAG = N
SIGNAL_CHAIN_ID = 1
/* RADIOMETRIC DATA ELEMENTS */
BANDWIDTH = 180.0
CENTER_FILTER_WAVELENGTH = 677.0
RADIANCE_OFFSET = 5.40374
RADIANCE_SCALING_FACTOR = 0.0233462
REFLECTANCE_SCALING_FACTOR = 0.000561605
MEX:REFLECTANCE_OFFSET = 0.12999
/* IMAGE OBJECT DEFINITIONS */
OBJECT = IMAGE
  INTERCHANGE_FORMAT = BINARY
  LINES = 42292
  LINE_SAMPLES = 5889
  SAMPLE_TYPE = UNSIGNED_INTEGER
  SAMPLE_BITS = 8
  BANDS = 1
  BAND_STORAGE_TYPE = BAND_SEQUENTIAL
  MAXIMUM = 255
  MEAN = 139.595
  MINIMUM = 1
  STANDARD_DEVIATION = 46.2413
END_OBJECT = IMAGE
/* MAP OBJECT DEFINITIONS */
OBJECT = IMAGE_MAP_PROJECTION
  ^DATA_SET_MAP_PROJECTION_CATALOG= "DSMAP.CAT"
  A_AXIS_RADIUS = 3396.0
  B_AXIS_RADIUS = 3396.0
  C_AXIS_RADIUS = 3396.0
  CENTER_LATITUDE = 0.0
  CENTER_LONGITUDE = 15.0
  COORDINATE_SYSTEM_NAME = PLANETOGRAPHIC
  COORDINATE_SYSTEM_TYPE = "BODY-FIXED ROTATING"
  EASTERNMOST_LONGITUDE = 16.4659
  FIRST_STANDARD_PARALLEL = "N/A"
  LINE_FIRST_PIXEL = 1
  LINE_LAST_PIXEL = 42292
  LINE_PROJECTION_OFFSET = -43394.75
  MAP_PROJECTION_ROTATION = 0.0
  MAP_PROJECTION_TYPE = SINUSOIDAL
  MAP_RESOLUTION = 2370.85521546667
  MAP_SCALE = 0.025
  MAXIMUM_LATITUDE = -18.2928
  MINIMUM_LATITUDE = -36.1217
  POSITIVE_LONGITUDE_DIRECTION = EAST
  REFERENCE_LATITUDE = "N/A"
  REFERENCE_LONGITUDE = "N/A"
  SAMPLE_FIRST_PIXEL = 1
  SAMPLE_LAST_PIXEL = 5889
  SAMPLE_PROJECTION_OFFSET = 3076.25
  SECOND_STANDARD_PARALLEL = "N/A"
  WESTERNMOST_LONGITUDE = 13.4393
END_OBJECT = IMAGE_MAP_PROJECTION
END
