PDS_VERSION_ID = PDS3
/* FILE DATA ELEMENTS */
RECORD_TYPE = UNDEFINED
/* POINTERS TO DATA OBJECTS */
^IMAGE = ("H6483_0000_S24.TIF")
/* IDENTIFICATION DATA ELEMENTS */
DATA_SET_ID = "MEX-M-HRSC-4-REFDR-MAPPROJECT-EXT2-V4.0"
DATA_SET_NAME = "MARS EXPRESS HRSC MAP PROJECTED REFDR EXTENSION2 V4.0"
DETECTOR_ID = MEX_HRSC_S2
EVENT_TYPE = "MARS-REGIONAL-MAPPING-Im-Fl-Gl"
INSTRUMENT_HOST_ID = MEX
INSTRUMENT_HOST_NAME = "MARS EXPRESS"
INSTRUMENT_ID = HRSC
INSTRUMENT_NAME = "HIGH RESOLUTION STEREO CAMERA"
MISSION_NAME = "MARS EXPRESS"
MISSION_PHASE_NAME = ME_Phase_15
PROCESSING_LEVEL_ID = 4
PRODUCT_CREATION_TIME = 2023-02-05T03:41:04.000Z
PRODUCT_ID = "H6483_0000_S24.TIF"
RELEASE_ID = 0006
REVISION_ID = 0000
/* QUALITY DATA ELEMENTS */
DATA_QUALITY_ID = 1
DATA_QUALITY_DESC = "Data calculated based on original SPICE kernels"
/* TIME DATA ELEMENTS */
SPACECRAFT_CLOCK_START_COUNT = "1/0180443001.07299"
SPACECRAFT_CLOCK_STOP_COUNT = "1/0180443345.36003"
START_TIME = 2009-01-19T11:03:23.564Z
STOP_TIME = 2009-01-19T11:07:04.046Z
/* ORBITAL DATA ELEMENTS */
ASCENDING_NODE_LONGITUDE = 94.2
MAXIMUM_RESOLUTION = 0.0326
FOOTPRINT_POINT_LATITUDE = (-38.8936,-38.9161,-38.9305,-38.9412, -38.9415,-38.8962,-38.3821,-38.1237, -37.7364,-37.2202,-36.7053,-36.1916, -35.9322,-35.5407,-35.2791,-35.0152, -34.7431,-34.4705,-34.2012,-33.9287, -33.515,-33.2384,-32.9629,-32.6803, -32.399,-32.1164,-31.6851,-31.3967, -31.1085,-30.815,-30.3743,-30.0777, -29.778,-29.3284,-29.0215,-28.5623, -28.096,-27.7843,-27.4692,-27.1488, -26.8299,-26.5064,-26.1835,-25.8544, -25.526,-25.1948,-24.6944,-24.524, -24.5087,-24.4924,-24.483,-24.4687, -24.4547,-24.4345,-24.4329,-24.4332, -25.1025,-25.4358,-25.7655,-26.0951, -26.4195,-26.9041,-27.2223,-27.6985, -28.0109,-28.4785,-28.7852,-29.0921, -29.3965,-29.6967,-29.9975,-30.2949, -30.5893,-30.8854,-31.1764,-31.6095, -31.8984,-32.1821,-32.464,-32.7477, -33.026,-33.4405,-33.7152,-33.9895, -34.2596,-34.5299,-34.8009,-35.0696, -35.333,-35.5966,-35.861,-36.1248, -36.5113,-37.0276,-37.4159,-37.8034, -38.3207,-38.7088,-38.8382,-38.8936)
FOOTPRINT_POINT_LONGITUDE = (161.373,160.724,160.19,159.664,159.648 ,159.648,159.651,159.652,159.654, 159.656,159.657,159.657,159.656,159.655 ,159.654,159.653,159.652,159.651,159.65 ,159.648,159.645,159.643,159.641, 159.638,159.635,159.632,159.627,159.624 ,159.62,159.616,159.609,159.605,159.6, 159.592,159.587,159.578,159.569,159.562 ,159.556,159.549,159.541,159.534, 159.526,159.518,159.509,159.501,159.487 ,159.483,159.482,160.04,160.381,160.786 ,161.113,161.545,161.566,161.573, 161.571,161.568,161.566,161.563,161.56, 161.556,161.554,161.549,161.547,161.543 ,161.539,161.536,161.533,161.53,161.527 ,161.524,161.521,161.517,161.514, 161.509,161.506,161.503,161.5,161.496, 161.494,161.489,161.487,161.484,161.481 ,161.477,161.473,161.47,161.466,161.463 ,161.459,161.455,161.45,161.441,161.434 ,161.428,161.419,161.413,161.411, 161.373)
ORBIT_NUMBER = 6483
ORBITAL_ECCENTRICITY = 0.576
ORBITAL_INCLINATION = 86.76
ORBITAL_SEMIMAJOR_AXIS = 8699.32
PERIAPSIS_ALTITUDE = 306.2
PERIAPSIS_ARGUMENT_ANGLE = 298.75
PERIAPSIS_TIME = 2009-01-19T10:58:18.000Z
SPACECRAFT_ORIENTATION = (0.0,1.0,0.0)
^MEX_ORIENTATION_DESC = "MEX_ORIENTATION_DESC.TXT"
SPACECRAFT_POINTING_MODE = ACROSSTRACK
^MEX_POINTING_DESC = "MEX_POINTING_DESC.TXT"
RIGHT_ASCENSION = -1e+32
DECLINATION = -1e+32
OFFSET_ANGLE = -0.8
SPACECRAFT_SOLAR_DISTANCE = 2.14962e+08
TARGET_NAME = MARS
/* CAMERA DATA ELEMENTS */
DETECTOR_TEMPERATURE = 18.5744
FOCAL_PLANE_TEMPERATURE = 7.9716
INST_CMPRS_NAME = "DISCRETE COSINE TRANSFORMATION (DCT)"
INST_CMPRS_RATIO = 10.2092
INST_CMPRS_QUALITY = 0
INST_CMPRS_QUANTZ_TBL_ID = 0
INSTRUMENT_TEMPERATURE = 11.0301
LENS_TEMPERATURE = 8.3794
MACROPIXEL_SIZE = 2
MISSING_FRAMES = 0
PIXEL_SUBSAMPLING_FLAG = N
SIGNAL_CHAIN_ID = 1
/* RADIOMETRIC DATA ELEMENTS */
BANDWIDTH = 178.0
CENTER_FILTER_WAVELENGTH = 679.0
RADIANCE_OFFSET = 3.48698
RADIANCE_SCALING_FACTOR = 0.0212713
REFLECTANCE_SCALING_FACTOR = 0.000520532
MEX:REFLECTANCE_OFFSET = 0.0853301
/* IMAGE OBJECT DEFINITIONS */
OBJECT = IMAGE
  INTERCHANGE_FORMAT = BINARY
  LINES = 34179
  LINE_SAMPLES = 4870
  SAMPLE_TYPE = UNSIGNED_INTEGER
  SAMPLE_BITS = 8
  BANDS = 1
  BAND_STORAGE_TYPE = BAND_SEQUENTIAL
  MAXIMUM = 255
  MEAN = 120.76
  MINIMUM = 1
  STANDARD_DEVIATION = 27.5587
END_OBJECT = IMAGE
/* MAP OBJECT DEFINITIONS */
OBJECT = IMAGE_MAP_PROJECTION
  ^DATA_SET_MAP_PROJECTION_CATALOG= "DSMAP.CAT"
  A_AXIS_RADIUS = 3396.0
  B_AXIS_RADIUS = 3396.0
  C_AXIS_RADIUS = 3396.0
  CENTER_LATITUDE = 0.0
  CENTER_LONGITUDE = 161.0
  COORDINATE_SYSTEM_NAME = PLANETOGRAPHIC
  COORDINATE_SYSTEM_TYPE = "BODY-FIXED ROTATING"
  EASTERNMOST_LONGITUDE = 161.573
  FIRST_STANDARD_PARALLEL = "N/A"
  LINE_FIRST_PIXEL = 1
  LINE_LAST_PIXEL = 34179
  LINE_PROJECTION_OFFSET = -57984.75
  MAP_PROJECTION_ROTATION = 0.0
  MAP_PROJECTION_TYPE = SINUSOIDAL
  MAP_RESOLUTION = 2370.85521546667
  MAP_SCALE = 0.025
  MAXIMUM_LATITUDE = -24.4329
  MINIMUM_LATITUDE = -38.9415
  POSITIVE_LONGITUDE_DIRECTION = EAST
  REFERENCE_LATITUDE = "N/A"
  REFERENCE_LONGITUDE = "N/A"
  SAMPLE_FIRST_PIXEL = 1
  SAMPLE_LAST_PIXEL = 4870
  SAMPLE_PROJECTION_OFFSET = 3485.25
  SECOND_STANDARD_PARALLEL = "N/A"
  WESTERNMOST_LONGITUDE = 159.482
END_OBJECT = IMAGE_MAP_PROJECTION
END
