PDS_VERSION_ID = PDS3
/* FILE DATA ELEMENTS */
RECORD_TYPE = UNDEFINED
/* POINTERS TO DATA OBJECTS */
^IMAGE = ("H6463_0000_P24.TIF")
/* IDENTIFICATION DATA ELEMENTS */
DATA_SET_ID = "MEX-M-HRSC-4-REFDR-MAPPROJECT-EXT2-V4.0"
DATA_SET_NAME = "MARS EXPRESS HRSC MAP PROJECTED REFDR EXTENSION2 V4.0"
DETECTOR_ID = MEX_HRSC_P2
EVENT_TYPE = "MARS-REGIONAL-MAPPING-Te-Im-Fl"
INSTRUMENT_HOST_ID = MEX
INSTRUMENT_HOST_NAME = "MARS EXPRESS"
INSTRUMENT_ID = HRSC
INSTRUMENT_NAME = "HIGH RESOLUTION STEREO CAMERA"
MISSION_NAME = "MARS EXPRESS"
MISSION_PHASE_NAME = ME_Phase_15
PROCESSING_LEVEL_ID = 4
PRODUCT_CREATION_TIME = 2023-02-05T03:41:04.000Z
PRODUCT_ID = "H6463_0000_P24.TIF"
RELEASE_ID = 0006
REVISION_ID = 0000
/* QUALITY DATA ELEMENTS */
DATA_QUALITY_ID = 1
DATA_QUALITY_DESC = "Data calculated based on original SPICE kernels"
/* TIME DATA ELEMENTS */
SPACECRAFT_CLOCK_START_COUNT = "1/0179947746.09059"
SPACECRAFT_CLOCK_STOP_COUNT = "1/0179948072.01198"
START_TIME = 2009-01-13T17:29:18.005Z
STOP_TIME = 2009-01-13T17:33:22.819Z
/* ORBITAL DATA ELEMENTS */
ASCENDING_NODE_LONGITUDE = 94.6
MAXIMUM_RESOLUTION = 0.0514
FOOTPRINT_POINT_LATITUDE = (-48.8093,-48.7978,-48.7769,-48.7603, -48.7597,-48.7233,-48.0011,-47.4186, -46.8362,-46.2574,-45.6719,-45.3735, -45.0739,-44.7733,-44.4718,-44.1709, -43.8703,-43.565,-43.2609,-42.801, -42.491,-42.1818,-41.8718,-41.5622, -41.2524,-40.9433,-40.4796,-40.1705, -39.862,-39.5546,-39.2468,-38.7847, -38.476,-37.9557,-37.5945,-37.2301, -36.8619,-36.4956,-36.13,-35.7649, -35.2176,-34.8536,-34.4902,-34.126, -33.7634,-33.4015,-32.8461,-32.6582, -32.5954,-32.6064,-32.612,-32.6191, -32.6191,-32.6202,-32.993,-33.3638, -33.7267,-34.0903,-34.4557,-34.8202, -35.3675,-35.7317,-36.0973,-36.4634, -36.8298,-37.3811,-37.7486,-38.1164, -38.4568,-38.7653,-39.0742,-39.3846, -39.8421,-40.148,-40.6167,-40.9319, -41.2406,-41.5472,-41.8591,-42.3254, -42.6357,-42.9463,-43.4122,-43.7133, -44.0141,-44.4655,-44.7666,-45.068, -45.3693,-45.8161,-46.1074,-46.3997, -46.6921,-47.1307,-47.423,-47.7144, -48.1519,-48.5894,-48.7306,-48.8093)
FOOTPRINT_POINT_LONGITUDE = (10.9606,10.4948,9.81961,9.36938, 9.35437,9.33021,9.38362,9.42443,9.46305 ,9.5015,9.53416,9.5514,9.56873,9.58498, 9.60018,9.61518,9.62982,9.6414,9.65478, 9.67822,9.69127,9.70423,9.71624,9.72798 ,9.73904,9.75003,9.76549,9.77516, 9.78467,9.79428,9.80316,9.8154,9.8226, 9.83117,9.84197,9.85043,9.85627,9.86241 ,9.86832,9.87375,9.88094,9.88537, 9.88942,9.8925,9.89572,9.89865,9.90168, 9.90141,9.90069,10.3636,10.9539,11.5912 ,11.6072,11.6125,11.6031,11.5943, 11.5853,11.576,11.5657,11.5559,11.5409, 11.5313,11.5209,11.5102,11.4993,11.482, 11.4703,11.4584,11.4474,11.4372,11.4266 ,11.415,11.4025,11.3935,11.3738,11.3589 ,11.3478,11.338,11.3247,11.3055,11.2929 ,11.2799,11.2598,11.2466,11.2333, 11.2129,11.199,11.1847,11.1703,11.1482, 11.1336,11.1182,11.1025,11.0784,11.062, 11.0461,11.0214,10.9961,10.9877, 10.9606)
ORBIT_NUMBER = 6463
ORBITAL_ECCENTRICITY = 0.575
ORBITAL_INCLINATION = 86.76
ORBITAL_SEMIMAJOR_AXIS = 8686.91
PERIAPSIS_ALTITUDE = 305.83
PERIAPSIS_ARGUMENT_ANGLE = 302.16
PERIAPSIS_TIME = 2009-01-13T17:27:21.000Z
SPACECRAFT_ORIENTATION = (0.0,1.0,0.0)
^MEX_ORIENTATION_DESC = "MEX_ORIENTATION_DESC.TXT"
SPACECRAFT_POINTING_MODE = NADIR
^MEX_POINTING_DESC = "MEX_POINTING_DESC.TXT"
RIGHT_ASCENSION = -1e+32
DECLINATION = -1e+32
OFFSET_ANGLE = -1e+32
SPACECRAFT_SOLAR_DISTANCE = 2.15918e+08
TARGET_NAME = MARS
/* CAMERA DATA ELEMENTS */
DETECTOR_TEMPERATURE = 18.3705
FOCAL_PLANE_TEMPERATURE = 8.5833
INST_CMPRS_NAME = "DISCRETE COSINE TRANSFORMATION (DCT)"
INST_CMPRS_RATIO = 7.90847
INST_CMPRS_QUALITY = 0
INST_CMPRS_QUANTZ_TBL_ID = 0
INSTRUMENT_TEMPERATURE = 11.234
LENS_TEMPERATURE = 8.7872
MACROPIXEL_SIZE = 4
MISSING_FRAMES = 0
PIXEL_SUBSAMPLING_FLAG = N
SIGNAL_CHAIN_ID = 3
/* RADIOMETRIC DATA ELEMENTS */
BANDWIDTH = 177.0
CENTER_FILTER_WAVELENGTH = 676.5
RADIANCE_OFFSET = 3.39327
RADIANCE_SCALING_FACTOR = 0.0150495
REFLECTANCE_SCALING_FACTOR = 0.000372013
MEX:REFLECTANCE_OFFSET = 0.0838791
/* IMAGE OBJECT DEFINITIONS */
OBJECT = IMAGE
  INTERCHANGE_FORMAT = BINARY
  LINES = 19172
  LINE_SAMPLES = 1960
  SAMPLE_TYPE = UNSIGNED_INTEGER
  SAMPLE_BITS = 8
  BANDS = 1
  BAND_STORAGE_TYPE = BAND_SEQUENTIAL
  MAXIMUM = 255
  MEAN = 128.375
  MINIMUM = 1
  STANDARD_DEVIATION = 27.1387
END_OBJECT = IMAGE
/* MAP OBJECT DEFINITIONS */
OBJECT = IMAGE_MAP_PROJECTION
  ^DATA_SET_MAP_PROJECTION_CATALOG= "DSMAP.CAT"
  A_AXIS_RADIUS = 3396.0
  B_AXIS_RADIUS = 3396.0
  C_AXIS_RADIUS = 3396.0
  CENTER_LATITUDE = 0.0
  CENTER_LONGITUDE = 11.0
  COORDINATE_SYSTEM_NAME = PLANETOGRAPHIC
  COORDINATE_SYSTEM_TYPE = "BODY-FIXED ROTATING"
  EASTERNMOST_LONGITUDE = 11.6125
  FIRST_STANDARD_PARALLEL = "N/A"
  LINE_FIRST_PIXEL = 1
  LINE_LAST_PIXEL = 19172
  LINE_PROJECTION_OFFSET = -38620.875
  MAP_PROJECTION_ROTATION = 0.0
  MAP_PROJECTION_TYPE = SINUSOIDAL
  MAP_RESOLUTION = 1185.42760773333
  MAP_SCALE = 0.05
  MAXIMUM_LATITUDE = -32.5954
  MINIMUM_LATITUDE = -48.8093
  POSITIVE_LONGITUDE_DIRECTION = EAST
  REFERENCE_LATITUDE = "N/A"
  REFERENCE_LONGITUDE = "N/A"
  SAMPLE_FIRST_PIXEL = 1
  SAMPLE_LAST_PIXEL = 1960
  SAMPLE_PROJECTION_OFFSET = 1316.375
  SECOND_STANDARD_PARALLEL = "N/A"
  WESTERNMOST_LONGITUDE = 9.330209999999999
END_OBJECT = IMAGE_MAP_PROJECTION
END
