PDS_VERSION_ID = PDS3
/* FILE DATA ELEMENTS */
RECORD_TYPE = UNDEFINED
/* POINTERS TO DATA OBJECTS */
^IMAGE = ("H6438_0000_ND4.TIF")
/* IDENTIFICATION DATA ELEMENTS */
DATA_SET_ID = "MEX-M-HRSC-4-REFDR-MAPPROJECT-EXT2-V4.0"
DATA_SET_NAME = "MARS EXPRESS HRSC MAP PROJECTED REFDR EXTENSION2 V4.0"
DETECTOR_ID = MEX_HRSC_NADIR
EVENT_TYPE = "MARS-REGIONAL-MAPPING-Im-Fl"
INSTRUMENT_HOST_ID = MEX
INSTRUMENT_HOST_NAME = "MARS EXPRESS"
INSTRUMENT_ID = HRSC
INSTRUMENT_NAME = "HIGH RESOLUTION STEREO CAMERA"
MISSION_NAME = "MARS EXPRESS"
MISSION_PHASE_NAME = ME_Phase_15
PROCESSING_LEVEL_ID = 4
PRODUCT_CREATION_TIME = 2023-02-05T03:41:04.000Z
PRODUCT_ID = "H6438_0000_ND4.TIF"
RELEASE_ID = 0006
REVISION_ID = 0000
/* QUALITY DATA ELEMENTS */
DATA_QUALITY_ID = 1
DATA_QUALITY_DESC = "Data calculated based on original SPICE kernels"
/* TIME DATA ELEMENTS */
SPACECRAFT_CLOCK_START_COUNT = "1/0179331038.09125"
SPACECRAFT_CLOCK_STOP_COUNT = "1/0179331418.34380"
START_TIME = 2009-01-06T14:11:14.455Z
STOP_TIME = 2009-01-06T14:15:51.441Z
/* ORBITAL DATA ELEMENTS */
ASCENDING_NODE_LONGITUDE = 95.1
MAXIMUM_RESOLUTION = 0.0151
FOOTPRINT_POINT_LATITUDE = (-33.8528,-33.8452,-33.8356,-33.822, -33.8216,-33.8203,-33.372,-32.7755, -32.1807,-31.5877,-30.9962,-30.5447, -30.2423,-29.9404,-29.4788,-29.1702, -28.862,-28.5466,-28.2317,-27.7563, -27.4349,-27.1142,-26.7888,-26.4615, -26.1344,-25.8006,-25.4674,-24.9607, -24.6216,-24.1053,-23.7604,-23.4093, -23.0584,-22.702,-22.3451,-21.9832, -21.6206,-21.2524,-20.6967,-20.3225, -19.9439,-19.5638,-19.178,-18.7934, -18.4098,-18.0273,-17.6461,-17.2661, -17.0765,-17.072,-17.0719,-17.0702, -17.0685,-17.0657,-17.0628,-17.0626, -17.0629,-17.4436,-17.8254,-18.2084, -18.5926,-18.9779,-19.3643,-19.9392, -20.3189,-20.6942,-21.2515,-21.6208, -21.9844,-22.3474,-22.7051,-23.0626, -23.4144,-23.7665,-24.1122,-24.6298, -24.9697,-25.4778,-25.8117,-26.3104, -26.6382,-27.1285,-27.45,-27.7721, -28.2485,-28.5641,-28.8804,-29.1892, -29.4984,-29.961,-30.2636,-30.5666, -31.0191,-31.6118,-32.2062,-32.8022, -33.3998,-33.6992,-33.849,-33.8528)
FOOTPRINT_POINT_LONGITUDE = (356.698,356.205,355.704,355.13,355.113 ,355.085,355.094,355.103,355.112, 355.126,355.133,355.138,355.14,355.143, 355.148,355.148,355.149,355.151,355.152 ,355.151,355.151,355.151,355.15,355.15, 355.148,355.146,355.144,355.141,355.138 ,355.132,355.128,355.124,355.12,355.115 ,355.11,355.105,355.099,355.093,355.083 ,355.075,355.067,355.059,355.051, 355.043,355.031,355.019,355.011,355.0, 354.995,354.994,355.4,356.035,356.371, 356.767,357.098,357.119,357.129,357.122 ,357.115,357.107,357.1,357.092,357.084, 357.073,357.066,357.058,357.046,357.038 ,357.03,357.022,357.015,357.006,356.998 ,356.99,356.982,356.97,356.962,356.949, 356.941,356.928,356.919,356.906,356.898 ,356.889,356.876,356.867,356.858, 356.849,356.84,356.826,356.817,356.808, 356.793,356.774,356.755,356.735,356.714 ,356.703,356.698,356.698)
ORBIT_NUMBER = 6438
ORBITAL_ECCENTRICITY = 0.575
ORBITAL_INCLINATION = 86.76
ORBITAL_SEMIMAJOR_AXIS = 8670.98
PERIAPSIS_ALTITUDE = 305.95
PERIAPSIS_ARGUMENT_ANGLE = 306.48
PERIAPSIS_TIME = 2009-01-06T14:06:15.000Z
SPACECRAFT_ORIENTATION = (0.0,1.0,0.0)
^MEX_ORIENTATION_DESC = "MEX_ORIENTATION_DESC.TXT"
SPACECRAFT_POINTING_MODE = ACROSSTRACK
^MEX_POINTING_DESC = "MEX_POINTING_DESC.TXT"
RIGHT_ASCENSION = -1e+32
DECLINATION = -1e+32
OFFSET_ANGLE = 0.7
SPACECRAFT_SOLAR_DISTANCE = 2.17155e+08
TARGET_NAME = MARS
/* CAMERA DATA ELEMENTS */
DETECTOR_TEMPERATURE = 18.3705
FOCAL_PLANE_TEMPERATURE = 8.5833
INST_CMPRS_NAME = "DISCRETE COSINE TRANSFORMATION (DCT)"
INST_CMPRS_RATIO = 6.99106
INST_CMPRS_QUALITY = 0
INST_CMPRS_QUANTZ_TBL_ID = 0
INSTRUMENT_TEMPERATURE = 11.0301
LENS_TEMPERATURE = 8.7872
MACROPIXEL_SIZE = 1
MISSING_FRAMES = 0
PIXEL_SUBSAMPLING_FLAG = N
SIGNAL_CHAIN_ID = 0
/* RADIOMETRIC DATA ELEMENTS */
BANDWIDTH = 177.0
CENTER_FILTER_WAVELENGTH = 677.5
RADIANCE_OFFSET = 3.84858
RADIANCE_SCALING_FACTOR = 0.0184287
REFLECTANCE_SCALING_FACTOR = 0.000461653
MEX:REFLECTANCE_OFFSET = 0.0964098
/* IMAGE OBJECT DEFINITIONS */
OBJECT = IMAGE
  INTERCHANGE_FORMAT = BINARY
  LINES = 79616
  LINE_SAMPLES = 9675
  SAMPLE_TYPE = UNSIGNED_INTEGER
  SAMPLE_BITS = 8
  BANDS = 1
  BAND_STORAGE_TYPE = BAND_SEQUENTIAL
  MAXIMUM = 255
  MEAN = 128.0
  MINIMUM = 1
  STANDARD_DEVIATION = 31.7301
END_OBJECT = IMAGE
/* MAP OBJECT DEFINITIONS */
OBJECT = IMAGE_MAP_PROJECTION
  ^DATA_SET_MAP_PROJECTION_CATALOG= "DSMAP.CAT"
  A_AXIS_RADIUS = 3396.0
  B_AXIS_RADIUS = 3396.0
  C_AXIS_RADIUS = 3396.0
  CENTER_LATITUDE = 0.0
  CENTER_LONGITUDE = 356.0
  COORDINATE_SYSTEM_NAME = PLANETOGRAPHIC
  COORDINATE_SYSTEM_TYPE = "BODY-FIXED ROTATING"
  EASTERNMOST_LONGITUDE = 357.129
  FIRST_STANDARD_PARALLEL = "N/A"
  LINE_FIRST_PIXEL = 1
  LINE_LAST_PIXEL = 79616
  LINE_PROJECTION_OFFSET = -80906.0
  MAP_PROJECTION_ROTATION = 0.0
  MAP_PROJECTION_TYPE = SINUSOIDAL
  MAP_RESOLUTION = 4741.71043093333
  MAP_SCALE = 0.0125
  MAXIMUM_LATITUDE = -17.0626
  MINIMUM_LATITUDE = -33.8528
  POSITIVE_LONGITUDE_DIRECTION = EAST
  REFERENCE_LATITUDE = "N/A"
  REFERENCE_LONGITUDE = "N/A"
  SAMPLE_FIRST_PIXEL = 1
  SAMPLE_LAST_PIXEL = 9675
  SAMPLE_PROJECTION_OFFSET = 4557.0
  SECOND_STANDARD_PARALLEL = "N/A"
  WESTERNMOST_LONGITUDE = 354.994
END_OBJECT = IMAGE_MAP_PROJECTION
END
