PDS_VERSION_ID = PDS3
/* FILE DATA ELEMENTS */
RECORD_TYPE = UNDEFINED
/* POINTERS TO DATA OBJECTS */
^IMAGE = ("H6437_0000_S14.TIF")
/* IDENTIFICATION DATA ELEMENTS */
DATA_SET_ID = "MEX-M-HRSC-4-REFDR-MAPPROJECT-EXT2-V4.0"
DATA_SET_NAME = "MARS EXPRESS HRSC MAP PROJECTED REFDR EXTENSION2 V4.0"
DETECTOR_ID = MEX_HRSC_S1
EVENT_TYPE = "MARS-REGIONAL-MAPPING-Vo-Fl"
INSTRUMENT_HOST_ID = MEX
INSTRUMENT_HOST_NAME = "MARS EXPRESS"
INSTRUMENT_ID = HRSC
INSTRUMENT_NAME = "HIGH RESOLUTION STEREO CAMERA"
MISSION_NAME = "MARS EXPRESS"
MISSION_PHASE_NAME = ME_Phase_15
PROCESSING_LEVEL_ID = 4
PRODUCT_CREATION_TIME = 2023-02-05T03:41:04.000Z
PRODUCT_ID = "H6437_0000_S14.TIF"
RELEASE_ID = 0006
REVISION_ID = 0000
/* QUALITY DATA ELEMENTS */
DATA_QUALITY_ID = 1
DATA_QUALITY_DESC = "Data calculated based on original SPICE kernels"
/* TIME DATA ELEMENTS */
SPACECRAFT_CLOCK_START_COUNT = "1/0179306262.09036"
SPACECRAFT_CLOCK_STOP_COUNT = "1/0179306612.56026"
START_TIME = 2009-01-06T07:18:43.482Z
STOP_TIME = 2009-01-06T07:23:33.315Z
/* ORBITAL DATA ELEMENTS */
ASCENDING_NODE_LONGITUDE = 95.11
MAXIMUM_RESOLUTION = 0.0288
FOOTPRINT_POINT_LATITUDE = (-42.0764,-42.0611,-42.0476,-42.0337, -42.0333,-42.099,-41.7338,-41.3704, -40.8256,-40.4597,-40.0973,-39.737, -39.371,-39.0052,-38.4829,-37.9452, -37.5872,-37.0547,-36.7006,-36.3482, -35.8239,-35.4703,-34.9475,-34.5994, -34.2522,-33.7331,-33.3881,-33.0461, -32.7039,-32.3631,-32.0246,-31.68, -31.3412,-30.8342,-30.497,-30.16, -29.8254,-29.4911,-29.1586,-28.8289, -28.3344,-28.006,-27.6787,-27.1884, -26.8639,-26.3785,-26.0501,-25.7268, -25.0875,-24.9316,-24.9294,-24.9253, -24.921,-24.9082,-24.9319,-24.932, -24.9324,-25.5744,-26.059,-26.3827, -26.8701,-27.1958,-27.5195,-27.8504, -28.3434,-28.8409,-29.1718,-29.5048, -30.0006,-30.5148,-31.0215,-31.5297, -31.8696,-32.2108,-32.5531,-33.0692, -33.4138,-33.7591,-34.1062,-34.4544, -34.9774,-35.3264,-35.6773,-36.0294, -36.3811,-36.7332,-37.085,-37.6076, -38.1381,-38.4903,-38.8639,-39.2245, -39.5902,-40.1317,-40.4939,-40.8578, -41.4067,-41.9527,-42.1351,-42.0764)
FOOTPRINT_POINT_LONGITUDE = (97.7184,97.1144,96.6346,96.1868, 96.1719,96.1465,96.1593,96.1712,96.1882 ,96.1991,96.2094,96.2179,96.2287, 96.2392,96.2466,96.2579,96.265,96.274, 96.2795,96.2842,96.2898,96.2945,96.299, 96.3018,96.3041,96.3069,96.3083,96.3088 ,96.3092,96.3092,96.3085,96.3093, 96.3085,96.3069,96.3055,96.3041,96.3019 ,96.2996,96.2969,96.2933,96.288,96.2841 ,96.2799,96.2735,96.2686,96.2609, 96.2571,96.252,96.24,96.2359,96.2359, 96.8378,97.3635,97.7362,98.1587,98.1777 ,98.1845,98.1729,98.1642,98.158,98.1485 ,98.1418,98.1338,98.1284,98.1178,98.108 ,98.1004,98.0933,98.0798,98.0734, 98.0625,98.0509,98.043,98.0352,98.0273, 98.0156,98.0073,97.9988,97.9906,97.9823 ,97.9692,97.9599,97.9508,97.9418,97.932 ,97.9217,97.9108,97.8906,97.873,97.8596 ,97.8565,97.8463,97.8379,97.8189, 97.8073,97.7959,97.7773,97.7575,97.7508 ,97.7184)
ORBIT_NUMBER = 6437
ORBITAL_ECCENTRICITY = 0.575
ORBITAL_INCLINATION = 86.76
ORBITAL_SEMIMAJOR_AXIS = 8674.31
PERIAPSIS_ALTITUDE = 305.03
PERIAPSIS_ARGUMENT_ANGLE = 306.65
PERIAPSIS_TIME = 2009-01-06T07:15:25.000Z
SPACECRAFT_ORIENTATION = (0.0,1.0,0.0)
^MEX_ORIENTATION_DESC = "MEX_ORIENTATION_DESC.TXT"
SPACECRAFT_POINTING_MODE = ACROSSTRACK
^MEX_POINTING_DESC = "MEX_POINTING_DESC.TXT"
RIGHT_ASCENSION = -1e+32
DECLINATION = -1e+32
OFFSET_ANGLE = -0.2
SPACECRAFT_SOLAR_DISTANCE = 2.17205e+08
TARGET_NAME = MARS
/* CAMERA DATA ELEMENTS */
DETECTOR_TEMPERATURE = 16.3315
FOCAL_PLANE_TEMPERATURE = 8.1755
INST_CMPRS_NAME = "DISCRETE COSINE TRANSFORMATION (DCT)"
INST_CMPRS_RATIO = 9.48543
INST_CMPRS_QUALITY = 0
INST_CMPRS_QUANTZ_TBL_ID = 0
INSTRUMENT_TEMPERATURE = 10.6223
LENS_TEMPERATURE = 8.3794
MACROPIXEL_SIZE = 2
PIXEL_SUBSAMPLING_FLAG = N
SIGNAL_CHAIN_ID = 1
/* RADIOMETRIC DATA ELEMENTS */
BANDWIDTH = 180.0
CENTER_FILTER_WAVELENGTH = 677.0
RADIANCE_OFFSET = 4.40299
RADIANCE_SCALING_FACTOR = 0.0209292
REFLECTANCE_SCALING_FACTOR = 0.00051515
MEX:REFLECTANCE_OFFSET = 0.108375
/* IMAGE OBJECT DEFINITIONS */
OBJECT = IMAGE
  INTERCHANGE_FORMAT = BINARY
  LINES = 40738
  LINE_SAMPLES = 3836
  SAMPLE_TYPE = UNSIGNED_INTEGER
  SAMPLE_BITS = 8
  BANDS = 1
  BAND_STORAGE_TYPE = BAND_SEQUENTIAL
  MAXIMUM = 255
  MEAN = 87.8742
  MINIMUM = 1
  STANDARD_DEVIATION = 21.3971
END_OBJECT = IMAGE
/* MAP OBJECT DEFINITIONS */
OBJECT = IMAGE_MAP_PROJECTION
  ^DATA_SET_MAP_PROJECTION_CATALOG= "DSMAP.CAT"
  A_AXIS_RADIUS = 3396.0
  B_AXIS_RADIUS = 3396.0
  C_AXIS_RADIUS = 3396.0
  CENTER_LATITUDE = 0.0
  CENTER_LONGITUDE = 97.0
  COORDINATE_SYSTEM_NAME = PLANETOGRAPHIC
  COORDINATE_SYSTEM_TYPE = "BODY-FIXED ROTATING"
  EASTERNMOST_LONGITUDE = 98.1845
  FIRST_STANDARD_PARALLEL = "N/A"
  LINE_FIRST_PIXEL = 1
  LINE_LAST_PIXEL = 40738
  LINE_PROJECTION_OFFSET = -59157.75
  MAP_PROJECTION_ROTATION = 0.0
  MAP_PROJECTION_TYPE = SINUSOIDAL
  MAP_RESOLUTION = 2370.85521546667
  MAP_SCALE = 0.025
  MAXIMUM_LATITUDE = -24.9082
  MINIMUM_LATITUDE = -42.1351
  POSITIVE_LONGITUDE_DIRECTION = EAST
  REFERENCE_LATITUDE = "N/A"
  REFERENCE_LONGITUDE = "N/A"
  SAMPLE_FIRST_PIXEL = 1
  SAMPLE_LAST_PIXEL = 3836
  SAMPLE_PROJECTION_OFFSET = 1488.25
  SECOND_STANDARD_PARALLEL = "N/A"
  WESTERNMOST_LONGITUDE = 96.1465
END_OBJECT = IMAGE_MAP_PROJECTION
END
