PDS_VERSION_ID = PDS3
/* FILE DATA ELEMENTS */
RECORD_TYPE = UNDEFINED
/* POINTERS TO DATA OBJECTS */
^IMAGE = ("H6437_0000_IR4.TIF")
/* IDENTIFICATION DATA ELEMENTS */
DATA_SET_ID = "MEX-M-HRSC-4-REFDR-MAPPROJECT-EXT2-V4.0"
DATA_SET_NAME = "MARS EXPRESS HRSC MAP PROJECTED REFDR EXTENSION2 V4.0"
DETECTOR_ID = MEX_HRSC_IR
EVENT_TYPE = "MARS-REGIONAL-MAPPING-Vo-Fl"
INSTRUMENT_HOST_ID = MEX
INSTRUMENT_HOST_NAME = "MARS EXPRESS"
INSTRUMENT_ID = HRSC
INSTRUMENT_NAME = "HIGH RESOLUTION STEREO CAMERA"
MISSION_NAME = "MARS EXPRESS"
MISSION_PHASE_NAME = ME_Phase_15
PROCESSING_LEVEL_ID = 4
PRODUCT_CREATION_TIME = 2023-02-05T03:41:04.000Z
PRODUCT_ID = "H6437_0000_IR4.TIF"
RELEASE_ID = 0006
REVISION_ID = 0000
/* QUALITY DATA ELEMENTS */
DATA_QUALITY_ID = 1
DATA_QUALITY_DESC = "Data calculated based on original SPICE kernels"
/* TIME DATA ELEMENTS */
SPACECRAFT_CLOCK_START_COUNT = "1/0179306262.09036"
SPACECRAFT_CLOCK_STOP_COUNT = "1/0179306612.56026"
START_TIME = 2009-01-06T07:18:38.249Z
STOP_TIME = 2009-01-06T07:23:24.205Z
/* ORBITAL DATA ELEMENTS */
ASCENDING_NODE_LONGITUDE = 95.11
MAXIMUM_RESOLUTION = 0.0563
FOOTPRINT_POINT_LATITUDE = (-42.0815,-42.063,-42.0412,-42.0408, -42.0945,-41.7424,-41.3815,-41.0194, -40.6594,-40.2993,-39.94,-39.3994, -39.0387,-38.6916,-38.3375,-37.8024, -37.4439,-37.0933,-36.7404,-36.389, -35.8657,-35.5136,-35.1659,-34.6441, -34.2975,-33.7789,-33.4343,-33.0919, -32.5788,-32.2397,-31.898,-31.3874, -30.88,-30.5424,-30.2052,-29.87, -29.5353,-29.202,-28.8712,-28.3751, -28.0456,-27.717,-27.3884,-27.0619, -26.736,-26.4113,-26.0842,-25.5938, -25.1151,-24.9554,-24.9354,-24.9272, -24.921,-24.9375,-24.9376,-24.9383, -25.7462,-26.2328,-26.5578,-27.0482, -27.3748,-27.7006,-28.0375,-28.5306, -28.8612,-29.1936,-29.5275,-30.0249, -30.538,-30.8759,-31.2146,-31.5537, -31.8937,-32.2349,-32.5772,-33.0928, -33.437,-33.7823,-34.1287,-34.4762, -34.8237,-35.172,-35.521,-35.8716, -36.2227,-36.5734,-37.0996,-37.6225, -38.153,-38.5029,-38.8723,-39.4127, -39.7753,-40.1299,-40.6709,-41.0322, -41.3937,-41.9323,-42.1075,-42.0815)
FOOTPRINT_POINT_LONGITUDE = (97.7109,96.9481,96.1922,96.178,96.1545 ,96.167,96.1789,96.1908,96.2017,96.2123 ,96.2223,96.2373,96.2471,96.2519, 96.2589,96.2704,96.2784,96.2834,96.2891 ,96.2941,96.3,96.3048,96.3081,96.3128, 96.3153,96.3186,96.3202,96.3211,96.3221 ,96.3217,96.3221,96.322,96.3208,96.3197 ,96.3185,96.3167,96.3146,96.3121, 96.3089,96.304,96.3004,96.2965,96.2927, 96.2883,96.2837,96.2787,96.2746,96.2685 ,96.2589,96.2557,96.2546,97.106,97.6541 ,98.1412,98.1591,98.165,98.1517,98.1429 ,98.1367,98.1278,98.1209,98.1131, 98.1105,98.0991,98.0917,98.0846,98.0778 ,98.0647,98.0587,98.0517,98.0445, 98.0369,98.0293,98.0217,98.0141,98.0028 ,97.9947,97.9866,97.9786,97.9705, 97.9619,97.953,97.944,97.9353,97.9262, 97.9162,97.9002,97.8806,97.8642,97.8501 ,97.8473,97.8335,97.8248,97.8107, 97.7938,97.7821,97.7699,97.7506,97.7442 ,97.7109)
ORBIT_NUMBER = 6437
ORBITAL_ECCENTRICITY = 0.575
ORBITAL_INCLINATION = 86.76
ORBITAL_SEMIMAJOR_AXIS = 8674.31
PERIAPSIS_ALTITUDE = 305.03
PERIAPSIS_ARGUMENT_ANGLE = 306.65
PERIAPSIS_TIME = 2009-01-06T07:15:25.000Z
SPACECRAFT_ORIENTATION = (0.0,1.0,0.0)
^MEX_ORIENTATION_DESC = "MEX_ORIENTATION_DESC.TXT"
SPACECRAFT_POINTING_MODE = ACROSSTRACK
^MEX_POINTING_DESC = "MEX_POINTING_DESC.TXT"
RIGHT_ASCENSION = -1e+32
DECLINATION = -1e+32
OFFSET_ANGLE = -0.2
SPACECRAFT_SOLAR_DISTANCE = 2.17205e+08
TARGET_NAME = MARS
/* CAMERA DATA ELEMENTS */
DETECTOR_TEMPERATURE = 16.3315
FOCAL_PLANE_TEMPERATURE = 8.1755
INST_CMPRS_NAME = "DISCRETE COSINE TRANSFORMATION (DCT)"
INST_CMPRS_RATIO = 16.4999
INST_CMPRS_QUALITY = 0
INST_CMPRS_QUANTZ_TBL_ID = 0
INSTRUMENT_TEMPERATURE = 10.6223
LENS_TEMPERATURE = 8.3794
MACROPIXEL_SIZE = 4
MISSING_FRAMES = 0
PIXEL_SUBSAMPLING_FLAG = N
SIGNAL_CHAIN_ID = 2
/* RADIOMETRIC DATA ELEMENTS */
BANDWIDTH = 81.0
CENTER_FILTER_WAVELENGTH = 955.5
RADIANCE_OFFSET = 0.851323
RADIANCE_SCALING_FACTOR = 0.00591197
REFLECTANCE_SCALING_FACTOR = 0.000601727
MEX:REFLECTANCE_OFFSET = 0.0866486
/* IMAGE OBJECT DEFINITIONS */
OBJECT = IMAGE
  INTERCHANGE_FORMAT = BINARY
  LINES = 20369
  LINE_SAMPLES = 1918
  SAMPLE_TYPE = UNSIGNED_INTEGER
  SAMPLE_BITS = 8
  BANDS = 1
  BAND_STORAGE_TYPE = BAND_SEQUENTIAL
  MAXIMUM = 255
  MEAN = 77.0226
  MINIMUM = 1
  STANDARD_DEVIATION = 23.437
END_OBJECT = IMAGE
/* MAP OBJECT DEFINITIONS */
OBJECT = IMAGE_MAP_PROJECTION
  ^DATA_SET_MAP_PROJECTION_CATALOG= "DSMAP.CAT"
  A_AXIS_RADIUS = 3396.0
  B_AXIS_RADIUS = 3396.0
  C_AXIS_RADIUS = 3396.0
  CENTER_LATITUDE = 0.0
  CENTER_LONGITUDE = 97.0
  COORDINATE_SYSTEM_NAME = PLANETOGRAPHIC
  COORDINATE_SYSTEM_TYPE = "BODY-FIXED ROTATING"
  EASTERNMOST_LONGITUDE = 98.16500000000001
  FIRST_STANDARD_PARALLEL = "N/A"
  LINE_FIRST_PIXEL = 1
  LINE_LAST_PIXEL = 20369
  LINE_PROJECTION_OFFSET = -29579.125
  MAP_PROJECTION_ROTATION = 0.0
  MAP_PROJECTION_TYPE = SINUSOIDAL
  MAP_RESOLUTION = 1185.42760773333
  MAP_SCALE = 0.05
  MAXIMUM_LATITUDE = -24.921
  MINIMUM_LATITUDE = -42.1075
  POSITIVE_LONGITUDE_DIRECTION = EAST
  REFERENCE_LATITUDE = "N/A"
  REFERENCE_LONGITUDE = "N/A"
  SAMPLE_FIRST_PIXEL = 1
  SAMPLE_LAST_PIXEL = 1918
  SAMPLE_PROJECTION_OFFSET = 743.875
  SECOND_STANDARD_PARALLEL = "N/A"
  WESTERNMOST_LONGITUDE = 96.1545
END_OBJECT = IMAGE_MAP_PROJECTION
END
