PDS_VERSION_ID = PDS3
/* FILE DATA ELEMENTS */
RECORD_TYPE = UNDEFINED
/* POINTERS TO DATA OBJECTS */
^IMAGE = ("H6424_0000_P24.TIF")
/* IDENTIFICATION DATA ELEMENTS */
DATA_SET_ID = "MEX-M-HRSC-4-REFDR-MAPPROJECT-EXT2-V4.0"
DATA_SET_NAME = "MARS EXPRESS HRSC MAP PROJECTED REFDR EXTENSION2 V4.0"
DETECTOR_ID = MEX_HRSC_P2
EVENT_TYPE = "MARS-REGIONAL-MAPPING-Te-Im-Fl"
INSTRUMENT_HOST_ID = MEX
INSTRUMENT_HOST_NAME = "MARS EXPRESS"
INSTRUMENT_ID = HRSC
INSTRUMENT_NAME = "HIGH RESOLUTION STEREO CAMERA"
MISSION_NAME = "MARS EXPRESS"
MISSION_PHASE_NAME = ME_Phase_15
PROCESSING_LEVEL_ID = 4
PRODUCT_CREATION_TIME = 2023-02-05T03:41:04.000Z
PRODUCT_ID = "H6424_0000_P24.TIF"
RELEASE_ID = 0006
REVISION_ID = 0000
/* QUALITY DATA ELEMENTS */
DATA_QUALITY_ID = 1
DATA_QUALITY_DESC = "Data calculated based on original SPICE kernels"
/* TIME DATA ELEMENTS */
SPACECRAFT_CLOCK_START_COUNT = "1/0178985795.08397"
SPACECRAFT_CLOCK_STOP_COUNT = "1/0178986129.41835"
START_TIME = 2009-01-02T14:16:47.682Z
STOP_TIME = 2009-01-02T14:20:52.174Z
/* ORBITAL DATA ELEMENTS */
ASCENDING_NODE_LONGITUDE = 95.37
MAXIMUM_RESOLUTION = 0.0271
FOOTPRINT_POINT_LATITUDE = (-39.1417,-39.1072,-39.0689,-39.0182, -39.0168,-38.9746,-38.5549,-37.9918, -37.7031,-37.1414,-36.8493,-36.2865, -35.8579,-35.4285,-35.0012,-34.7164, -34.4312,-34.1464,-33.858,-33.5771, -33.2921,-33.0082,-32.5365,-32.1977, -31.6903,-31.352,-31.0142,-30.6767, -30.34,-30.0031,-29.4981,-29.162, -28.826,-28.4905,-28.1552,-27.8205, -27.4859,-27.1435,-26.801,-26.4588, -25.9356,-25.5875,-25.0575,-24.6993, -24.3415,-23.794,-23.2438,-23.0567, -23.0373,-23.0629,-23.0932,-23.1288, -23.1295,-23.1304,-23.5022,-23.8689, -24.236,-24.5971,-24.9558,-25.4917, -26.0188,-26.3706,-26.7143,-27.229, -27.5721,-27.9072,-28.4105,-28.7466, -29.083,-29.42,-29.7569,-30.0938, -30.4317,-30.7696,-31.108,-31.4467, -31.7834,-32.2928,-32.6341,-32.9664, -33.2509,-33.5352,-33.8163,-34.1062, -34.534,-34.9582,-35.2421,-35.5293, -35.8153,-36.1004,-36.3864,-36.6737, -37.1037,-37.3885,-37.6727,-37.9573, -38.2435,-38.9509,-39.0892,-39.1417)
FOOTPRINT_POINT_LONGITUDE = (317.769,317.315,316.844,316.263, 316.247,316.173,316.196,316.243,316.254 ,316.3,316.304,316.344,316.363,316.379, 316.397,316.409,316.419,316.43,316.434, 316.45,316.458,316.468,316.481,316.491, 316.505,316.514,316.522,316.53,316.539, 316.546,316.556,316.562,316.568,316.574 ,316.579,316.584,316.588,316.592, 316.597,316.6,316.604,316.61,316.613, 316.615,316.616,316.616,316.615,316.614 ,316.614,317.05,317.594,318.336,318.353 ,318.358,318.349,318.34,318.331,318.321 ,318.311,318.297,318.282,318.272, 318.262,318.246,318.235,318.225,318.209 ,318.198,318.187,318.175,318.164, 318.152,318.14,318.128,318.116,318.103, 318.09,318.07,318.058,318.045,318.033, 318.021,318.007,317.998,317.979,317.958 ,317.944,317.932,317.918,317.904, 317.891,317.877,317.856,317.841,317.825 ,317.809,317.793,317.752,317.744, 317.769)
ORBIT_NUMBER = 6424
ORBITAL_ECCENTRICITY = 0.575
ORBITAL_INCLINATION = 86.77
ORBITAL_SEMIMAJOR_AXIS = 8673.22
PERIAPSIS_ALTITUDE = 306.11
PERIAPSIS_ARGUMENT_ANGLE = 308.92
PERIAPSIS_TIME = 2009-01-02T14:14:07.000Z
SPACECRAFT_ORIENTATION = (0.0,1.0,0.0)
^MEX_ORIENTATION_DESC = "MEX_ORIENTATION_DESC.TXT"
SPACECRAFT_POINTING_MODE = ACROSSTRACK
^MEX_POINTING_DESC = "MEX_POINTING_DESC.TXT"
RIGHT_ASCENSION = -1e+32
DECLINATION = -1e+32
OFFSET_ANGLE = 1.3
SPACECRAFT_SOLAR_DISTANCE = 2.17866e+08
TARGET_NAME = MARS
/* CAMERA DATA ELEMENTS */
DETECTOR_TEMPERATURE = 18.3705
FOCAL_PLANE_TEMPERATURE = 8.3794
INST_CMPRS_NAME = "DISCRETE COSINE TRANSFORMATION (DCT)"
INST_CMPRS_RATIO = 7.58456
INST_CMPRS_QUALITY = 0
INST_CMPRS_QUANTZ_TBL_ID = 0
INSTRUMENT_TEMPERATURE = 10.8262
LENS_TEMPERATURE = 8.5833
MACROPIXEL_SIZE = 2
MISSING_FRAMES = 0
PIXEL_SUBSAMPLING_FLAG = N
SIGNAL_CHAIN_ID = 3
/* RADIOMETRIC DATA ELEMENTS */
BANDWIDTH = 177.0
CENTER_FILTER_WAVELENGTH = 676.5
RADIANCE_OFFSET = 3.40745
RADIANCE_SCALING_FACTOR = 0.0115809
REFLECTANCE_SCALING_FACTOR = 0.000291457
MEX:REFLECTANCE_OFFSET = 0.0857556
/* IMAGE OBJECT DEFINITIONS */
OBJECT = IMAGE
  INTERCHANGE_FORMAT = BINARY
  LINES = 37931
  LINE_SAMPLES = 4588
  SAMPLE_TYPE = UNSIGNED_INTEGER
  SAMPLE_BITS = 8
  BANDS = 1
  BAND_STORAGE_TYPE = BAND_SEQUENTIAL
  MAXIMUM = 255
  MEAN = 118.288
  MINIMUM = 1
  STANDARD_DEVIATION = 27.1803
END_OBJECT = IMAGE
/* MAP OBJECT DEFINITIONS */
OBJECT = IMAGE_MAP_PROJECTION
  ^DATA_SET_MAP_PROJECTION_CATALOG= "DSMAP.CAT"
  A_AXIS_RADIUS = 3396.0
  B_AXIS_RADIUS = 3396.0
  C_AXIS_RADIUS = 3396.0
  CENTER_LATITUDE = 0.0
  CENTER_LONGITUDE = 317.0
  COORDINATE_SYSTEM_NAME = PLANETOGRAPHIC
  COORDINATE_SYSTEM_TYPE = "BODY-FIXED ROTATING"
  EASTERNMOST_LONGITUDE = 318.358
  FIRST_STANDARD_PARALLEL = "N/A"
  LINE_FIRST_PIXEL = 1
  LINE_LAST_PIXEL = 37931
  LINE_PROJECTION_OFFSET = -54685.25
  MAP_PROJECTION_ROTATION = 0.0
  MAP_PROJECTION_TYPE = SINUSOIDAL
  MAP_RESOLUTION = 2370.85521546667
  MAP_SCALE = 0.025
  MAXIMUM_LATITUDE = -23.0373
  MINIMUM_LATITUDE = -39.1417
  POSITIVE_LONGITUDE_DIRECTION = EAST
  REFERENCE_LATITUDE = "N/A"
  REFERENCE_LONGITUDE = "N/A"
  SAMPLE_FIRST_PIXEL = 1
  SAMPLE_LAST_PIXEL = 4588
  SAMPLE_PROJECTION_OFFSET = 1540.75
  SECOND_STANDARD_PARALLEL = "N/A"
  WESTERNMOST_LONGITUDE = 316.173
END_OBJECT = IMAGE_MAP_PROJECTION
END
