PDS_VERSION_ID = PDS3
/* FILE DATA ELEMENTS */
RECORD_TYPE = UNDEFINED
/* POINTERS TO DATA OBJECTS */
^IMAGE = ("H6418_0000_ND4.TIF")
/* IDENTIFICATION DATA ELEMENTS */
DATA_SET_ID = "MEX-M-HRSC-4-REFDR-MAPPROJECT-EXT2-V4.0"
DATA_SET_NAME = "MARS EXPRESS HRSC MAP PROJECTED REFDR EXTENSION2 V4.0"
DETECTOR_ID = MEX_HRSC_NADIR
EVENT_TYPE = "MARS-REGIONAL-MAPPING-Te-Im"
INSTRUMENT_HOST_ID = MEX
INSTRUMENT_HOST_NAME = "MARS EXPRESS"
INSTRUMENT_ID = HRSC
INSTRUMENT_NAME = "HIGH RESOLUTION STEREO CAMERA"
MISSION_NAME = "MARS EXPRESS"
MISSION_PHASE_NAME = ME_Phase_15
PROCESSING_LEVEL_ID = 4
PRODUCT_CREATION_TIME = 2023-02-05T03:41:04.000Z
PRODUCT_ID = "H6418_0000_ND4.TIF"
RELEASE_ID = 0006
REVISION_ID = 0000
/* QUALITY DATA ELEMENTS */
DATA_QUALITY_ID = 1
DATA_QUALITY_DESC = "Data calculated based on original SPICE kernels"
/* TIME DATA ELEMENTS */
SPACECRAFT_CLOCK_START_COUNT = "1/0178838126.09053"
SPACECRAFT_CLOCK_STOP_COUNT = "1/0178838547.33923"
START_TIME = 2008-12-31T21:16:11.204Z
STOP_TIME = 2008-12-31T21:20:55.233Z
/* ORBITAL DATA ELEMENTS */
ASCENDING_NODE_LONGITUDE = 95.49
MAXIMUM_RESOLUTION = 0.0185
FOOTPRINT_POINT_LATITUDE = (-21.9153,-21.9181,-21.9189,-21.9177, -21.9176,-21.9171,-21.2348,-20.682, -20.1222,-19.4114,-18.6891,-18.249, -17.9551,-17.6568,-17.3581,-16.9048, -16.6016,-16.2937,-15.986,-15.6738, -15.3615,-15.0447,-14.5671,-14.2456, -13.9213,-13.5955,-13.2657,-12.7675, -12.2636,-11.9248,-11.5822,-11.2378, -10.8904,-10.5396,-10.1867,-9.83103, -9.47116,-9.10895,-8.74409,-8.3762, -8.00395,-7.62889,-7.25095,-6.86986, -6.48532,-5.90133,-5.70567,-5.70487, -5.69789,-5.68925,-5.68165,-5.6742, -5.66353,-5.65663,-5.65609,-5.65623, -6.04942,-6.43888,-6.82489,-7.20735, -7.58662,-7.96297,-8.33651,-8.70583, -9.072,-9.43541,-9.79652,-10.1533, -10.5073,-10.8593,-11.2078,-11.5533, -11.8969,-12.2367,-12.7422,-13.2418, -13.5726,-13.8993,-14.2245,-14.5469, -15.0258,-15.3434,-15.6565,-15.9696, -16.2782,-16.5869,-16.8907,-17.3453, -17.6447,-17.9437,-18.2383,-18.6794, -18.9694,-19.4035,-20.1158,-20.6769, -21.2308,-21.7793,-21.9146,-21.9153)
FOOTPRINT_POINT_LONGITUDE = (200.691,200.127,199.547,198.982, 198.965,198.953,198.94,198.929,198.915, 198.9,198.882,198.871,198.863,198.855, 198.847,198.834,198.825,198.815,198.806 ,198.797,198.787,198.777,198.76,198.75, 198.737,198.725,198.713,198.694,198.676 ,198.662,198.648,198.634,198.618, 198.604,198.589,198.573,198.557,198.54, 198.524,198.507,198.487,198.47,198.451, 198.432,198.412,198.382,198.371,198.371 ,198.774,199.252,199.653,200.03,200.557 ,200.884,200.909,200.921,200.916,200.91 ,200.904,200.9,200.895,200.891,200.886, 200.879,200.873,200.868,200.863,200.858 ,200.854,200.849,200.844,200.84,200.835 ,200.831,200.824,200.817,200.812, 200.808,200.803,200.799,200.793,200.79, 200.786,200.78,200.776,200.772,200.768, 200.761,200.757,200.753,200.748,200.742 ,200.737,200.732,200.725,200.713, 200.706,200.699,200.697,200.691)
ORBIT_NUMBER = 6418
ORBITAL_ECCENTRICITY = 0.575
ORBITAL_INCLINATION = 86.77
ORBITAL_SEMIMAJOR_AXIS = 8675.12
PERIAPSIS_ALTITUDE = 305.97
PERIAPSIS_ARGUMENT_ANGLE = 309.94
PERIAPSIS_TIME = 2008-12-31T21:08:56.000Z
SPACECRAFT_ORIENTATION = (0.0,1.0,0.0)
^MEX_ORIENTATION_DESC = "MEX_ORIENTATION_DESC.TXT"
SPACECRAFT_POINTING_MODE = NADIR
^MEX_POINTING_DESC = "MEX_POINTING_DESC.TXT"
RIGHT_ASCENSION = -1e+32
DECLINATION = -1e+32
OFFSET_ANGLE = -1e+32
SPACECRAFT_SOLAR_DISTANCE = 2.18174e+08
TARGET_NAME = MARS
/* CAMERA DATA ELEMENTS */
DETECTOR_TEMPERATURE = 18.9822
FOCAL_PLANE_TEMPERATURE = 8.1755
INST_CMPRS_NAME = "DISCRETE COSINE TRANSFORMATION (DCT)"
INST_CMPRS_RATIO = 6.16232
INST_CMPRS_QUALITY = 0
INST_CMPRS_QUANTZ_TBL_ID = 0
INSTRUMENT_TEMPERATURE = 9.3989
LENS_TEMPERATURE = 8.3794
MACROPIXEL_SIZE = 1
MISSING_FRAMES = 0
PIXEL_SUBSAMPLING_FLAG = N
SIGNAL_CHAIN_ID = 0
/* RADIOMETRIC DATA ELEMENTS */
BANDWIDTH = 177.0
CENTER_FILTER_WAVELENGTH = 677.5
RADIANCE_OFFSET = 3.9797
RADIANCE_SCALING_FACTOR = 0.0296172
REFLECTANCE_SCALING_FACTOR = 0.000748913
MEX:REFLECTANCE_OFFSET = 0.100632
/* IMAGE OBJECT DEFINITIONS */
OBJECT = IMAGE
  INTERCHANGE_FORMAT = BINARY
  LINES = 77114
  LINE_SAMPLES = 12035
  SAMPLE_TYPE = UNSIGNED_INTEGER
  SAMPLE_BITS = 8
  BANDS = 1
  BAND_STORAGE_TYPE = BAND_SEQUENTIAL
  MAXIMUM = 255
  MEAN = 156.107
  MINIMUM = 1
  STANDARD_DEVIATION = 21.8047
END_OBJECT = IMAGE
/* MAP OBJECT DEFINITIONS */
OBJECT = IMAGE_MAP_PROJECTION
  ^DATA_SET_MAP_PROJECTION_CATALOG= "DSMAP.CAT"
  A_AXIS_RADIUS = 3396.0
  B_AXIS_RADIUS = 3396.0
  C_AXIS_RADIUS = 3396.0
  CENTER_LATITUDE = 0.0
  CENTER_LONGITUDE = 200.0
  COORDINATE_SYSTEM_NAME = PLANETOGRAPHIC
  COORDINATE_SYSTEM_TYPE = "BODY-FIXED ROTATING"
  EASTERNMOST_LONGITUDE = 200.921
  FIRST_STANDARD_PARALLEL = "N/A"
  LINE_FIRST_PIXEL = 1
  LINE_LAST_PIXEL = 77114
  LINE_PROJECTION_OFFSET = -26817.0
  MAP_PROJECTION_ROTATION = 0.0
  MAP_PROJECTION_TYPE = SINUSOIDAL
  MAP_RESOLUTION = 4741.71043093333
  MAP_SCALE = 0.0125
  MAXIMUM_LATITUDE = -5.65609
  MINIMUM_LATITUDE = -21.9189
  POSITIVE_LONGITUDE_DIRECTION = EAST
  REFERENCE_LATITUDE = "N/A"
  REFERENCE_LONGITUDE = "N/A"
  SAMPLE_FIRST_PIXEL = 1
  SAMPLE_LAST_PIXEL = 12035
  SAMPLE_PROJECTION_OFFSET = 7693.0
  SECOND_STANDARD_PARALLEL = "N/A"
  WESTERNMOST_LONGITUDE = 198.371
END_OBJECT = IMAGE_MAP_PROJECTION
END
